BEGIN:VCALENDAR
VERSION:2.0
PRODID:-//Buck Run Baptist Church - ECPv6.15.20//NONSGML v1.0//EN
CALSCALE:GREGORIAN
METHOD:PUBLISH
X-ORIGINAL-URL:https://www.buckrun.org
X-WR-CALDESC:Events for Buck Run Baptist Church
REFRESH-INTERVAL;VALUE=DURATION:PT1H
X-Robots-Tag:noindex
X-PUBLISHED-TTL:PT1H
BEGIN:VTIMEZONE
TZID:America/Kentucky/Louisville
BEGIN:DAYLIGHT
TZOFFSETFROM:-0500
TZOFFSETTO:-0400
TZNAME:EDT
DTSTART:20220313T070000
END:DAYLIGHT
BEGIN:STANDARD
TZOFFSETFROM:-0400
TZOFFSETTO:-0500
TZNAME:EST
DTSTART:20221106T060000
END:STANDARD
BEGIN:DAYLIGHT
TZOFFSETFROM:-0500
TZOFFSETTO:-0400
TZNAME:EDT
DTSTART:20230312T070000
END:DAYLIGHT
BEGIN:STANDARD
TZOFFSETFROM:-0400
TZOFFSETTO:-0500
TZNAME:EST
DTSTART:20231105T060000
END:STANDARD
BEGIN:DAYLIGHT
TZOFFSETFROM:-0500
TZOFFSETTO:-0400
TZNAME:EDT
DTSTART:20240310T070000
END:DAYLIGHT
BEGIN:STANDARD
TZOFFSETFROM:-0400
TZOFFSETTO:-0500
TZNAME:EST
DTSTART:20241103T060000
END:STANDARD
END:VTIMEZONE
BEGIN:VEVENT
DTSTART;TZID=America/Kentucky/Louisville:20230623T180000
DTEND;TZID=America/Kentucky/Louisville:20230623T180000
DTSTAMP:20260420T233308
CREATED:20230604T131813Z
LAST-MODIFIED:20230604T131813Z
UID:15006-1687543200-1687543200@www.buckrun.org
SUMMARY:Summer Concert
DESCRIPTION:Join Buck Run at the Old Capitol on Friday\, June 23 at 6pm for Frankfort’s Downtown Summer Concert Series. Wear a Buck Run shirt and hang out with fellow church members while listening to music and grabbing a treat from a street vendor. This event is free to attend.
URL:https://www.buckrun.org/event/summer-concert-2023/
ATTACH;FMTTYPE=image/jpeg:https://www.buckrun.org/wp-content/uploads/2023/06/BR-Summer-Concert.jpg
END:VEVENT
END:VCALENDAR