BEGIN:VCALENDAR
VERSION:2.0
PRODID:-//Buck Run Baptist Church - ECPv6.15.20//NONSGML v1.0//EN
CALSCALE:GREGORIAN
METHOD:PUBLISH
X-WR-CALNAME:Buck Run Baptist Church
X-ORIGINAL-URL:https://www.buckrun.org
X-WR-CALDESC:Events for Buck Run Baptist Church
REFRESH-INTERVAL;VALUE=DURATION:PT1H
X-Robots-Tag:noindex
X-PUBLISHED-TTL:PT1H
BEGIN:VTIMEZONE
TZID:America/Kentucky/Louisville
BEGIN:DAYLIGHT
TZOFFSETFROM:-0500
TZOFFSETTO:-0400
TZNAME:EDT
DTSTART:20220313T070000
END:DAYLIGHT
BEGIN:STANDARD
TZOFFSETFROM:-0400
TZOFFSETTO:-0500
TZNAME:EST
DTSTART:20221106T060000
END:STANDARD
BEGIN:DAYLIGHT
TZOFFSETFROM:-0500
TZOFFSETTO:-0400
TZNAME:EDT
DTSTART:20230312T070000
END:DAYLIGHT
BEGIN:STANDARD
TZOFFSETFROM:-0400
TZOFFSETTO:-0500
TZNAME:EST
DTSTART:20231105T060000
END:STANDARD
BEGIN:DAYLIGHT
TZOFFSETFROM:-0500
TZOFFSETTO:-0400
TZNAME:EDT
DTSTART:20240310T070000
END:DAYLIGHT
BEGIN:STANDARD
TZOFFSETFROM:-0400
TZOFFSETTO:-0500
TZNAME:EST
DTSTART:20241103T060000
END:STANDARD
END:VTIMEZONE
BEGIN:VEVENT
DTSTART;VALUE=DATE:20230826
DTEND;VALUE=DATE:20230827
DTSTAMP:20260420T162617
CREATED:20230709T133238Z
LAST-MODIFIED:20230709T140756Z
UID:15040-1693008000-1693094399@www.buckrun.org
SUMMARY:Missions Golf Scramble
DESCRIPTION:The Missions Golf Scramble is a fun event for golfers of any skill level (seriously\, even your level) and raises funds for Buck Run’s mission trips and our missions partners. This year’s event is August 26 at Juniper Hills Golf Course in Frankfort\, KY. Registrants can enter as a part of a 4 person team or\, if needed\, a team will be assigned. \nRegister \n\nThe Missions Golf Scramble is a key fundraiser in supporting our missions partners and helping offset expenses for our members to go on short-term trips as they take the Good News of Jesus to the nations. Hole sponsorships promoting a business or organizations are available for $100 per hole. This money will go directly to our missions fund and your organization will have a sign placed on a tee box during the event. \nSponsor a Hole
URL:https://www.buckrun.org/event/missions-golf-scramble-2023/
LOCATION:Juniper Hills Golf Course\, 800 Louisville Road\, Frankfort\, KY\, 40601\, United States
ATTACH;FMTTYPE=image/jpeg:https://www.buckrun.org/wp-content/uploads/2023/07/golf-2023.jpeg
GEO:38.1868717;-84.8896966
X-APPLE-STRUCTURED-LOCATION;VALUE=URI;X-ADDRESS=Juniper Hills Golf Course 800 Louisville Road Frankfort KY 40601 United States;X-APPLE-RADIUS=500;X-TITLE=800 Louisville Road:geo:-84.8896966,38.1868717
END:VEVENT
END:VCALENDAR