BEGIN:VCALENDAR
VERSION:2.0
PRODID:-//Buck Run Baptist Church - ECPv6.15.20//NONSGML v1.0//EN
CALSCALE:GREGORIAN
METHOD:PUBLISH
X-WR-CALNAME:Buck Run Baptist Church
X-ORIGINAL-URL:https://www.buckrun.org
X-WR-CALDESC:Events for Buck Run Baptist Church
REFRESH-INTERVAL;VALUE=DURATION:PT1H
X-Robots-Tag:noindex
X-PUBLISHED-TTL:PT1H
BEGIN:VTIMEZONE
TZID:America/Kentucky/Louisville
BEGIN:DAYLIGHT
TZOFFSETFROM:-0500
TZOFFSETTO:-0400
TZNAME:EDT
DTSTART:20220313T070000
END:DAYLIGHT
BEGIN:STANDARD
TZOFFSETFROM:-0400
TZOFFSETTO:-0500
TZNAME:EST
DTSTART:20221106T060000
END:STANDARD
BEGIN:DAYLIGHT
TZOFFSETFROM:-0500
TZOFFSETTO:-0400
TZNAME:EDT
DTSTART:20230312T070000
END:DAYLIGHT
BEGIN:STANDARD
TZOFFSETFROM:-0400
TZOFFSETTO:-0500
TZNAME:EST
DTSTART:20231105T060000
END:STANDARD
BEGIN:DAYLIGHT
TZOFFSETFROM:-0500
TZOFFSETTO:-0400
TZNAME:EDT
DTSTART:20240310T070000
END:DAYLIGHT
BEGIN:STANDARD
TZOFFSETFROM:-0400
TZOFFSETTO:-0500
TZNAME:EST
DTSTART:20241103T060000
END:STANDARD
END:VTIMEZONE
BEGIN:VEVENT
DTSTART;TZID=America/Kentucky/Louisville:20231217T104500
DTEND;TZID=America/Kentucky/Louisville:20231217T120000
DTSTAMP:20260420T063116
CREATED:20231203T161340Z
LAST-MODIFIED:20231210T143433Z
UID:15385-1702809900-1702814400@www.buckrun.org
SUMMARY:Walk to the Manger
DESCRIPTION:Christmas is full of traditions and one of the best traditions at Buck Run is our annual Walk to the Manger. This is an annual offering we collect for the Lottie Moon Christmas Offering benefitting the International Mission Board. These funds go specifically to reaching the nations with the Gospel by supporting missionaries and mission projects around the world. \nGive Online
URL:https://www.buckrun.org/event/walk-to-the-manger-2023/
ATTACH;FMTTYPE=image/jpeg:https://www.buckrun.org/wp-content/uploads/2023/12/Walk-to-the-Manger-2023.jpeg
END:VEVENT
BEGIN:VEVENT
DTSTART;TZID=America/Kentucky/Louisville:20231217T180000
DTEND;TZID=America/Kentucky/Louisville:20231217T180000
DTSTAMP:20260420T063116
CREATED:20231210T141635Z
LAST-MODIFIED:20231210T141635Z
UID:15402-1702836000-1702836000@www.buckrun.org
SUMMARY:Light in the Darkness
DESCRIPTION:An evening of Christmas worship.
URL:https://www.buckrun.org/event/light-in-the-darkness/
ATTACH;FMTTYPE=image/jpeg:https://www.buckrun.org/wp-content/uploads/2023/12/Christmas-Concert-Promo-2023.jpeg
END:VEVENT
END:VCALENDAR