BEGIN:VCALENDAR
VERSION:2.0
PRODID:-//Buck Run Baptist Church - ECPv6.15.20//NONSGML v1.0//EN
CALSCALE:GREGORIAN
METHOD:PUBLISH
X-ORIGINAL-URL:https://www.buckrun.org
X-WR-CALDESC:Events for Buck Run Baptist Church
REFRESH-INTERVAL;VALUE=DURATION:PT1H
X-Robots-Tag:noindex
X-PUBLISHED-TTL:PT1H
BEGIN:VTIMEZONE
TZID:America/Kentucky/Louisville
BEGIN:DAYLIGHT
TZOFFSETFROM:-0500
TZOFFSETTO:-0400
TZNAME:EDT
DTSTART:20220313T070000
END:DAYLIGHT
BEGIN:STANDARD
TZOFFSETFROM:-0400
TZOFFSETTO:-0500
TZNAME:EST
DTSTART:20221106T060000
END:STANDARD
BEGIN:DAYLIGHT
TZOFFSETFROM:-0500
TZOFFSETTO:-0400
TZNAME:EDT
DTSTART:20230312T070000
END:DAYLIGHT
BEGIN:STANDARD
TZOFFSETFROM:-0400
TZOFFSETTO:-0500
TZNAME:EST
DTSTART:20231105T060000
END:STANDARD
BEGIN:DAYLIGHT
TZOFFSETFROM:-0500
TZOFFSETTO:-0400
TZNAME:EDT
DTSTART:20240310T070000
END:DAYLIGHT
BEGIN:STANDARD
TZOFFSETFROM:-0400
TZOFFSETTO:-0500
TZNAME:EST
DTSTART:20241103T060000
END:STANDARD
END:VTIMEZONE
BEGIN:VEVENT
DTSTART;TZID=America/Kentucky/Louisville:20230206T183000
DTEND;TZID=America/Kentucky/Louisville:20230206T200000
DTSTAMP:20260421T052029
CREATED:20221209T131739Z
LAST-MODIFIED:20221209T131740Z
UID:14654-1675708200-1675713600@www.buckrun.org
SUMMARY:The Ask Anything Tour with Albert Mohler
DESCRIPTION:Join Dr. Albert Mohler to ask your questions about faith\, religion\, and the Bible. The event will begin with a brief presentation from Dr. Mohler\, followed by an open mic for questions and answers.
URL:https://www.buckrun.org/event/the-ask-anything-tour-with-albert-mohler/
LOCATION:Buck Run Baptist Church\, 1950 Leestown Road\, Frankfort\, KY\, 40601\, United States
ATTACH;FMTTYPE=image/jpeg:https://www.buckrun.org/wp-content/uploads/2022/12/BRBC-Ask-Anything-Social-Media-02-1.jpg
GEO:38.1869587;-84.7961875
X-APPLE-STRUCTURED-LOCATION;VALUE=URI;X-ADDRESS=Buck Run Baptist Church 1950 Leestown Road Frankfort KY 40601 United States;X-APPLE-RADIUS=500;X-TITLE=1950 Leestown Road:geo:-84.7961875,38.1869587
END:VEVENT
BEGIN:VEVENT
DTSTART;TZID=America/Kentucky/Louisville:20230220T063000
DTEND;TZID=America/Kentucky/Louisville:20230220T073000
DTSTAMP:20260421T052029
CREATED:20221209T134720Z
LAST-MODIFIED:20221213T145222Z
UID:14659-1676874600-1676878200@www.buckrun.org
SUMMARY:Bibles & Biscuits
DESCRIPTION:Join us at Buck Run for breakfast ($5) and a time of teaching.
URL:https://www.buckrun.org/event/bibles-biscuits-2023-02-20/
CATEGORIES:Bible Study
ATTACH;FMTTYPE=image/jpeg:https://www.buckrun.org/wp-content/uploads/2022/12/Bible-and-Biscuits-1.jpg
END:VEVENT
BEGIN:VEVENT
DTSTART;TZID=America/Kentucky/Louisville:20230221T193000
DTEND;TZID=America/Kentucky/Louisville:20230221T210000
DTSTAMP:20260421T052029
CREATED:20221209T142122Z
LAST-MODIFIED:20221213T145318Z
UID:14671-1677007800-1677013200@www.buckrun.org
SUMMARY:Equipping Women
DESCRIPTION:Ladies\, join us once a month on Tuesdays this spring for Equipping Women at 7:30 pm for a time of teaching and fellowship!
URL:https://www.buckrun.org/event/equipping-women-2023-02-21/
ATTACH;FMTTYPE=image/jpeg:https://www.buckrun.org/wp-content/uploads/2022/12/Equipping-Women.jpg
END:VEVENT
END:VCALENDAR