BEGIN:VCALENDAR
VERSION:2.0
PRODID:-//Buck Run Baptist Church - ECPv6.15.20//NONSGML v1.0//EN
CALSCALE:GREGORIAN
METHOD:PUBLISH
X-WR-CALNAME:Buck Run Baptist Church
X-ORIGINAL-URL:https://www.buckrun.org
X-WR-CALDESC:Events for Buck Run Baptist Church
REFRESH-INTERVAL;VALUE=DURATION:PT1H
X-Robots-Tag:noindex
X-PUBLISHED-TTL:PT1H
BEGIN:VTIMEZONE
TZID:America/Kentucky/Louisville
BEGIN:DAYLIGHT
TZOFFSETFROM:-0500
TZOFFSETTO:-0400
TZNAME:EDT
DTSTART:20220313T070000
END:DAYLIGHT
BEGIN:STANDARD
TZOFFSETFROM:-0400
TZOFFSETTO:-0500
TZNAME:EST
DTSTART:20221106T060000
END:STANDARD
BEGIN:DAYLIGHT
TZOFFSETFROM:-0500
TZOFFSETTO:-0400
TZNAME:EDT
DTSTART:20230312T070000
END:DAYLIGHT
BEGIN:STANDARD
TZOFFSETFROM:-0400
TZOFFSETTO:-0500
TZNAME:EST
DTSTART:20231105T060000
END:STANDARD
BEGIN:DAYLIGHT
TZOFFSETFROM:-0500
TZOFFSETTO:-0400
TZNAME:EDT
DTSTART:20240310T070000
END:DAYLIGHT
BEGIN:STANDARD
TZOFFSETFROM:-0400
TZOFFSETTO:-0500
TZNAME:EST
DTSTART:20241103T060000
END:STANDARD
END:VTIMEZONE
BEGIN:VEVENT
DTSTART;TZID=America/Kentucky/Louisville:20230320T063000
DTEND;TZID=America/Kentucky/Louisville:20230320T073000
DTSTAMP:20260421T035454
CREATED:20221209T135512Z
LAST-MODIFIED:20221213T145406Z
UID:14661-1679293800-1679297400@www.buckrun.org
SUMMARY:Bibles & Biscuits
DESCRIPTION:Join us at Buck Run for breakfast ($5) and a time of teaching.
URL:https://www.buckrun.org/event/bibles-biscuits-2023-03-20/
CATEGORIES:Bible Study
ATTACH;FMTTYPE=image/jpeg:https://www.buckrun.org/wp-content/uploads/2022/12/Bible-and-Biscuits-1.jpg
END:VEVENT
BEGIN:VEVENT
DTSTART;TZID=America/Kentucky/Louisville:20230321T193000
DTEND;TZID=America/Kentucky/Louisville:20230321T210000
DTSTAMP:20260421T035454
CREATED:20221209T142331Z
LAST-MODIFIED:20221213T145442Z
UID:14673-1679427000-1679432400@www.buckrun.org
SUMMARY:Equipping Women
DESCRIPTION:Ladies\, join us once a month on Tuesdays this spring for Equipping Women at 7:30 pm for a time of teaching and fellowship!
URL:https://www.buckrun.org/event/equipping-women-2023-03-21/
ATTACH;FMTTYPE=image/jpeg:https://www.buckrun.org/wp-content/uploads/2022/12/Equipping-Women.jpg
END:VEVENT
BEGIN:VEVENT
DTSTART;TZID=America/Kentucky/Louisville:20230324T190000
DTEND;TZID=America/Kentucky/Louisville:20230324T200000
DTSTAMP:20260421T035454
CREATED:20230312T143354Z
LAST-MODIFIED:20230312T143436Z
UID:14834-1679684400-1679688000@www.buckrun.org
SUMMARY:Andrew Peterson Concert
DESCRIPTION:Andrew Peterson’s Resurrection Letters Tour is coming to Buck Run on Friday\, March 24\, at 7:00 p.m. Tickets are now available. General Admission tickets are $15. There are also a limited number of Premium Seating tickets available with a Pre-Concert Q&A available for $50. \nBuy Tickets
URL:https://www.buckrun.org/event/andrew-peterson-concert/
END:VEVENT
END:VCALENDAR