BEGIN:VCALENDAR
VERSION:2.0
PRODID:-//Buck Run Baptist Church - ECPv6.15.20//NONSGML v1.0//EN
CALSCALE:GREGORIAN
METHOD:PUBLISH
X-ORIGINAL-URL:https://www.buckrun.org
X-WR-CALDESC:Events for Buck Run Baptist Church
REFRESH-INTERVAL;VALUE=DURATION:PT1H
X-Robots-Tag:noindex
X-PUBLISHED-TTL:PT1H
BEGIN:VTIMEZONE
TZID:America/Kentucky/Louisville
BEGIN:DAYLIGHT
TZOFFSETFROM:-0500
TZOFFSETTO:-0400
TZNAME:EDT
DTSTART:20220313T070000
END:DAYLIGHT
BEGIN:STANDARD
TZOFFSETFROM:-0400
TZOFFSETTO:-0500
TZNAME:EST
DTSTART:20221106T060000
END:STANDARD
BEGIN:DAYLIGHT
TZOFFSETFROM:-0500
TZOFFSETTO:-0400
TZNAME:EDT
DTSTART:20230312T070000
END:DAYLIGHT
BEGIN:STANDARD
TZOFFSETFROM:-0400
TZOFFSETTO:-0500
TZNAME:EST
DTSTART:20231105T060000
END:STANDARD
BEGIN:DAYLIGHT
TZOFFSETFROM:-0500
TZOFFSETTO:-0400
TZNAME:EDT
DTSTART:20240310T070000
END:DAYLIGHT
BEGIN:STANDARD
TZOFFSETFROM:-0400
TZOFFSETTO:-0500
TZNAME:EST
DTSTART:20241103T060000
END:STANDARD
END:VTIMEZONE
BEGIN:VEVENT
DTSTART;TZID=America/Kentucky/Louisville:20230407T190000
DTEND;TZID=America/Kentucky/Louisville:20230407T190000
DTSTAMP:20260421T040022
CREATED:20230312T155148Z
LAST-MODIFIED:20230312T155503Z
UID:14852-1680894000-1680894000@www.buckrun.org
SUMMARY:Good Friday Service
DESCRIPTION:
URL:https://www.buckrun.org/event/good-friday/
ATTACH;FMTTYPE=image/jpeg:https://www.buckrun.org/wp-content/uploads/2023/03/goodfriday.jpeg
END:VEVENT
BEGIN:VEVENT
DTSTART;TZID=America/Kentucky/Louisville:20230409T083000
DTEND;TZID=America/Kentucky/Louisville:20230409T120000
DTSTAMP:20260421T040022
CREATED:20220717T130610Z
LAST-MODIFIED:20230312T154830Z
UID:14591-1681029000-1681041600@www.buckrun.org
SUMMARY:Easter Services
DESCRIPTION:Easter Sunday is on April 9. We will gather to celebrate our risen Lord and Savior at 8:30am and  10:30am. Come and hear the Gospel faithfully proclaimed! \nWatch Live
URL:https://www.buckrun.org/event/easter-services-2023/
CATEGORIES:Worship Ministry
ATTACH;FMTTYPE=image/jpeg:https://www.buckrun.org/wp-content/uploads/2022/07/easter.jpeg
END:VEVENT
BEGIN:VEVENT
DTSTART;TZID=America/Kentucky/Louisville:20230412T183000
DTEND;TZID=America/Kentucky/Louisville:20230412T183000
DTSTAMP:20260421T040022
CREATED:20230402T133329Z
LAST-MODIFIED:20230514T130851Z
UID:14872-1681324200-1681324200@www.buckrun.org
SUMMARY:Midweek at Buck Run
DESCRIPTION:It’s important for Christians to have regular community together to help fight off the many temptations that our culture is throwing at us throughout the week. To this end\, Midweek at Buck Run provides a variety of opportunities for spiritual growth and relationships. Classes are offered for kids\, students\, and adults throughout the year at 6:30 pm. Adults can choose from the classes listed below. \nMore information at https://www.buckrun.org/midweek/.
URL:https://www.buckrun.org/event/midweek-at-buck-run-2023/2023-04-12/
ATTACH;FMTTYPE=image/jpeg:https://www.buckrun.org/wp-content/uploads/2023/01/Midweek-at-Buck-Run.jpg
END:VEVENT
BEGIN:VEVENT
DTSTART;TZID=America/Kentucky/Louisville:20230417T063000
DTEND;TZID=America/Kentucky/Louisville:20230417T073000
DTSTAMP:20260421T040022
CREATED:20221209T140306Z
LAST-MODIFIED:20221213T145519Z
UID:14664-1681713000-1681716600@www.buckrun.org
SUMMARY:Bibles & Biscuits
DESCRIPTION:Join us at Buck Run for breakfast ($5) and a time of teaching.
URL:https://www.buckrun.org/event/bibles-biscuits-2023-04-17/
CATEGORIES:Bible Study
ATTACH;FMTTYPE=image/jpeg:https://www.buckrun.org/wp-content/uploads/2022/12/Bible-and-Biscuits-1.jpg
END:VEVENT
BEGIN:VEVENT
DTSTART;TZID=America/Kentucky/Louisville:20230418T193000
DTEND;TZID=America/Kentucky/Louisville:20230418T210000
DTSTAMP:20260421T040022
CREATED:20221209T142513Z
LAST-MODIFIED:20221213T145556Z
UID:14675-1681846200-1681851600@www.buckrun.org
SUMMARY:Equipping Women
DESCRIPTION:Ladies\, join us once a month on Tuesdays this spring for Equipping Women at 7:30 pm for a time of teaching and fellowship!
URL:https://www.buckrun.org/event/equipping-women-2023-04-18/
ATTACH;FMTTYPE=image/jpeg:https://www.buckrun.org/wp-content/uploads/2022/12/Equipping-Women.jpg
END:VEVENT
END:VCALENDAR