BEGIN:VCALENDAR
VERSION:2.0
PRODID:-//Buck Run Baptist Church - ECPv6.15.20//NONSGML v1.0//EN
CALSCALE:GREGORIAN
METHOD:PUBLISH
X-WR-CALNAME:Buck Run Baptist Church
X-ORIGINAL-URL:https://www.buckrun.org
X-WR-CALDESC:Events for Buck Run Baptist Church
REFRESH-INTERVAL;VALUE=DURATION:PT1H
X-Robots-Tag:noindex
X-PUBLISHED-TTL:PT1H
BEGIN:VTIMEZONE
TZID:America/Kentucky/Louisville
BEGIN:DAYLIGHT
TZOFFSETFROM:-0500
TZOFFSETTO:-0400
TZNAME:EDT
DTSTART:20220313T070000
END:DAYLIGHT
BEGIN:STANDARD
TZOFFSETFROM:-0400
TZOFFSETTO:-0500
TZNAME:EST
DTSTART:20221106T060000
END:STANDARD
BEGIN:DAYLIGHT
TZOFFSETFROM:-0500
TZOFFSETTO:-0400
TZNAME:EDT
DTSTART:20230312T070000
END:DAYLIGHT
BEGIN:STANDARD
TZOFFSETFROM:-0400
TZOFFSETTO:-0500
TZNAME:EST
DTSTART:20231105T060000
END:STANDARD
BEGIN:DAYLIGHT
TZOFFSETFROM:-0500
TZOFFSETTO:-0400
TZNAME:EDT
DTSTART:20240310T070000
END:DAYLIGHT
BEGIN:STANDARD
TZOFFSETFROM:-0400
TZOFFSETTO:-0500
TZNAME:EST
DTSTART:20241103T060000
END:STANDARD
END:VTIMEZONE
BEGIN:VEVENT
DTSTART;TZID=America/Kentucky/Louisville:20231105T180000
DTEND;TZID=America/Kentucky/Louisville:20231105T180000
DTSTAMP:20260420T075622
CREATED:20231029T140648Z
LAST-MODIFIED:20231029T140821Z
UID:15341-1699207200-1699207200@www.buckrun.org
SUMMARY:Family Meeting
DESCRIPTION:Make plans now to join us for our next Family Meeting on Sunday\, November 5 at 6 pm. We will be voting on the 2024 budget\, committee nominations\, and the deacon ballot. After the meeting\, we will fellowship together around fire pits enjoying smores. Kids and Students will gather at 6:00 p.m. in their ministry areas.
URL:https://www.buckrun.org/event/family-meeting-2023-11/
LOCATION:Buck Run Baptist Church\, 1950 Leestown Road\, Frankfort\, KY\, 40601\, United States
ATTACH;FMTTYPE=image/jpeg:https://www.buckrun.org/wp-content/uploads/2023/10/Family-Meeting-2023-11.jpeg
GEO:38.1869587;-84.7961875
X-APPLE-STRUCTURED-LOCATION;VALUE=URI;X-ADDRESS=Buck Run Baptist Church 1950 Leestown Road Frankfort KY 40601 United States;X-APPLE-RADIUS=500;X-TITLE=1950 Leestown Road:geo:-84.7961875,38.1869587
END:VEVENT
END:VCALENDAR