BEGIN:VCALENDAR
VERSION:2.0
PRODID:-//Buck Run Baptist Church - ECPv6.15.20//NONSGML v1.0//EN
CALSCALE:GREGORIAN
METHOD:PUBLISH
X-WR-CALNAME:Buck Run Baptist Church
X-ORIGINAL-URL:https://www.buckrun.org
X-WR-CALDESC:Events for Buck Run Baptist Church
REFRESH-INTERVAL;VALUE=DURATION:PT1H
X-Robots-Tag:noindex
X-PUBLISHED-TTL:PT1H
BEGIN:VTIMEZONE
TZID:America/Kentucky/Louisville
BEGIN:DAYLIGHT
TZOFFSETFROM:-0500
TZOFFSETTO:-0400
TZNAME:EDT
DTSTART:20260308T070000
END:DAYLIGHT
BEGIN:STANDARD
TZOFFSETFROM:-0400
TZOFFSETTO:-0500
TZNAME:EST
DTSTART:20261101T060000
END:STANDARD
BEGIN:DAYLIGHT
TZOFFSETFROM:-0500
TZOFFSETTO:-0400
TZNAME:EDT
DTSTART:20270314T070000
END:DAYLIGHT
BEGIN:STANDARD
TZOFFSETFROM:-0400
TZOFFSETTO:-0500
TZNAME:EST
DTSTART:20271107T060000
END:STANDARD
BEGIN:DAYLIGHT
TZOFFSETFROM:-0500
TZOFFSETTO:-0400
TZNAME:EDT
DTSTART:20280312T070000
END:DAYLIGHT
BEGIN:STANDARD
TZOFFSETFROM:-0400
TZOFFSETTO:-0500
TZNAME:EST
DTSTART:20281105T060000
END:STANDARD
END:VTIMEZONE
BEGIN:VEVENT
DTSTART;TZID=America/Kentucky/Louisville:20270103T100000
DTEND;TZID=America/Kentucky/Louisville:20270103T110000
DTSTAMP:20260425T210808
CREATED:20260419T131258Z
LAST-MODIFIED:20260419T131258Z
UID:10014382-1798970400-1798974000@www.buckrun.org
SUMMARY:One Worship Service
DESCRIPTION:On Sunday\, December 27 and Sunday\, January 3\, we will have one worship service all together at 10:00am.
URL:https://www.buckrun.org/events/one-worship-service-2027-01-03/
END:VEVENT
END:VCALENDAR