BEGIN:VCALENDAR
VERSION:2.0
PRODID:-//Buck Run Baptist Church - ECPv6.15.20//NONSGML v1.0//EN
CALSCALE:GREGORIAN
METHOD:PUBLISH
X-ORIGINAL-URL:https://www.buckrun.org
X-WR-CALDESC:Events for Buck Run Baptist Church
REFRESH-INTERVAL;VALUE=DURATION:PT1H
X-Robots-Tag:noindex
X-PUBLISHED-TTL:PT1H
BEGIN:VTIMEZONE
TZID:America/Kentucky/Louisville
BEGIN:DAYLIGHT
TZOFFSETFROM:-0500
TZOFFSETTO:-0400
TZNAME:EDT
DTSTART:20250309T070000
END:DAYLIGHT
BEGIN:STANDARD
TZOFFSETFROM:-0400
TZOFFSETTO:-0500
TZNAME:EST
DTSTART:20251102T060000
END:STANDARD
BEGIN:DAYLIGHT
TZOFFSETFROM:-0500
TZOFFSETTO:-0400
TZNAME:EDT
DTSTART:20260308T070000
END:DAYLIGHT
BEGIN:STANDARD
TZOFFSETFROM:-0400
TZOFFSETTO:-0500
TZNAME:EST
DTSTART:20261101T060000
END:STANDARD
BEGIN:DAYLIGHT
TZOFFSETFROM:-0500
TZOFFSETTO:-0400
TZNAME:EDT
DTSTART:20270314T070000
END:DAYLIGHT
BEGIN:STANDARD
TZOFFSETFROM:-0400
TZOFFSETTO:-0500
TZNAME:EST
DTSTART:20271107T060000
END:STANDARD
END:VTIMEZONE
BEGIN:VEVENT
DTSTART;TZID=America/Kentucky/Louisville:20260401T180000
DTEND;TZID=America/Kentucky/Louisville:20260401T193000
DTSTAMP:20260425T100942
CREATED:20260412T124041Z
LAST-MODIFIED:20260412T124109Z
UID:10014371-1775066400-1775071800@www.buckrun.org
SUMMARY:Reach Frankfort Outreach Day
DESCRIPTION:On Wednesday\, April 1\, we will do a Reach Frankfort outreach event from 6:00 p.m. to 7:30 p.m. Groups will go door-to-door in neighborhoods near the church\, asking how they can pray for residents and inviting them to our Easter services. Kids Ministry will be provided at the church from 6:00 p.m. to 7:30 p.m. Student D-Groups will be participating in Reach Frankfort as a group. Click below to sign up for one neighborhood walk. Your team leader will be communicated to you as we approach the event.
URL:https://www.buckrun.org/events/reach-frankfort-outreach-day/
ATTACH;FMTTYPE=image/jpeg:https://www.buckrun.org/wp-content/uploads/2026/04/Reach-Frankfort-Easter-WIDE.jpg
END:VEVENT
BEGIN:VEVENT
DTSTART;TZID=America/Kentucky/Louisville:20260403T190000
DTEND;TZID=America/Kentucky/Louisville:20260403T200000
DTSTAMP:20260425T100942
CREATED:20260215T185250Z
LAST-MODIFIED:20260215T185250Z
UID:10014353-1775242800-1775246400@www.buckrun.org
SUMMARY:Good Friday Service
DESCRIPTION:
URL:https://www.buckrun.org/events/good-friday-service-2026/
ATTACH;FMTTYPE=image/jpeg:https://www.buckrun.org/wp-content/uploads/2026/03/Good-Friday-26-Scroll-WIDE.jpg
END:VEVENT
BEGIN:VEVENT
DTSTART;TZID=America/Kentucky/Louisville:20260405T083000
DTEND;TZID=America/Kentucky/Louisville:20260405T094500
DTSTAMP:20260425T100942
CREATED:20251123T190827Z
LAST-MODIFIED:20251123T190827Z
UID:10011063-1775377800-1775382300@www.buckrun.org
SUMMARY:Easter Worship
DESCRIPTION:The gathering of God’s people for corporate worship is the centerpiece of Buck Run’s ministry. This is where our local expression of the body of Christ hears the Word of God proclaimed\, prays and sings together\, and observes baptism and Lord’s Supper. Corporate worship is where God’s people gather to give Him glory. \nWATCH LIVE
URL:https://www.buckrun.org/events/easter-worship-2026-first-service/
ATTACH;FMTTYPE=image/jpeg:https://www.buckrun.org/wp-content/uploads/2026/03/Easter-26-Scroll-WIDE.jpg
END:VEVENT
BEGIN:VEVENT
DTSTART;TZID=America/Kentucky/Louisville:20260405T110000
DTEND;TZID=America/Kentucky/Louisville:20260405T121500
DTSTAMP:20260425T100942
CREATED:20251123T191516Z
LAST-MODIFIED:20251123T191516Z
UID:10012287-1775386800-1775391300@www.buckrun.org
SUMMARY:Easter Worship
DESCRIPTION:The gathering of God’s people for corporate worship is the centerpiece of Buck Run’s ministry. This is where our local expression of the body of Christ hears the Word of God proclaimed\, prays and sings together\, and observes baptism and Lord’s Supper. Corporate worship is where God’s people gather to give Him glory. \nWATCH LIVE
URL:https://www.buckrun.org/events/easter-worship-2026-second-service/
ATTACH;FMTTYPE=image/jpeg:https://www.buckrun.org/wp-content/uploads/2026/03/Easter-26-Scroll-WIDE.jpg
END:VEVENT
BEGIN:VEVENT
DTSTART;VALUE=DATE:20260412
DTEND;VALUE=DATE:20260413
DTSTAMP:20260425T100942
CREATED:20251123T192913Z
LAST-MODIFIED:20260412T144025Z
UID:10014290-1775952000-1776038399@www.buckrun.org
SUMMARY:Community Group Sunday
DESCRIPTION:Community Groups are a pivotal ministry in the lives of our members. It is in these groups that you can be known and cared for. Our groups meet twice a month at various times and locations. \nFind a Community Group
URL:https://www.buckrun.org/events/community-group-sunday-spring-2026-2026-04-12/
CATEGORIES:Community Groups
ATTACH;FMTTYPE=image/jpeg:https://www.buckrun.org/wp-content/uploads/2026/03/Community-Group-Graphic.jpg
END:VEVENT
BEGIN:VEVENT
DTSTART;TZID=America/Kentucky/Louisville:20260412T083000
DTEND;TZID=America/Kentucky/Louisville:20260412T094500
DTSTAMP:20260425T100942
CREATED:20251123T190827Z
LAST-MODIFIED:20260331T222426Z
UID:10010578-1775982600-1775987100@www.buckrun.org
SUMMARY:Corporate Worship
DESCRIPTION:The gathering of God’s people for corporate worship is the centerpiece of Buck Run’s ministry. This is where our local expression of the body of Christ hears the Word of God proclaimed\, prays and sings together\, and observes baptism and Lord’s Supper. Corporate worship is where God’s people gather to give Him glory. \nWATCH LIVE
URL:https://www.buckrun.org/events/corporate-worship-2026-first-2026-01-11/2026-04-12/
ATTACH;FMTTYPE=image/jpeg:https://www.buckrun.org/wp-content/uploads/2026/03/Copy-of-DSC03625.jpg
END:VEVENT
BEGIN:VEVENT
DTSTART;TZID=America/Kentucky/Louisville:20260412T100000
DTEND;TZID=America/Kentucky/Louisville:20260412T104500
DTSTAMP:20260425T100942
CREATED:20260412T132440Z
LAST-MODIFIED:20260412T144330Z
UID:10014372-1775988000-1775990700@www.buckrun.org
SUMMARY:New Adult Discipleship Classes Begin
DESCRIPTION:Biblical Theology [Story Track] | Todd Hutcherson | Room 101 \nIf we read the Bible on its own terms\, we will see that it is a unified story that centers on the person and work of Jesus Christ. This is the task of Biblical Theology. Join Todd to be introduced to this discipline and to be equipped to trace biblical themes that help us to understand the gospel more fully. \nDiscover Buck Run | Will Morris | Room 100 \nThis class offers an introduction to Buck Run and our mission\, vision\, and expectations for members. Launch yourself into ministry and get plugged in. This is a fantastic way to really get connected to the life and ministry of Buck Run. It is also a step in the membership process for those wanting to join Buck Run. \nThe Word Made Flesh [Doctrine Track] | Ben Pinkston | Room 103 \nThe question of who Jesus is must be central to our understanding of the gospel. Jesus asked that of his disciples\, “Who do you say that I am?” (Mark 8:29) Join Ben for this survey of the doctrine of the Person of Christ. We’ll go to the Bible to hear the testimony concerning him as the Son of God and Son of Man who alone can save. \nPhilippians | Lindell Ormsbee | Room 102 \nPhilippians: God’s prescription for joy. This course will explore the role of joy in the life of the Christian along with four common barriers to such joy: circumstances\, people\, suffering\, and troubling thoughts. This will be accomplished using both inductive and deductive Bible study methods with specific applications to the book of Philippians. \nBy the Water: Nehemiah | Ed Hamlin & Caleb Lucas | Sanctuary \nGather “by the water” (the section of sanctuary seats nearest the baptistry) to participate in a thematic study of the book of Nehemiah. The Jews have returned from exile\, but much of Jerusalem and its walls lie in ruins. Will God provide and restore them in their seemingly hopeless situation? Nehemiah’s message and example have much to say for the disciple of Jesus seeking to be faithful in serving and proclaiming the gospel in the midst of difficulty. Bring your Bible and come ready to hear and apply God’s Word for his people.
URL:https://www.buckrun.org/events/new-classes-begin-2026-04/
CATEGORIES:Featured Events
ATTACH;FMTTYPE=image/jpeg:https://www.buckrun.org/wp-content/uploads/2026/04/Adult-Discipleship-scaled.jpg
END:VEVENT
BEGIN:VEVENT
DTSTART;TZID=America/Kentucky/Louisville:20260412T100000
DTEND;TZID=America/Kentucky/Louisville:20260412T224500
DTSTAMP:20260425T100942
CREATED:20251123T191956Z
LAST-MODIFIED:20251123T191956Z
UID:10013026-1775988000-1776033900@www.buckrun.org
SUMMARY:Sunday School
DESCRIPTION:https://www.buckrun.org/kids/ \nStudents \n \nhttps://www.buckrun.org/ministries/adultdiscipleship/
URL:https://www.buckrun.org/events/sunday-school-2026-2026-01-11/2026-04-12/
END:VEVENT
BEGIN:VEVENT
DTSTART;TZID=America/Kentucky/Louisville:20260412T110000
DTEND;TZID=America/Kentucky/Louisville:20260412T121500
DTSTAMP:20260425T100942
CREATED:20251123T191516Z
LAST-MODIFIED:20260331T222336Z
UID:10011802-1775991600-1775996100@www.buckrun.org
SUMMARY:Corporate Worship
DESCRIPTION:The gathering of God’s people for corporate worship is the centerpiece of Buck Run’s ministry. This is where our local expression of the body of Christ hears the Word of God proclaimed\, prays and sings together\, and observes baptism and Lord’s Supper. Corporate worship is where God’s people gather to give Him glory. \nWATCH LIVE
URL:https://www.buckrun.org/events/corporate-worship-2026-second-2026-01-11/2026-04-12/
ATTACH;FMTTYPE=image/jpeg:https://www.buckrun.org/wp-content/uploads/2026/03/Copy-of-DSC03625.jpg
END:VEVENT
BEGIN:VEVENT
DTSTART;TZID=America/Kentucky/Louisville:20260415T183000
DTEND;TZID=America/Kentucky/Louisville:20260415T193000
DTSTAMP:20260425T100942
CREATED:20260412T132702Z
LAST-MODIFIED:20260412T144253Z
UID:10014373-1776277800-1776281400@www.buckrun.org
SUMMARY:New Midweek Classes Begin
DESCRIPTION:Zeal Without Burnout | Dr. Chris Parrish | Room 102 \nBased on Christopher Ash’s book\, Zeal Without Burnout\, this class taught by Chris Parrish explores how we might present our lives to the Lord as a sustainable sacrifice. Lots of people who are involved in service in the church (whether paid or unpaid) find themselves having to step back from it. They have not lost their love for Christ\, or their desire to serve him. But for one reason or another\, they are exhausted and simply cannot carry on. How can we serve the Lord with zeal yet without burning out? \nThe Beatitudes | Ben Pinkston | Sanctuary \nJesus begins his Sermon on the Mount with a set of power-packed statements about life in the Kingdom of God. According to the standards of the world they are counter-intuitive and upside down. These blessings show us that Jesus offers a different way of living in this world. One that mirrors his own surprising ministry: strength through humility and life through death. Join Ben in an exploration of the Beatitudes as we seek to walk in the way of Jesus and live as citizens of his kingdom. \nReading Group: Women of the Word (Women’s Class) | Katelyn Pinkston & Abi Morris | Room 100 \nWe all know it’s important to study God’s word\, but sometimes it is hard to know where to start. In this class\, we will learn how to study the Bible with both our hearts and our minds by reading and discussing Women of the Word by Jen Wilkin. She outlines five aspects of studying the Bible: purpose\, perspective\, patience\, process\, and prayer. Together\, we will strive to learn how we can keep our focus and sustain our passion while reading the Bible. Come join us! (Free copies of the book will be available on Week 1) \nMom to Mom | Kari VanHoose | Room 101 \nThe heart of Mom to Mom is to connect moms who are in the trenches of parenting with those seasoned moms of Buck Run who have already raised all of their children to adulthood. Additionally\, moms of all stages can connect and spur one another on. Join us for Biblically based teaching\, fellowship\, and encouragement. Parenting can be challenging\, no matter the age of the children. Come rest\, connect and be encouraged!
URL:https://www.buckrun.org/events/new-midweek-classes-begin-2026-04/
CATEGORIES:Featured Events
ATTACH;FMTTYPE=image/jpeg:https://www.buckrun.org/wp-content/uploads/2026/03/Midweek-2025-Wide-2-1.jpg
END:VEVENT
BEGIN:VEVENT
DTSTART;TZID=America/Kentucky/Louisville:20260418T083000
DTEND;TZID=America/Kentucky/Louisville:20260418T123000
DTSTAMP:20260425T100942
CREATED:20260222T191442Z
LAST-MODIFIED:20260404T021443Z
UID:10014358-1776501000-1776515400@www.buckrun.org
SUMMARY:Serve Frankfort
DESCRIPTION:Your next opportunity to serve Frankfort alongside your Buck Run family will be on April 18th! Sign up now for one of our projects. \nServe Frankfort is a Buck Run initiative to meet the needs of those in our community\, forming relationships with them as we show them the love of Jesus Christ. Serve Frankfort workdays provide the opportunity for teams from our church to assist local ministries and non-profits in a variety of ways.
URL:https://www.buckrun.org/events/reach-frankfort-2026-04/
CATEGORIES:Missions,Serve Frankfort
ATTACH;FMTTYPE=image/jpeg:https://www.buckrun.org/wp-content/uploads/2026/03/serve-frankfort-2026-04-e1771769624411.jpg
END:VEVENT
BEGIN:VEVENT
DTSTART;TZID=America/Kentucky/Louisville:20260419T083000
DTEND;TZID=America/Kentucky/Louisville:20260419T094500
DTSTAMP:20260425T100942
CREATED:20251123T190827Z
LAST-MODIFIED:20260331T222426Z
UID:10010579-1776587400-1776591900@www.buckrun.org
SUMMARY:Corporate Worship
DESCRIPTION:The gathering of God’s people for corporate worship is the centerpiece of Buck Run’s ministry. This is where our local expression of the body of Christ hears the Word of God proclaimed\, prays and sings together\, and observes baptism and Lord’s Supper. Corporate worship is where God’s people gather to give Him glory. \nWATCH LIVE
URL:https://www.buckrun.org/events/corporate-worship-2026-first-2026-01-11/2026-04-19/
ATTACH;FMTTYPE=image/jpeg:https://www.buckrun.org/wp-content/uploads/2026/03/Copy-of-DSC03625.jpg
END:VEVENT
BEGIN:VEVENT
DTSTART;TZID=America/Kentucky/Louisville:20260419T100000
DTEND;TZID=America/Kentucky/Louisville:20260419T224500
DTSTAMP:20260425T100942
CREATED:20251123T191956Z
LAST-MODIFIED:20251123T191956Z
UID:10013027-1776592800-1776638700@www.buckrun.org
SUMMARY:Sunday School
DESCRIPTION:https://www.buckrun.org/kids/ \nStudents \n \nhttps://www.buckrun.org/ministries/adultdiscipleship/
URL:https://www.buckrun.org/events/sunday-school-2026-2026-01-11/2026-04-19/
END:VEVENT
BEGIN:VEVENT
DTSTART;TZID=America/Kentucky/Louisville:20260419T110000
DTEND;TZID=America/Kentucky/Louisville:20260419T121500
DTSTAMP:20260425T100942
CREATED:20251123T191516Z
LAST-MODIFIED:20260331T222336Z
UID:10011803-1776596400-1776600900@www.buckrun.org
SUMMARY:Corporate Worship
DESCRIPTION:The gathering of God’s people for corporate worship is the centerpiece of Buck Run’s ministry. This is where our local expression of the body of Christ hears the Word of God proclaimed\, prays and sings together\, and observes baptism and Lord’s Supper. Corporate worship is where God’s people gather to give Him glory. \nWATCH LIVE
URL:https://www.buckrun.org/events/corporate-worship-2026-second-2026-01-11/2026-04-19/
ATTACH;FMTTYPE=image/jpeg:https://www.buckrun.org/wp-content/uploads/2026/03/Copy-of-DSC03625.jpg
END:VEVENT
BEGIN:VEVENT
DTSTART;VALUE=DATE:20260426
DTEND;VALUE=DATE:20260427
DTSTAMP:20260425T100942
CREATED:20251123T192913Z
LAST-MODIFIED:20260422T203825Z
UID:10014291-1777161600-1777247999@www.buckrun.org
SUMMARY:Community Group Sunday
DESCRIPTION:Community Groups are a pivotal ministry in the lives of our members. It is in these groups that you can be known and cared for. Our groups meet twice a month at various times and locations. \nFind a Community Group
URL:https://www.buckrun.org/events/community-group-sunday-spring-2026-2026-04-26/
CATEGORIES:Community Groups,Featured Events
ATTACH;FMTTYPE=image/jpeg:https://www.buckrun.org/wp-content/uploads/2026/03/Community-Group-Graphic.jpg
END:VEVENT
BEGIN:VEVENT
DTSTART;TZID=America/Kentucky/Louisville:20260426T083000
DTEND;TZID=America/Kentucky/Louisville:20260426T094500
DTSTAMP:20260425T100942
CREATED:20251123T190827Z
LAST-MODIFIED:20260331T222426Z
UID:10010580-1777192200-1777196700@www.buckrun.org
SUMMARY:Corporate Worship
DESCRIPTION:The gathering of God’s people for corporate worship is the centerpiece of Buck Run’s ministry. This is where our local expression of the body of Christ hears the Word of God proclaimed\, prays and sings together\, and observes baptism and Lord’s Supper. Corporate worship is where God’s people gather to give Him glory. \nWATCH LIVE
URL:https://www.buckrun.org/events/corporate-worship-2026-first-2026-01-11/2026-04-26/
ATTACH;FMTTYPE=image/jpeg:https://www.buckrun.org/wp-content/uploads/2026/03/Copy-of-DSC03625.jpg
END:VEVENT
BEGIN:VEVENT
DTSTART;TZID=America/Kentucky/Louisville:20260426T100000
DTEND;TZID=America/Kentucky/Louisville:20260426T224500
DTSTAMP:20260425T100942
CREATED:20251123T191956Z
LAST-MODIFIED:20251123T191956Z
UID:10013028-1777197600-1777243500@www.buckrun.org
SUMMARY:Sunday School
DESCRIPTION:https://www.buckrun.org/kids/ \nStudents \n \nhttps://www.buckrun.org/ministries/adultdiscipleship/
URL:https://www.buckrun.org/events/sunday-school-2026-2026-01-11/2026-04-26/
END:VEVENT
BEGIN:VEVENT
DTSTART;TZID=America/Kentucky/Louisville:20260426T110000
DTEND;TZID=America/Kentucky/Louisville:20260426T121500
DTSTAMP:20260425T100942
CREATED:20251123T191516Z
LAST-MODIFIED:20260331T222336Z
UID:10011804-1777201200-1777205700@www.buckrun.org
SUMMARY:Corporate Worship
DESCRIPTION:The gathering of God’s people for corporate worship is the centerpiece of Buck Run’s ministry. This is where our local expression of the body of Christ hears the Word of God proclaimed\, prays and sings together\, and observes baptism and Lord’s Supper. Corporate worship is where God’s people gather to give Him glory. \nWATCH LIVE
URL:https://www.buckrun.org/events/corporate-worship-2026-second-2026-01-11/2026-04-26/
ATTACH;FMTTYPE=image/jpeg:https://www.buckrun.org/wp-content/uploads/2026/03/Copy-of-DSC03625.jpg
END:VEVENT
BEGIN:VEVENT
DTSTART;TZID=America/Kentucky/Louisville:20260503T083000
DTEND;TZID=America/Kentucky/Louisville:20260503T094500
DTSTAMP:20260425T100942
CREATED:20251123T190827Z
LAST-MODIFIED:20260331T222426Z
UID:10010581-1777797000-1777801500@www.buckrun.org
SUMMARY:Corporate Worship
DESCRIPTION:The gathering of God’s people for corporate worship is the centerpiece of Buck Run’s ministry. This is where our local expression of the body of Christ hears the Word of God proclaimed\, prays and sings together\, and observes baptism and Lord’s Supper. Corporate worship is where God’s people gather to give Him glory. \nWATCH LIVE
URL:https://www.buckrun.org/events/corporate-worship-2026-first-2026-01-11/2026-05-03/
ATTACH;FMTTYPE=image/jpeg:https://www.buckrun.org/wp-content/uploads/2026/03/Copy-of-DSC03625.jpg
END:VEVENT
BEGIN:VEVENT
DTSTART;TZID=America/Kentucky/Louisville:20260503T100000
DTEND;TZID=America/Kentucky/Louisville:20260503T224500
DTSTAMP:20260425T100942
CREATED:20251123T191956Z
LAST-MODIFIED:20251123T191956Z
UID:10013029-1777802400-1777848300@www.buckrun.org
SUMMARY:Sunday School
DESCRIPTION:https://www.buckrun.org/kids/ \nStudents \n \nhttps://www.buckrun.org/ministries/adultdiscipleship/
URL:https://www.buckrun.org/events/sunday-school-2026-2026-01-11/2026-05-03/
END:VEVENT
BEGIN:VEVENT
DTSTART;TZID=America/Kentucky/Louisville:20260503T110000
DTEND;TZID=America/Kentucky/Louisville:20260503T121500
DTSTAMP:20260425T100942
CREATED:20251123T191516Z
LAST-MODIFIED:20260331T222336Z
UID:10011805-1777806000-1777810500@www.buckrun.org
SUMMARY:Corporate Worship
DESCRIPTION:The gathering of God’s people for corporate worship is the centerpiece of Buck Run’s ministry. This is where our local expression of the body of Christ hears the Word of God proclaimed\, prays and sings together\, and observes baptism and Lord’s Supper. Corporate worship is where God’s people gather to give Him glory. \nWATCH LIVE
URL:https://www.buckrun.org/events/corporate-worship-2026-second-2026-01-11/2026-05-03/
ATTACH;FMTTYPE=image/jpeg:https://www.buckrun.org/wp-content/uploads/2026/03/Copy-of-DSC03625.jpg
END:VEVENT
BEGIN:VEVENT
DTSTART;TZID=America/Kentucky/Louisville:20260503T180000
DTEND;TZID=America/Kentucky/Louisville:20260503T190000
DTSTAMP:20260425T100942
CREATED:20251123T193253Z
LAST-MODIFIED:20260422T203825Z
UID:10014292-1777831200-1777834800@www.buckrun.org
SUMMARY:Family Meeting
DESCRIPTION:Our quarterly Family Meeting’s are an important time for us to gather together to hear updates regarding what’s happening in our body. Every Family Meeting is followed by a fellowship where we seek to build community with one another. \nThere are activities for Kids and Students during the Family Meeting\, though we encourage all members\, regardless of age\, to attend the meeting.
URL:https://www.buckrun.org/events/family-meeting-2026-05-03/
CATEGORIES:Featured Events
ATTACH;FMTTYPE=image/jpeg:https://www.buckrun.org/wp-content/uploads/2025/11/Family-Meeting-2026-05.jpg
END:VEVENT
BEGIN:VEVENT
DTSTART;TZID=America/Kentucky/Louisville:20260510T083000
DTEND;TZID=America/Kentucky/Louisville:20260510T094500
DTSTAMP:20260425T100942
CREATED:20251123T190827Z
LAST-MODIFIED:20260331T222426Z
UID:10010582-1778401800-1778406300@www.buckrun.org
SUMMARY:Corporate Worship
DESCRIPTION:The gathering of God’s people for corporate worship is the centerpiece of Buck Run’s ministry. This is where our local expression of the body of Christ hears the Word of God proclaimed\, prays and sings together\, and observes baptism and Lord’s Supper. Corporate worship is where God’s people gather to give Him glory. \nWATCH LIVE
URL:https://www.buckrun.org/events/corporate-worship-2026-first-2026-01-11/2026-05-10/
ATTACH;FMTTYPE=image/jpeg:https://www.buckrun.org/wp-content/uploads/2026/03/Copy-of-DSC03625.jpg
END:VEVENT
BEGIN:VEVENT
DTSTART;TZID=America/Kentucky/Louisville:20260510T100000
DTEND;TZID=America/Kentucky/Louisville:20260510T224500
DTSTAMP:20260425T100942
CREATED:20251123T191956Z
LAST-MODIFIED:20251123T191956Z
UID:10013030-1778407200-1778453100@www.buckrun.org
SUMMARY:Sunday School
DESCRIPTION:https://www.buckrun.org/kids/ \nStudents \n \nhttps://www.buckrun.org/ministries/adultdiscipleship/
URL:https://www.buckrun.org/events/sunday-school-2026-2026-01-11/2026-05-10/
END:VEVENT
BEGIN:VEVENT
DTSTART;TZID=America/Kentucky/Louisville:20260510T110000
DTEND;TZID=America/Kentucky/Louisville:20260510T121500
DTSTAMP:20260425T100942
CREATED:20251123T191516Z
LAST-MODIFIED:20260331T222336Z
UID:10011806-1778410800-1778415300@www.buckrun.org
SUMMARY:Corporate Worship
DESCRIPTION:The gathering of God’s people for corporate worship is the centerpiece of Buck Run’s ministry. This is where our local expression of the body of Christ hears the Word of God proclaimed\, prays and sings together\, and observes baptism and Lord’s Supper. Corporate worship is where God’s people gather to give Him glory. \nWATCH LIVE
URL:https://www.buckrun.org/events/corporate-worship-2026-second-2026-01-11/2026-05-10/
ATTACH;FMTTYPE=image/jpeg:https://www.buckrun.org/wp-content/uploads/2026/03/Copy-of-DSC03625.jpg
END:VEVENT
BEGIN:VEVENT
DTSTART;VALUE=DATE:20260517
DTEND;VALUE=DATE:20260518
DTSTAMP:20260425T100942
CREATED:20260215T191146Z
LAST-MODIFIED:20260422T203825Z
UID:10014356-1778976000-1779062399@www.buckrun.org
SUMMARY:Communion Sunday
DESCRIPTION:We will conclude our worship service by partaking in communion. Those who would prefer gluten-free bread can pick it up before the service at the Guest Center.
URL:https://www.buckrun.org/events/communion-sunday-2026-05-17/
CATEGORIES:Featured Events
ATTACH;FMTTYPE=image/jpeg:https://www.buckrun.org/wp-content/uploads/2026/03/communion.jpeg
END:VEVENT
BEGIN:VEVENT
DTSTART;TZID=America/Kentucky/Louisville:20260517T083000
DTEND;TZID=America/Kentucky/Louisville:20260517T094500
DTSTAMP:20260425T100942
CREATED:20251123T190827Z
LAST-MODIFIED:20260331T222426Z
UID:10010583-1779006600-1779011100@www.buckrun.org
SUMMARY:Corporate Worship
DESCRIPTION:The gathering of God’s people for corporate worship is the centerpiece of Buck Run’s ministry. This is where our local expression of the body of Christ hears the Word of God proclaimed\, prays and sings together\, and observes baptism and Lord’s Supper. Corporate worship is where God’s people gather to give Him glory. \nWATCH LIVE
URL:https://www.buckrun.org/events/corporate-worship-2026-first-2026-01-11/2026-05-17/
ATTACH;FMTTYPE=image/jpeg:https://www.buckrun.org/wp-content/uploads/2026/03/Copy-of-DSC03625.jpg
END:VEVENT
BEGIN:VEVENT
DTSTART;TZID=America/Kentucky/Louisville:20260517T100000
DTEND;TZID=America/Kentucky/Louisville:20260517T224500
DTSTAMP:20260425T100942
CREATED:20251123T191956Z
LAST-MODIFIED:20251123T191956Z
UID:10013031-1779012000-1779057900@www.buckrun.org
SUMMARY:Sunday School
DESCRIPTION:https://www.buckrun.org/kids/ \nStudents \n \nhttps://www.buckrun.org/ministries/adultdiscipleship/
URL:https://www.buckrun.org/events/sunday-school-2026-2026-01-11/2026-05-17/
END:VEVENT
BEGIN:VEVENT
DTSTART;TZID=America/Kentucky/Louisville:20260517T110000
DTEND;TZID=America/Kentucky/Louisville:20260517T121500
DTSTAMP:20260425T100942
CREATED:20251123T191516Z
LAST-MODIFIED:20260331T222336Z
UID:10011807-1779015600-1779020100@www.buckrun.org
SUMMARY:Corporate Worship
DESCRIPTION:The gathering of God’s people for corporate worship is the centerpiece of Buck Run’s ministry. This is where our local expression of the body of Christ hears the Word of God proclaimed\, prays and sings together\, and observes baptism and Lord’s Supper. Corporate worship is where God’s people gather to give Him glory. \nWATCH LIVE
URL:https://www.buckrun.org/events/corporate-worship-2026-second-2026-01-11/2026-05-17/
ATTACH;FMTTYPE=image/jpeg:https://www.buckrun.org/wp-content/uploads/2026/03/Copy-of-DSC03625.jpg
END:VEVENT
BEGIN:VEVENT
DTSTART;TZID=America/Kentucky/Louisville:20260524T083000
DTEND;TZID=America/Kentucky/Louisville:20260524T094500
DTSTAMP:20260425T100942
CREATED:20251123T190827Z
LAST-MODIFIED:20260331T222426Z
UID:10010584-1779611400-1779615900@www.buckrun.org
SUMMARY:Corporate Worship
DESCRIPTION:The gathering of God’s people for corporate worship is the centerpiece of Buck Run’s ministry. This is where our local expression of the body of Christ hears the Word of God proclaimed\, prays and sings together\, and observes baptism and Lord’s Supper. Corporate worship is where God’s people gather to give Him glory. \nWATCH LIVE
URL:https://www.buckrun.org/events/corporate-worship-2026-first-2026-01-11/2026-05-24/
ATTACH;FMTTYPE=image/jpeg:https://www.buckrun.org/wp-content/uploads/2026/03/Copy-of-DSC03625.jpg
END:VEVENT
END:VCALENDAR