BEGIN:VCALENDAR
VERSION:2.0
PRODID:-//Buck Run Baptist Church - ECPv6.15.20//NONSGML v1.0//EN
CALSCALE:GREGORIAN
METHOD:PUBLISH
X-ORIGINAL-URL:https://www.buckrun.org
X-WR-CALDESC:Events for Buck Run Baptist Church
REFRESH-INTERVAL;VALUE=DURATION:PT1H
X-Robots-Tag:noindex
X-PUBLISHED-TTL:PT1H
BEGIN:VTIMEZONE
TZID:America/Kentucky/Louisville
BEGIN:DAYLIGHT
TZOFFSETFROM:-0500
TZOFFSETTO:-0400
TZNAME:EDT
DTSTART:20250309T070000
END:DAYLIGHT
BEGIN:STANDARD
TZOFFSETFROM:-0400
TZOFFSETTO:-0500
TZNAME:EST
DTSTART:20251102T060000
END:STANDARD
BEGIN:DAYLIGHT
TZOFFSETFROM:-0500
TZOFFSETTO:-0400
TZNAME:EDT
DTSTART:20260308T070000
END:DAYLIGHT
BEGIN:STANDARD
TZOFFSETFROM:-0400
TZOFFSETTO:-0500
TZNAME:EST
DTSTART:20261101T060000
END:STANDARD
BEGIN:DAYLIGHT
TZOFFSETFROM:-0500
TZOFFSETTO:-0400
TZNAME:EDT
DTSTART:20270314T070000
END:DAYLIGHT
BEGIN:STANDARD
TZOFFSETFROM:-0400
TZOFFSETTO:-0500
TZNAME:EST
DTSTART:20271107T060000
END:STANDARD
BEGIN:DAYLIGHT
TZOFFSETFROM:-0500
TZOFFSETTO:-0400
TZNAME:EDT
DTSTART:20280312T070000
END:DAYLIGHT
BEGIN:STANDARD
TZOFFSETFROM:-0400
TZOFFSETTO:-0500
TZNAME:EST
DTSTART:20281105T060000
END:STANDARD
END:VTIMEZONE
BEGIN:VEVENT
DTSTART;TZID=America/Kentucky/Louisville:20261227T100000
DTEND;TZID=America/Kentucky/Louisville:20261227T110000
DTSTAMP:20260426T002932
CREATED:20260419T131144Z
LAST-MODIFIED:20260419T131206Z
UID:10014381-1798365600-1798369200@www.buckrun.org
SUMMARY:One Worship Service
DESCRIPTION:On Sunday\, December 27 and Sunday\, January 3\, we will have one worship service all together at 10:00am.
URL:https://www.buckrun.org/events/one-worship-service-2026-12-27/
END:VEVENT
BEGIN:VEVENT
DTSTART;TZID=America/Kentucky/Louisville:20261227T100000
DTEND;TZID=America/Kentucky/Louisville:20261227T224500
DTSTAMP:20260426T002932
CREATED:20251123T191956Z
LAST-MODIFIED:20251123T191956Z
UID:10013063-1798365600-1798411500@www.buckrun.org
SUMMARY:Sunday School
DESCRIPTION:https://www.buckrun.org/kids/ \nStudents \n \nhttps://www.buckrun.org/ministries/adultdiscipleship/
URL:https://www.buckrun.org/events/sunday-school-2026-2026-01-11/2026-12-27/
END:VEVENT
BEGIN:VEVENT
DTSTART;TZID=America/Kentucky/Louisville:20261227T110000
DTEND;TZID=America/Kentucky/Louisville:20261227T121500
DTSTAMP:20260426T002932
CREATED:20251123T191516Z
LAST-MODIFIED:20260331T222336Z
UID:10011839-1798369200-1798373700@www.buckrun.org
SUMMARY:Corporate Worship
DESCRIPTION:The gathering of God’s people for corporate worship is the centerpiece of Buck Run’s ministry. This is where our local expression of the body of Christ hears the Word of God proclaimed\, prays and sings together\, and observes baptism and Lord’s Supper. Corporate worship is where God’s people gather to give Him glory. \nWATCH LIVE
URL:https://www.buckrun.org/events/corporate-worship-2026-second-2026-01-11/2026-12-27/
ATTACH;FMTTYPE=image/jpeg:https://www.buckrun.org/wp-content/uploads/2026/03/Copy-of-DSC03625.jpg
END:VEVENT
BEGIN:VEVENT
DTSTART;TZID=America/Kentucky/Louisville:20270103T100000
DTEND;TZID=America/Kentucky/Louisville:20270103T110000
DTSTAMP:20260426T002932
CREATED:20260419T131258Z
LAST-MODIFIED:20260419T131258Z
UID:10014382-1798970400-1798974000@www.buckrun.org
SUMMARY:One Worship Service
DESCRIPTION:On Sunday\, December 27 and Sunday\, January 3\, we will have one worship service all together at 10:00am.
URL:https://www.buckrun.org/events/one-worship-service-2027-01-03/
END:VEVENT
END:VCALENDAR