BEGIN:VCALENDAR
VERSION:2.0
PRODID:-//Buck Run Baptist Church - ECPv6.15.20//NONSGML v1.0//EN
CALSCALE:GREGORIAN
METHOD:PUBLISH
X-WR-CALNAME:Buck Run Baptist Church
X-ORIGINAL-URL:https://www.buckrun.org
X-WR-CALDESC:Events for Buck Run Baptist Church
REFRESH-INTERVAL;VALUE=DURATION:PT1H
X-Robots-Tag:noindex
X-PUBLISHED-TTL:PT1H
BEGIN:VTIMEZONE
TZID:America/Kentucky/Louisville
BEGIN:DAYLIGHT
TZOFFSETFROM:-0500
TZOFFSETTO:-0400
TZNAME:EDT
DTSTART:20240310T070000
END:DAYLIGHT
BEGIN:STANDARD
TZOFFSETFROM:-0400
TZOFFSETTO:-0500
TZNAME:EST
DTSTART:20241103T060000
END:STANDARD
BEGIN:DAYLIGHT
TZOFFSETFROM:-0500
TZOFFSETTO:-0400
TZNAME:EDT
DTSTART:20250309T070000
END:DAYLIGHT
BEGIN:STANDARD
TZOFFSETFROM:-0400
TZOFFSETTO:-0500
TZNAME:EST
DTSTART:20251102T060000
END:STANDARD
BEGIN:DAYLIGHT
TZOFFSETFROM:-0500
TZOFFSETTO:-0400
TZNAME:EDT
DTSTART:20260308T070000
END:DAYLIGHT
BEGIN:STANDARD
TZOFFSETFROM:-0400
TZOFFSETTO:-0500
TZNAME:EST
DTSTART:20261101T060000
END:STANDARD
BEGIN:DAYLIGHT
TZOFFSETFROM:-0500
TZOFFSETTO:-0400
TZNAME:EDT
DTSTART:20270314T070000
END:DAYLIGHT
BEGIN:STANDARD
TZOFFSETFROM:-0400
TZOFFSETTO:-0500
TZNAME:EST
DTSTART:20271107T060000
END:STANDARD
END:VTIMEZONE
BEGIN:VEVENT
DTSTART;TZID=America/Kentucky/Louisville:20260208T110000
DTEND;TZID=America/Kentucky/Louisville:20260208T121500
DTSTAMP:20260425T113736
CREATED:20251123T191516Z
LAST-MODIFIED:20260331T222336Z
UID:10011794-1770548400-1770552900@www.buckrun.org
SUMMARY:Corporate Worship
DESCRIPTION:The gathering of God’s people for corporate worship is the centerpiece of Buck Run’s ministry. This is where our local expression of the body of Christ hears the Word of God proclaimed\, prays and sings together\, and observes baptism and Lord’s Supper. Corporate worship is where God’s people gather to give Him glory. \nWATCH LIVE
URL:https://www.buckrun.org/events/corporate-worship-2026-second-2026-01-11/2026-02-08/
ATTACH;FMTTYPE=image/jpeg:https://www.buckrun.org/wp-content/uploads/2026/03/Copy-of-DSC03625.jpg
END:VEVENT
BEGIN:VEVENT
DTSTART;TZID=America/Kentucky/Louisville:20260208T100000
DTEND;TZID=America/Kentucky/Louisville:20260208T224500
DTSTAMP:20260425T113736
CREATED:20251123T191956Z
LAST-MODIFIED:20251123T191956Z
UID:10013017-1770544800-1770590700@www.buckrun.org
SUMMARY:Sunday School
DESCRIPTION:https://www.buckrun.org/kids/ \nStudents \n \nhttps://www.buckrun.org/ministries/adultdiscipleship/
URL:https://www.buckrun.org/events/sunday-school-2026-2026-01-11/2026-02-08/
END:VEVENT
BEGIN:VEVENT
DTSTART;TZID=America/Kentucky/Louisville:20260208T083000
DTEND;TZID=America/Kentucky/Louisville:20260208T094500
DTSTAMP:20260425T113736
CREATED:20251123T190827Z
LAST-MODIFIED:20260331T222426Z
UID:10010570-1770539400-1770543900@www.buckrun.org
SUMMARY:Corporate Worship
DESCRIPTION:The gathering of God’s people for corporate worship is the centerpiece of Buck Run’s ministry. This is where our local expression of the body of Christ hears the Word of God proclaimed\, prays and sings together\, and observes baptism and Lord’s Supper. Corporate worship is where God’s people gather to give Him glory. \nWATCH LIVE
URL:https://www.buckrun.org/events/corporate-worship-2026-first-2026-01-11/2026-02-08/
ATTACH;FMTTYPE=image/jpeg:https://www.buckrun.org/wp-content/uploads/2026/03/Copy-of-DSC03625.jpg
END:VEVENT
BEGIN:VEVENT
DTSTART;VALUE=DATE:20260208
DTEND;VALUE=DATE:20260209
DTSTAMP:20260425T113736
CREATED:20260215T190822Z
LAST-MODIFIED:20260215T190822Z
UID:10014354-1770508800-1770595199@www.buckrun.org
SUMMARY:Communion Sunday
DESCRIPTION:We will conclude our worship service by partaking in communion. Those who would prefer gluten-free bread can pick it up before the service at the Guest Center
URL:https://www.buckrun.org/events/communion-sunday-2026-02-08/
ATTACH;FMTTYPE=image/jpeg:https://www.buckrun.org/wp-content/uploads/2026/03/communion.jpeg
END:VEVENT
BEGIN:VEVENT
DTSTART;VALUE=DATE:20260208
DTEND;VALUE=DATE:20260209
DTSTAMP:20260425T113736
CREATED:20251123T192913Z
LAST-MODIFIED:20251123T192913Z
UID:10014277-1770508800-1770595199@www.buckrun.org
SUMMARY:Community Group Sunday
DESCRIPTION:Community Groups are a pivotal ministry in the lives of our members. It is in these groups that you can be known and cared for. Our groups meet twice a month at various times and locations. \nFind a Community Group
URL:https://www.buckrun.org/events/community-group-sunday-spring-2026/2026-02-08/
ATTACH;FMTTYPE=image/jpeg:https://www.buckrun.org/wp-content/uploads/2026/03/Community-Group-Graphic.jpg
END:VEVENT
BEGIN:VEVENT
DTSTART;TZID=America/Kentucky/Louisville:20260201T110000
DTEND;TZID=America/Kentucky/Louisville:20260201T121500
DTSTAMP:20260425T113736
CREATED:20251123T191516Z
LAST-MODIFIED:20260331T222336Z
UID:10011793-1769943600-1769948100@www.buckrun.org
SUMMARY:Corporate Worship
DESCRIPTION:The gathering of God’s people for corporate worship is the centerpiece of Buck Run’s ministry. This is where our local expression of the body of Christ hears the Word of God proclaimed\, prays and sings together\, and observes baptism and Lord’s Supper. Corporate worship is where God’s people gather to give Him glory. \nWATCH LIVE
URL:https://www.buckrun.org/events/corporate-worship-2026-second-2026-01-11/2026-02-01/
ATTACH;FMTTYPE=image/jpeg:https://www.buckrun.org/wp-content/uploads/2026/03/Copy-of-DSC03625.jpg
END:VEVENT
BEGIN:VEVENT
DTSTART;TZID=America/Kentucky/Louisville:20260201T100000
DTEND;TZID=America/Kentucky/Louisville:20260201T224500
DTSTAMP:20260425T113736
CREATED:20251123T191956Z
LAST-MODIFIED:20251123T191956Z
UID:10013016-1769940000-1769985900@www.buckrun.org
SUMMARY:Sunday School
DESCRIPTION:https://www.buckrun.org/kids/ \nStudents \n \nhttps://www.buckrun.org/ministries/adultdiscipleship/
URL:https://www.buckrun.org/events/sunday-school-2026-2026-01-11/2026-02-01/
END:VEVENT
BEGIN:VEVENT
DTSTART;TZID=America/Kentucky/Louisville:20260201T083000
DTEND;TZID=America/Kentucky/Louisville:20260201T094500
DTSTAMP:20260425T113736
CREATED:20251123T190827Z
LAST-MODIFIED:20260331T222426Z
UID:10010569-1769934600-1769939100@www.buckrun.org
SUMMARY:Corporate Worship
DESCRIPTION:The gathering of God’s people for corporate worship is the centerpiece of Buck Run’s ministry. This is where our local expression of the body of Christ hears the Word of God proclaimed\, prays and sings together\, and observes baptism and Lord’s Supper. Corporate worship is where God’s people gather to give Him glory. \nWATCH LIVE
URL:https://www.buckrun.org/events/corporate-worship-2026-first-2026-01-11/2026-02-01/
ATTACH;FMTTYPE=image/jpeg:https://www.buckrun.org/wp-content/uploads/2026/03/Copy-of-DSC03625.jpg
END:VEVENT
BEGIN:VEVENT
DTSTART;TZID=America/Kentucky/Louisville:20260128T183000
DTEND;TZID=America/Kentucky/Louisville:20260128T183000
DTSTAMP:20260425T113736
CREATED:20220925T200338Z
LAST-MODIFIED:20220925T200338Z
UID:10010166-1769625000-1769625000@www.buckrun.org
SUMMARY:Orphan's Care Alliance
DESCRIPTION:Orphan Care Alliance is a monthly gathering for adoptive and foster families to find encouragement and have practical discussions to benefit your home.
URL:https://www.buckrun.org/events/orphans-care-alliance-2022-09/2026-01-28/
LOCATION:Buck Run – Room 105\, 1950 Leestown Road\, Frankfort\, 40601\, United States
ATTACH;FMTTYPE=image/jpeg:https://www.buckrun.org/wp-content/uploads/2026/03/orphans_care.jpeg
END:VEVENT
BEGIN:VEVENT
DTSTART;TZID=America/Kentucky/Louisville:20260124T090000
DTEND;TZID=America/Kentucky/Louisville:20260124T221500
DTSTAMP:20260425T113736
CREATED:20260124T233134Z
LAST-MODIFIED:20260124T233134Z
UID:10014347-1769245200-1769292900@www.buckrun.org
SUMMARY:Saturday Worship Service
DESCRIPTION:We are expecting severe weather this weekend\, but we still want to gather as a church. We are moving our Sunday morning gathering to one service on Saturday\, January 24\, at 9 a.m. We will not offer Kids Ministry for this service. \nPlease make wise travel decisions for your family for the Saturday service. We cannot predict precisely when the snow will roll in. We look forward to worshiping with you all.
URL:https://www.buckrun.org/events/saturday-worship-service-2026-01-24/
ATTACH;FMTTYPE=image/png:https://www.buckrun.org/wp-content/uploads/2026/03/No-Midweek-tonight-Presentation-5.png
END:VEVENT
BEGIN:VEVENT
DTSTART;TZID=America/Kentucky/Louisville:20260118T110000
DTEND;TZID=America/Kentucky/Louisville:20260118T121500
DTSTAMP:20260425T113736
CREATED:20251123T191516Z
LAST-MODIFIED:20260331T222336Z
UID:10011792-1768734000-1768738500@www.buckrun.org
SUMMARY:Corporate Worship
DESCRIPTION:The gathering of God’s people for corporate worship is the centerpiece of Buck Run’s ministry. This is where our local expression of the body of Christ hears the Word of God proclaimed\, prays and sings together\, and observes baptism and Lord’s Supper. Corporate worship is where God’s people gather to give Him glory. \nWATCH LIVE
URL:https://www.buckrun.org/events/corporate-worship-2026-second-2026-01-11/2026-01-18/
ATTACH;FMTTYPE=image/jpeg:https://www.buckrun.org/wp-content/uploads/2026/03/Copy-of-DSC03625.jpg
END:VEVENT
BEGIN:VEVENT
DTSTART;TZID=America/Kentucky/Louisville:20260118T100000
DTEND;TZID=America/Kentucky/Louisville:20260118T224500
DTSTAMP:20260425T113736
CREATED:20251123T191956Z
LAST-MODIFIED:20251123T191956Z
UID:10013015-1768730400-1768776300@www.buckrun.org
SUMMARY:Sunday School
DESCRIPTION:https://www.buckrun.org/kids/ \nStudents \n \nhttps://www.buckrun.org/ministries/adultdiscipleship/
URL:https://www.buckrun.org/events/sunday-school-2026-2026-01-11/2026-01-18/
END:VEVENT
BEGIN:VEVENT
DTSTART;TZID=America/Kentucky/Louisville:20260118T083000
DTEND;TZID=America/Kentucky/Louisville:20260118T094500
DTSTAMP:20260425T113736
CREATED:20251123T190827Z
LAST-MODIFIED:20260331T222426Z
UID:10010568-1768725000-1768729500@www.buckrun.org
SUMMARY:Corporate Worship
DESCRIPTION:The gathering of God’s people for corporate worship is the centerpiece of Buck Run’s ministry. This is where our local expression of the body of Christ hears the Word of God proclaimed\, prays and sings together\, and observes baptism and Lord’s Supper. Corporate worship is where God’s people gather to give Him glory. \nWATCH LIVE
URL:https://www.buckrun.org/events/corporate-worship-2026-first-2026-01-11/2026-01-18/
ATTACH;FMTTYPE=image/jpeg:https://www.buckrun.org/wp-content/uploads/2026/03/Copy-of-DSC03625.jpg
END:VEVENT
BEGIN:VEVENT
DTSTART;TZID=America/Kentucky/Louisville:20260114T183000
DTEND;TZID=America/Kentucky/Louisville:20260114T193000
DTSTAMP:20260425T113736
CREATED:20260111T194050Z
LAST-MODIFIED:20260111T194050Z
UID:10014341-1768415400-1768419000@www.buckrun.org
SUMMARY:New Midweek Classes Begin
DESCRIPTION:Spiritual Disciplines | Frank Benton | Room 102\nAs we embark on a new year\, what better time to be encouraged and challenged to grow spiritually? As we examine the spiritual disciplines the Lord has provided for us\, we will strive to practice these disciplines out of gratitude for the grace he has saved us with and to incorporate them into our lives as believers with the primary goal of growing in godliness. \nReading Group: The Unsaved Christian | Ben Pinkston | Room 100\nWe are surrounded by people in our families\, neighborhoods\, and workplaces that could be called “cultural Christians”. They would claim to be believers and may even attend church from time to time\, but they don’t know Jesus. We need to be reminded that these people are just as lost as anyone who claims to be an atheist or part of some other religion. By studying Dean Inserra’s book\, “The Unsaved Christian”\, this class will focus on identifying and reaching “cultural Christians” with the gospel. The book can be purchased here. \nJude | Dr. Chris Parrish | Sanctuary\nJude\, the brother of Jesus\, writes to the church to “contend for the faith that was once for all delivered to the saints.” Few messages could be more relevant to our current cultural moment. In light of the resurrection and coming return of Jesus\, we must hold fast to the Gospel. In this class\, we’ll examine Jude’s letter line to line to grow in our knowledge and love of the Lord. \nMom to Mom | Kari VanHoose | Room 101\nThe heart of Mom to Mom is to connect moms who are in the trenches of parenting with those seasoned moms of Buck Run who have already raised all of their children to adulthood. Additionally\, moms of all stages can connect and spur one another on. Join us for Biblically based teaching\, fellowship\, and encouragement. Parenting can be challenging\, no matter the age of the children. Come rest\, connect and be encouraged! \nWorship Choir | Adrian Mathenia | Rehearsal Hall\nThe Worship Choir regularly leads the congregation in worship and participates in special services. Join this joyful group of people each week as they rehearse musical pieces for singers of all experience levels. \nRegister
URL:https://www.buckrun.org/events/new-midweek-classes-begin-2026-01-14/
ATTACH;FMTTYPE=image/jpeg:https://www.buckrun.org/wp-content/uploads/2026/03/Midweek-2025-Day-Time-Wide.jpg
END:VEVENT
BEGIN:VEVENT
DTSTART;TZID=America/Kentucky/Louisville:20260111T110000
DTEND;TZID=America/Kentucky/Louisville:20260111T121500
DTSTAMP:20260425T113736
CREATED:20251123T191516Z
LAST-MODIFIED:20260331T222336Z
UID:10011791-1768129200-1768133700@www.buckrun.org
SUMMARY:Corporate Worship
DESCRIPTION:The gathering of God’s people for corporate worship is the centerpiece of Buck Run’s ministry. This is where our local expression of the body of Christ hears the Word of God proclaimed\, prays and sings together\, and observes baptism and Lord’s Supper. Corporate worship is where God’s people gather to give Him glory. \nWATCH LIVE
URL:https://www.buckrun.org/events/corporate-worship-2026-second-2026-01-11/2026-01-11/
ATTACH;FMTTYPE=image/jpeg:https://www.buckrun.org/wp-content/uploads/2026/03/Copy-of-DSC03625.jpg
END:VEVENT
BEGIN:VEVENT
DTSTART;TZID=America/Kentucky/Louisville:20260111T100000
DTEND;TZID=America/Kentucky/Louisville:20260111T224500
DTSTAMP:20260425T113736
CREATED:20251123T191956Z
LAST-MODIFIED:20251123T191956Z
UID:10013014-1768125600-1768171500@www.buckrun.org
SUMMARY:Sunday School
DESCRIPTION:https://www.buckrun.org/kids/ \nStudents \n \nhttps://www.buckrun.org/ministries/adultdiscipleship/
URL:https://www.buckrun.org/events/sunday-school-2026-2026-01-11/2026-01-11/
END:VEVENT
BEGIN:VEVENT
DTSTART;TZID=America/Kentucky/Louisville:20260111T083000
DTEND;TZID=America/Kentucky/Louisville:20260111T094500
DTSTAMP:20260425T113736
CREATED:20251123T190827Z
LAST-MODIFIED:20260331T222426Z
UID:10010567-1768120200-1768124700@www.buckrun.org
SUMMARY:Corporate Worship
DESCRIPTION:The gathering of God’s people for corporate worship is the centerpiece of Buck Run’s ministry. This is where our local expression of the body of Christ hears the Word of God proclaimed\, prays and sings together\, and observes baptism and Lord’s Supper. Corporate worship is where God’s people gather to give Him glory. \nWATCH LIVE
URL:https://www.buckrun.org/events/corporate-worship-2026-first-2026-01-11/2026-01-11/
ATTACH;FMTTYPE=image/jpeg:https://www.buckrun.org/wp-content/uploads/2026/03/Copy-of-DSC03625.jpg
END:VEVENT
BEGIN:VEVENT
DTSTART;VALUE=DATE:20260111
DTEND;VALUE=DATE:20260112
DTSTAMP:20260425T113736
CREATED:20251123T192913Z
LAST-MODIFIED:20251123T192913Z
UID:10014276-1768089600-1768175999@www.buckrun.org
SUMMARY:Community Group Sunday
DESCRIPTION:Community Groups are a pivotal ministry in the lives of our members. It is in these groups that you can be known and cared for. Our groups meet twice a month at various times and locations. \nFind a Community Group
URL:https://www.buckrun.org/events/community-group-sunday-spring-2026/2026-01-11/
ATTACH;FMTTYPE=image/jpeg:https://www.buckrun.org/wp-content/uploads/2026/03/Community-Group-Graphic.jpg
END:VEVENT
BEGIN:VEVENT
DTSTART;TZID=America/Kentucky/Louisville:20251224T183000
DTEND;TZID=America/Kentucky/Louisville:20251224T183000
DTSTAMP:20260425T113736
CREATED:20220925T200338Z
LAST-MODIFIED:20220925T200338Z
UID:10010165-1766601000-1766601000@www.buckrun.org
SUMMARY:Orphan's Care Alliance
DESCRIPTION:Orphan Care Alliance is a monthly gathering for adoptive and foster families to find encouragement and have practical discussions to benefit your home.
URL:https://www.buckrun.org/events/orphans-care-alliance-2022-09/2025-12-24/
LOCATION:Buck Run – Room 105\, 1950 Leestown Road\, Frankfort\, 40601\, United States
ATTACH;FMTTYPE=image/jpeg:https://www.buckrun.org/wp-content/uploads/2026/03/orphans_care.jpeg
END:VEVENT
BEGIN:VEVENT
DTSTART;TZID=America/Kentucky/Louisville:20251224T170000
DTEND;TZID=America/Kentucky/Louisville:20251224T170000
DTSTAMP:20260425T113736
CREATED:20251130T183914Z
LAST-MODIFIED:20251130T183914Z
UID:10014308-1766595600-1766595600@www.buckrun.org
SUMMARY:Christmas Eve Service
DESCRIPTION:
URL:https://www.buckrun.org/events/christmas-eve-service-2025/
ATTACH;FMTTYPE=image/jpeg:https://www.buckrun.org/wp-content/uploads/2026/03/Christmas-Eve-Promo-WIDE.jpg
END:VEVENT
BEGIN:VEVENT
DTSTART;TZID=America/Kentucky/Louisville:20251221T100000
DTEND;TZID=America/Kentucky/Louisville:20251221T104500
DTSTAMP:20260425T113736
CREATED:20250907T165457Z
LAST-MODIFIED:20250907T165457Z
UID:10010559-1766311200-1766313900@www.buckrun.org
SUMMARY:Sunday School
DESCRIPTION:Each Sunday morning we have Sunday School classes for all ages so everyone can learn more about our faith in a learning environment that is focused on their age. \n\nBuck Run Kids\nThe BuckRunKids area comes alive on Sunday mornings at 9:15 with age-appropriate classes for children 5th grade and younger where they will learn about Jesus\, memorize the Word\, and enjoy fun with new and old friends. \nStudent Connect\nStudents gather on Sunday mornings in the Student Room for Connect at both 9:15. We have developed a curriculum that uses both formal teaching and student involvement to create an engaging learning environment. Students learn and interact in peer groups guided by adult leaders. Our curriculum is always Bible-based but covers a wide range of topics meant to give students a well-rounded biblical worldview. \nAdult Discipleship Classes\nBuck Run offers a wide variety of classes designed to deepen your understanding of Scripture while teaching you to apply its timeless truths to life and culture. Most classes last 6 weeks and will range from the study of Scripture to Christian biography\, doctrines\, evangelism\, spiritual disciplines\, and many other options. Classes begin each Sunday morning at 9:15.
URL:https://www.buckrun.org/events/sunday-school-fall-2025/2025-12-21/
ATTACH;FMTTYPE=image/jpeg:https://www.buckrun.org/wp-content/uploads/2026/03/Copy-of-DSC03260.jpg
END:VEVENT
BEGIN:VEVENT
DTSTART;VALUE=DATE:20251221
DTEND;VALUE=DATE:20251222
DTSTAMP:20260425T113736
CREATED:20240922T184502Z
LAST-MODIFIED:20240922T184502Z
UID:10010426-1766275200-1766361599@www.buckrun.org
SUMMARY:Communion Sunday
DESCRIPTION:We will conclude our worship service by partaking in communion. Those who would prefer gluten-free bread can pick it up before the service at the Guest Center.
URL:https://www.buckrun.org/events/communion-2025-12-21/
ATTACH;FMTTYPE=image/jpeg:https://www.buckrun.org/wp-content/uploads/2026/03/communion.jpeg
END:VEVENT
BEGIN:VEVENT
DTSTART;TZID=America/Kentucky/Louisville:20251219T190000
DTEND;TZID=America/Kentucky/Louisville:20251219T190000
DTSTAMP:20260425T113736
CREATED:20251130T191206Z
LAST-MODIFIED:20251130T191206Z
UID:10014309-1766170800-1766170800@www.buckrun.org
SUMMARY:Christmas Concert
DESCRIPTION:
URL:https://www.buckrun.org/events/christmas-concert-2025/
ATTACH;FMTTYPE=image/jpeg:https://www.buckrun.org/wp-content/uploads/2026/03/Christmas-Concert-2025.jpg
END:VEVENT
BEGIN:VEVENT
DTSTART;TZID=America/Kentucky/Louisville:20251214T120000
DTEND;TZID=America/Kentucky/Louisville:20251214T120000
DTSTAMP:20260425T113736
CREATED:20251130T191659Z
LAST-MODIFIED:20251130T191659Z
UID:10014310-1765713600-1765713600@www.buckrun.org
SUMMARY:Walk to the Manger
DESCRIPTION:
URL:https://www.buckrun.org/events/walk-to-the-manger-2025-second/
ATTACH;FMTTYPE=image/jpeg:https://www.buckrun.org/wp-content/uploads/2026/03/Walk-to-the-Manger-2025.jpg
END:VEVENT
BEGIN:VEVENT
DTSTART;TZID=America/Kentucky/Louisville:20251214T100000
DTEND;TZID=America/Kentucky/Louisville:20251214T104500
DTSTAMP:20260425T113736
CREATED:20250907T165457Z
LAST-MODIFIED:20250907T165457Z
UID:10010558-1765706400-1765709100@www.buckrun.org
SUMMARY:Sunday School
DESCRIPTION:Each Sunday morning we have Sunday School classes for all ages so everyone can learn more about our faith in a learning environment that is focused on their age. \n\nBuck Run Kids\nThe BuckRunKids area comes alive on Sunday mornings at 9:15 with age-appropriate classes for children 5th grade and younger where they will learn about Jesus\, memorize the Word\, and enjoy fun with new and old friends. \nStudent Connect\nStudents gather on Sunday mornings in the Student Room for Connect at both 9:15. We have developed a curriculum that uses both formal teaching and student involvement to create an engaging learning environment. Students learn and interact in peer groups guided by adult leaders. Our curriculum is always Bible-based but covers a wide range of topics meant to give students a well-rounded biblical worldview. \nAdult Discipleship Classes\nBuck Run offers a wide variety of classes designed to deepen your understanding of Scripture while teaching you to apply its timeless truths to life and culture. Most classes last 6 weeks and will range from the study of Scripture to Christian biography\, doctrines\, evangelism\, spiritual disciplines\, and many other options. Classes begin each Sunday morning at 9:15.
URL:https://www.buckrun.org/events/sunday-school-fall-2025/2025-12-14/
ATTACH;FMTTYPE=image/jpeg:https://www.buckrun.org/wp-content/uploads/2026/03/Copy-of-DSC03260.jpg
END:VEVENT
BEGIN:VEVENT
DTSTART;VALUE=DATE:20251214
DTEND;VALUE=DATE:20251215
DTSTAMP:20260425T113736
CREATED:20250824T172015Z
LAST-MODIFIED:20250824T172015Z
UID:10010504-1765670400-1765756799@www.buckrun.org
SUMMARY:Community Group Sunday
DESCRIPTION:Community Groups are a pivotal ministry in the lives of our members. It is in these groups that you can be known and cared for. Our groups meet twice a month at various times and locations. \nFind a Community Group
URL:https://www.buckrun.org/events/community-group-sunday-2025-12-14/
ATTACH;FMTTYPE=image/jpeg:https://www.buckrun.org/wp-content/uploads/2026/03/CG-Slide-01-1.jpg
END:VEVENT
BEGIN:VEVENT
DTSTART;TZID=America/Kentucky/Louisville:20251207T180000
DTEND;TZID=America/Kentucky/Louisville:20251207T190000
DTSTAMP:20260425T113736
CREATED:20250316T175117Z
LAST-MODIFIED:20250316T175117Z
UID:10010485-1765130400-1765134000@www.buckrun.org
SUMMARY:Family Meeting
DESCRIPTION:
URL:https://www.buckrun.org/events/family-meeting-2025-12-07/
ATTACH;FMTTYPE=image/jpeg:https://www.buckrun.org/wp-content/uploads/2026/03/Family-Meeting-2025-12-03.jpg
END:VEVENT
BEGIN:VEVENT
DTSTART;TZID=America/Kentucky/Louisville:20251207T100000
DTEND;TZID=America/Kentucky/Louisville:20251207T104500
DTSTAMP:20260425T113736
CREATED:20250907T165457Z
LAST-MODIFIED:20250907T165457Z
UID:10010557-1765101600-1765104300@www.buckrun.org
SUMMARY:Sunday School
DESCRIPTION:Each Sunday morning we have Sunday School classes for all ages so everyone can learn more about our faith in a learning environment that is focused on their age. \n\nBuck Run Kids\nThe BuckRunKids area comes alive on Sunday mornings at 9:15 with age-appropriate classes for children 5th grade and younger where they will learn about Jesus\, memorize the Word\, and enjoy fun with new and old friends. \nStudent Connect\nStudents gather on Sunday mornings in the Student Room for Connect at both 9:15. We have developed a curriculum that uses both formal teaching and student involvement to create an engaging learning environment. Students learn and interact in peer groups guided by adult leaders. Our curriculum is always Bible-based but covers a wide range of topics meant to give students a well-rounded biblical worldview. \nAdult Discipleship Classes\nBuck Run offers a wide variety of classes designed to deepen your understanding of Scripture while teaching you to apply its timeless truths to life and culture. Most classes last 6 weeks and will range from the study of Scripture to Christian biography\, doctrines\, evangelism\, spiritual disciplines\, and many other options. Classes begin each Sunday morning at 9:15.
URL:https://www.buckrun.org/events/sunday-school-fall-2025/2025-12-07/
ATTACH;FMTTYPE=image/jpeg:https://www.buckrun.org/wp-content/uploads/2026/03/Copy-of-DSC03260.jpg
END:VEVENT
BEGIN:VEVENT
DTSTART;TZID=America/Kentucky/Louisville:20251203T183000
DTEND;TZID=America/Kentucky/Louisville:20251203T193000
DTSTAMP:20260425T113736
CREATED:20251123T185422Z
LAST-MODIFIED:20251123T185422Z
UID:10010566-1764786600-1764790200@www.buckrun.org
SUMMARY:New Midweek Classes Begin
DESCRIPTION:Jesus and the End Times: The Olivet Discourse | Dr. Hershael York | Room 102-103 \nJesus told his disciples about the coming destruction of the Jerusalem Temple\, and on the further historical horizon\, his second coming in judgment and mercy. This portion of Jesus’ teaching\, known as the “Olivet Discourse”\, is recorded in the Synoptic Gospels (Matthew 24-25\, Mark 13\, and Luke 21). Jesus intended that his followers should be aware of what is to come so that they might persevere in faith\, hope\, and joy. By teaching through Jesus’ instruction\, Dr. York will encourage us to be watchful as we look to Jesus’ return. \nMom to Mom | Kari VanHoose | Room 101 \nMom to mom implements Titus 2:4 by facilitating the mentoring of moms who are in the trenches of parenting by those seasoned moms who have already raised all of their children to adulthood. Join us for fellowship\, encouragement and practical ways to glorify God in the busy Christmas season. Parenting is tough and important Kingdom work. Come and rest and be encouraged! \nWorship Choir | Adrian Mathenia | Rehearsal Hall \nThe Worship Choir regularly leads the congregation in worship and participates in special services. Join this joyful group of people each week as they rehearse musical pieces for singers of all experience levels. \nRegister
URL:https://www.buckrun.org/events/new-midweek-classes-begin-2025-12-03/
ATTACH;FMTTYPE=image/png:https://www.buckrun.org/wp-content/uploads/2026/03/Midweek-2025-Wide.png
END:VEVENT
BEGIN:VEVENT
DTSTART;TZID=America/Kentucky/Louisville:20251130T100000
DTEND;TZID=America/Kentucky/Louisville:20251130T104500
DTSTAMP:20260425T113736
CREATED:20250907T165457Z
LAST-MODIFIED:20250907T165457Z
UID:10010556-1764496800-1764499500@www.buckrun.org
SUMMARY:Sunday School
DESCRIPTION:Each Sunday morning we have Sunday School classes for all ages so everyone can learn more about our faith in a learning environment that is focused on their age. \n\nBuck Run Kids\nThe BuckRunKids area comes alive on Sunday mornings at 9:15 with age-appropriate classes for children 5th grade and younger where they will learn about Jesus\, memorize the Word\, and enjoy fun with new and old friends. \nStudent Connect\nStudents gather on Sunday mornings in the Student Room for Connect at both 9:15. We have developed a curriculum that uses both formal teaching and student involvement to create an engaging learning environment. Students learn and interact in peer groups guided by adult leaders. Our curriculum is always Bible-based but covers a wide range of topics meant to give students a well-rounded biblical worldview. \nAdult Discipleship Classes\nBuck Run offers a wide variety of classes designed to deepen your understanding of Scripture while teaching you to apply its timeless truths to life and culture. Most classes last 6 weeks and will range from the study of Scripture to Christian biography\, doctrines\, evangelism\, spiritual disciplines\, and many other options. Classes begin each Sunday morning at 9:15.
URL:https://www.buckrun.org/events/sunday-school-fall-2025/2025-11-30/
ATTACH;FMTTYPE=image/jpeg:https://www.buckrun.org/wp-content/uploads/2026/03/Copy-of-DSC03260.jpg
END:VEVENT
END:VCALENDAR