BEGIN:VCALENDAR
VERSION:2.0
PRODID:-//Buck Run Baptist Church - ECPv6.15.20//NONSGML v1.0//EN
CALSCALE:GREGORIAN
METHOD:PUBLISH
X-WR-CALNAME:Buck Run Baptist Church
X-ORIGINAL-URL:https://www.buckrun.org
X-WR-CALDESC:Events for Buck Run Baptist Church
REFRESH-INTERVAL;VALUE=DURATION:PT1H
X-Robots-Tag:noindex
X-PUBLISHED-TTL:PT1H
BEGIN:VTIMEZONE
TZID:America/Kentucky/Louisville
BEGIN:DAYLIGHT
TZOFFSETFROM:-0500
TZOFFSETTO:-0400
TZNAME:EDT
DTSTART:20250309T070000
END:DAYLIGHT
BEGIN:STANDARD
TZOFFSETFROM:-0400
TZOFFSETTO:-0500
TZNAME:EST
DTSTART:20251102T060000
END:STANDARD
BEGIN:DAYLIGHT
TZOFFSETFROM:-0500
TZOFFSETTO:-0400
TZNAME:EDT
DTSTART:20260308T070000
END:DAYLIGHT
BEGIN:STANDARD
TZOFFSETFROM:-0400
TZOFFSETTO:-0500
TZNAME:EST
DTSTART:20261101T060000
END:STANDARD
BEGIN:DAYLIGHT
TZOFFSETFROM:-0500
TZOFFSETTO:-0400
TZNAME:EDT
DTSTART:20270314T070000
END:DAYLIGHT
BEGIN:STANDARD
TZOFFSETFROM:-0400
TZOFFSETTO:-0500
TZNAME:EST
DTSTART:20271107T060000
END:STANDARD
END:VTIMEZONE
BEGIN:VEVENT
DTSTART;TZID=America/Kentucky/Louisville:20260412T083000
DTEND;TZID=America/Kentucky/Louisville:20260412T094500
DTSTAMP:20260425T113737
CREATED:20251123T190827Z
LAST-MODIFIED:20260331T222426Z
UID:10010578-1775982600-1775987100@www.buckrun.org
SUMMARY:Corporate Worship
DESCRIPTION:The gathering of God’s people for corporate worship is the centerpiece of Buck Run’s ministry. This is where our local expression of the body of Christ hears the Word of God proclaimed\, prays and sings together\, and observes baptism and Lord’s Supper. Corporate worship is where God’s people gather to give Him glory. \nWATCH LIVE
URL:https://www.buckrun.org/events/corporate-worship-2026-first-2026-01-11/2026-04-12/
ATTACH;FMTTYPE=image/jpeg:https://www.buckrun.org/wp-content/uploads/2026/03/Copy-of-DSC03625.jpg
END:VEVENT
BEGIN:VEVENT
DTSTART;VALUE=DATE:20260412
DTEND;VALUE=DATE:20260413
DTSTAMP:20260425T113737
CREATED:20251123T192913Z
LAST-MODIFIED:20260412T144025Z
UID:10014290-1775952000-1776038399@www.buckrun.org
SUMMARY:Community Group Sunday
DESCRIPTION:Community Groups are a pivotal ministry in the lives of our members. It is in these groups that you can be known and cared for. Our groups meet twice a month at various times and locations. \nFind a Community Group
URL:https://www.buckrun.org/events/community-group-sunday-spring-2026-2026-04-12/
CATEGORIES:Community Groups
ATTACH;FMTTYPE=image/jpeg:https://www.buckrun.org/wp-content/uploads/2026/03/Community-Group-Graphic.jpg
END:VEVENT
BEGIN:VEVENT
DTSTART;TZID=America/Kentucky/Louisville:20260405T110000
DTEND;TZID=America/Kentucky/Louisville:20260405T121500
DTSTAMP:20260425T113737
CREATED:20251123T191516Z
LAST-MODIFIED:20251123T191516Z
UID:10012287-1775386800-1775391300@www.buckrun.org
SUMMARY:Easter Worship
DESCRIPTION:The gathering of God’s people for corporate worship is the centerpiece of Buck Run’s ministry. This is where our local expression of the body of Christ hears the Word of God proclaimed\, prays and sings together\, and observes baptism and Lord’s Supper. Corporate worship is where God’s people gather to give Him glory. \nWATCH LIVE
URL:https://www.buckrun.org/events/easter-worship-2026-second-service/
ATTACH;FMTTYPE=image/jpeg:https://www.buckrun.org/wp-content/uploads/2026/03/Easter-26-Scroll-WIDE.jpg
END:VEVENT
BEGIN:VEVENT
DTSTART;TZID=America/Kentucky/Louisville:20260405T083000
DTEND;TZID=America/Kentucky/Louisville:20260405T094500
DTSTAMP:20260425T113737
CREATED:20251123T190827Z
LAST-MODIFIED:20251123T190827Z
UID:10011063-1775377800-1775382300@www.buckrun.org
SUMMARY:Easter Worship
DESCRIPTION:The gathering of God’s people for corporate worship is the centerpiece of Buck Run’s ministry. This is where our local expression of the body of Christ hears the Word of God proclaimed\, prays and sings together\, and observes baptism and Lord’s Supper. Corporate worship is where God’s people gather to give Him glory. \nWATCH LIVE
URL:https://www.buckrun.org/events/easter-worship-2026-first-service/
ATTACH;FMTTYPE=image/jpeg:https://www.buckrun.org/wp-content/uploads/2026/03/Easter-26-Scroll-WIDE.jpg
END:VEVENT
BEGIN:VEVENT
DTSTART;TZID=America/Kentucky/Louisville:20260403T190000
DTEND;TZID=America/Kentucky/Louisville:20260403T200000
DTSTAMP:20260425T113737
CREATED:20260215T185250Z
LAST-MODIFIED:20260215T185250Z
UID:10014353-1775242800-1775246400@www.buckrun.org
SUMMARY:Good Friday Service
DESCRIPTION:
URL:https://www.buckrun.org/events/good-friday-service-2026/
ATTACH;FMTTYPE=image/jpeg:https://www.buckrun.org/wp-content/uploads/2026/03/Good-Friday-26-Scroll-WIDE.jpg
END:VEVENT
BEGIN:VEVENT
DTSTART;TZID=America/Kentucky/Louisville:20260401T180000
DTEND;TZID=America/Kentucky/Louisville:20260401T193000
DTSTAMP:20260425T113737
CREATED:20260412T124041Z
LAST-MODIFIED:20260412T124109Z
UID:10014371-1775066400-1775071800@www.buckrun.org
SUMMARY:Reach Frankfort Outreach Day
DESCRIPTION:On Wednesday\, April 1\, we will do a Reach Frankfort outreach event from 6:00 p.m. to 7:30 p.m. Groups will go door-to-door in neighborhoods near the church\, asking how they can pray for residents and inviting them to our Easter services. Kids Ministry will be provided at the church from 6:00 p.m. to 7:30 p.m. Student D-Groups will be participating in Reach Frankfort as a group. Click below to sign up for one neighborhood walk. Your team leader will be communicated to you as we approach the event.
URL:https://www.buckrun.org/events/reach-frankfort-outreach-day/
ATTACH;FMTTYPE=image/jpeg:https://www.buckrun.org/wp-content/uploads/2026/04/Reach-Frankfort-Easter-WIDE.jpg
END:VEVENT
BEGIN:VEVENT
DTSTART;TZID=America/Kentucky/Louisville:20260329T180000
DTEND;TZID=America/Kentucky/Louisville:20260329T190000
DTSTAMP:20260425T113737
CREATED:20260111T195246Z
LAST-MODIFIED:20260111T195246Z
UID:10014343-1774807200-1774810800@www.buckrun.org
SUMMARY:Family Meeting
DESCRIPTION:
URL:https://www.buckrun.org/events/family-meeting-2026-03-29/
ATTACH;FMTTYPE=image/jpeg:https://www.buckrun.org/wp-content/uploads/2026/03/2026-03-29-Family-Meeting.jpg
END:VEVENT
BEGIN:VEVENT
DTSTART;TZID=America/Kentucky/Louisville:20260329T110000
DTEND;TZID=America/Kentucky/Louisville:20260329T121500
DTSTAMP:20260425T113737
CREATED:20251123T191516Z
LAST-MODIFIED:20260331T222336Z
UID:10011801-1774782000-1774786500@www.buckrun.org
SUMMARY:Corporate Worship
DESCRIPTION:The gathering of God’s people for corporate worship is the centerpiece of Buck Run’s ministry. This is where our local expression of the body of Christ hears the Word of God proclaimed\, prays and sings together\, and observes baptism and Lord’s Supper. Corporate worship is where God’s people gather to give Him glory. \nWATCH LIVE
URL:https://www.buckrun.org/events/corporate-worship-2026-second-2026-01-11/2026-03-29/
ATTACH;FMTTYPE=image/jpeg:https://www.buckrun.org/wp-content/uploads/2026/03/Copy-of-DSC03625.jpg
END:VEVENT
BEGIN:VEVENT
DTSTART;TZID=America/Kentucky/Louisville:20260329T100000
DTEND;TZID=America/Kentucky/Louisville:20260329T224500
DTSTAMP:20260425T113737
CREATED:20251123T191956Z
LAST-MODIFIED:20251123T191956Z
UID:10013024-1774778400-1774824300@www.buckrun.org
SUMMARY:Sunday School
DESCRIPTION:https://www.buckrun.org/kids/ \nStudents \n \nhttps://www.buckrun.org/ministries/adultdiscipleship/
URL:https://www.buckrun.org/events/sunday-school-2026-2026-01-11/2026-03-29/
END:VEVENT
BEGIN:VEVENT
DTSTART;TZID=America/Kentucky/Louisville:20260329T083000
DTEND;TZID=America/Kentucky/Louisville:20260329T094500
DTSTAMP:20260425T113737
CREATED:20251123T190827Z
LAST-MODIFIED:20260331T222426Z
UID:10010577-1774773000-1774777500@www.buckrun.org
SUMMARY:Corporate Worship
DESCRIPTION:The gathering of God’s people for corporate worship is the centerpiece of Buck Run’s ministry. This is where our local expression of the body of Christ hears the Word of God proclaimed\, prays and sings together\, and observes baptism and Lord’s Supper. Corporate worship is where God’s people gather to give Him glory. \nWATCH LIVE
URL:https://www.buckrun.org/events/corporate-worship-2026-first-2026-01-11/2026-03-29/
ATTACH;FMTTYPE=image/jpeg:https://www.buckrun.org/wp-content/uploads/2026/03/Copy-of-DSC03625.jpg
END:VEVENT
BEGIN:VEVENT
DTSTART;VALUE=DATE:20260329
DTEND;VALUE=DATE:20260330
DTSTAMP:20260425T113737
CREATED:20260215T191021Z
LAST-MODIFIED:20260215T191021Z
UID:10014355-1774742400-1774828799@www.buckrun.org
SUMMARY:Communion Sunday
DESCRIPTION:We will conclude our worship service by partaking in communion. Those who would prefer gluten-free bread can pick it up before the service at the Guest Center.
URL:https://www.buckrun.org/events/communion-sunday-2026-03-29/
ATTACH;FMTTYPE=image/jpeg:https://www.buckrun.org/wp-content/uploads/2026/03/communion.jpeg
END:VEVENT
BEGIN:VEVENT
DTSTART;TZID=America/Kentucky/Louisville:20260325T183000
DTEND;TZID=America/Kentucky/Louisville:20260325T183000
DTSTAMP:20260425T113737
CREATED:20220925T200338Z
LAST-MODIFIED:20220925T200338Z
UID:10010168-1774463400-1774463400@www.buckrun.org
SUMMARY:Orphan's Care Alliance
DESCRIPTION:Orphan Care Alliance is a monthly gathering for adoptive and foster families to find encouragement and have practical discussions to benefit your home.
URL:https://www.buckrun.org/events/orphans-care-alliance-2022-09/2026-03-25/
LOCATION:Buck Run – Room 105\, 1950 Leestown Road\, Frankfort\, 40601\, United States
ATTACH;FMTTYPE=image/jpeg:https://www.buckrun.org/wp-content/uploads/2026/03/orphans_care.jpeg
END:VEVENT
BEGIN:VEVENT
DTSTART;TZID=America/Kentucky/Louisville:20260322T110000
DTEND;TZID=America/Kentucky/Louisville:20260322T121500
DTSTAMP:20260425T113737
CREATED:20251123T191516Z
LAST-MODIFIED:20260331T222336Z
UID:10011800-1774177200-1774181700@www.buckrun.org
SUMMARY:Corporate Worship
DESCRIPTION:The gathering of God’s people for corporate worship is the centerpiece of Buck Run’s ministry. This is where our local expression of the body of Christ hears the Word of God proclaimed\, prays and sings together\, and observes baptism and Lord’s Supper. Corporate worship is where God’s people gather to give Him glory. \nWATCH LIVE
URL:https://www.buckrun.org/events/corporate-worship-2026-second-2026-01-11/2026-03-22/
ATTACH;FMTTYPE=image/jpeg:https://www.buckrun.org/wp-content/uploads/2026/03/Copy-of-DSC03625.jpg
END:VEVENT
BEGIN:VEVENT
DTSTART;TZID=America/Kentucky/Louisville:20260322T100000
DTEND;TZID=America/Kentucky/Louisville:20260322T224500
DTSTAMP:20260425T113737
CREATED:20251123T191956Z
LAST-MODIFIED:20251123T191956Z
UID:10013023-1774173600-1774219500@www.buckrun.org
SUMMARY:Sunday School
DESCRIPTION:https://www.buckrun.org/kids/ \nStudents \n \nhttps://www.buckrun.org/ministries/adultdiscipleship/
URL:https://www.buckrun.org/events/sunday-school-2026-2026-01-11/2026-03-22/
END:VEVENT
BEGIN:VEVENT
DTSTART;TZID=America/Kentucky/Louisville:20260322T083000
DTEND;TZID=America/Kentucky/Louisville:20260322T094500
DTSTAMP:20260425T113737
CREATED:20251123T190827Z
LAST-MODIFIED:20260331T222426Z
UID:10010576-1774168200-1774172700@www.buckrun.org
SUMMARY:Corporate Worship
DESCRIPTION:The gathering of God’s people for corporate worship is the centerpiece of Buck Run’s ministry. This is where our local expression of the body of Christ hears the Word of God proclaimed\, prays and sings together\, and observes baptism and Lord’s Supper. Corporate worship is where God’s people gather to give Him glory. \nWATCH LIVE
URL:https://www.buckrun.org/events/corporate-worship-2026-first-2026-01-11/2026-03-22/
ATTACH;FMTTYPE=image/jpeg:https://www.buckrun.org/wp-content/uploads/2026/03/Copy-of-DSC03625.jpg
END:VEVENT
BEGIN:VEVENT
DTSTART;VALUE=DATE:20260322
DTEND;VALUE=DATE:20260323
DTSTAMP:20260425T113737
CREATED:20251123T192913Z
LAST-MODIFIED:20251123T192913Z
UID:10014280-1774137600-1774223999@www.buckrun.org
SUMMARY:Community Group Sunday
DESCRIPTION:Community Groups are a pivotal ministry in the lives of our members. It is in these groups that you can be known and cared for. Our groups meet twice a month at various times and locations. \nFind a Community Group
URL:https://www.buckrun.org/events/community-group-sunday-spring-2026/2026-03-22/
ATTACH;FMTTYPE=image/jpeg:https://www.buckrun.org/wp-content/uploads/2026/03/Community-Group-Graphic.jpg
END:VEVENT
BEGIN:VEVENT
DTSTART;TZID=America/Kentucky/Louisville:20260315T110000
DTEND;TZID=America/Kentucky/Louisville:20260315T121500
DTSTAMP:20260425T113737
CREATED:20251123T191516Z
LAST-MODIFIED:20260331T222336Z
UID:10011799-1773572400-1773576900@www.buckrun.org
SUMMARY:Corporate Worship
DESCRIPTION:The gathering of God’s people for corporate worship is the centerpiece of Buck Run’s ministry. This is where our local expression of the body of Christ hears the Word of God proclaimed\, prays and sings together\, and observes baptism and Lord’s Supper. Corporate worship is where God’s people gather to give Him glory. \nWATCH LIVE
URL:https://www.buckrun.org/events/corporate-worship-2026-second-2026-01-11/2026-03-15/
ATTACH;FMTTYPE=image/jpeg:https://www.buckrun.org/wp-content/uploads/2026/03/Copy-of-DSC03625.jpg
END:VEVENT
BEGIN:VEVENT
DTSTART;TZID=America/Kentucky/Louisville:20260315T100000
DTEND;TZID=America/Kentucky/Louisville:20260315T224500
DTSTAMP:20260425T113737
CREATED:20251123T191956Z
LAST-MODIFIED:20251123T191956Z
UID:10013022-1773568800-1773614700@www.buckrun.org
SUMMARY:Sunday School
DESCRIPTION:https://www.buckrun.org/kids/ \nStudents \n \nhttps://www.buckrun.org/ministries/adultdiscipleship/
URL:https://www.buckrun.org/events/sunday-school-2026-2026-01-11/2026-03-15/
END:VEVENT
BEGIN:VEVENT
DTSTART;TZID=America/Kentucky/Louisville:20260315T083000
DTEND;TZID=America/Kentucky/Louisville:20260315T094500
DTSTAMP:20260425T113737
CREATED:20251123T190827Z
LAST-MODIFIED:20260331T222426Z
UID:10010575-1773563400-1773567900@www.buckrun.org
SUMMARY:Corporate Worship
DESCRIPTION:The gathering of God’s people for corporate worship is the centerpiece of Buck Run’s ministry. This is where our local expression of the body of Christ hears the Word of God proclaimed\, prays and sings together\, and observes baptism and Lord’s Supper. Corporate worship is where God’s people gather to give Him glory. \nWATCH LIVE
URL:https://www.buckrun.org/events/corporate-worship-2026-first-2026-01-11/2026-03-15/
ATTACH;FMTTYPE=image/jpeg:https://www.buckrun.org/wp-content/uploads/2026/03/Copy-of-DSC03625.jpg
END:VEVENT
BEGIN:VEVENT
DTSTART;TZID=America/Kentucky/Louisville:20260308T110000
DTEND;TZID=America/Kentucky/Louisville:20260308T121500
DTSTAMP:20260425T113737
CREATED:20251123T191516Z
LAST-MODIFIED:20260331T222336Z
UID:10011798-1772967600-1772972100@www.buckrun.org
SUMMARY:Corporate Worship
DESCRIPTION:The gathering of God’s people for corporate worship is the centerpiece of Buck Run’s ministry. This is where our local expression of the body of Christ hears the Word of God proclaimed\, prays and sings together\, and observes baptism and Lord’s Supper. Corporate worship is where God’s people gather to give Him glory. \nWATCH LIVE
URL:https://www.buckrun.org/events/corporate-worship-2026-second-2026-01-11/2026-03-08/
ATTACH;FMTTYPE=image/jpeg:https://www.buckrun.org/wp-content/uploads/2026/03/Copy-of-DSC03625.jpg
END:VEVENT
BEGIN:VEVENT
DTSTART;TZID=America/Kentucky/Louisville:20260308T100000
DTEND;TZID=America/Kentucky/Louisville:20260308T224500
DTSTAMP:20260425T113737
CREATED:20251123T191956Z
LAST-MODIFIED:20251123T191956Z
UID:10013021-1772964000-1773009900@www.buckrun.org
SUMMARY:Sunday School
DESCRIPTION:https://www.buckrun.org/kids/ \nStudents \n \nhttps://www.buckrun.org/ministries/adultdiscipleship/
URL:https://www.buckrun.org/events/sunday-school-2026-2026-01-11/2026-03-08/
END:VEVENT
BEGIN:VEVENT
DTSTART;TZID=America/Kentucky/Louisville:20260308T083000
DTEND;TZID=America/Kentucky/Louisville:20260308T094500
DTSTAMP:20260425T113737
CREATED:20251123T190827Z
LAST-MODIFIED:20260331T222426Z
UID:10010574-1772958600-1772963100@www.buckrun.org
SUMMARY:Corporate Worship
DESCRIPTION:The gathering of God’s people for corporate worship is the centerpiece of Buck Run’s ministry. This is where our local expression of the body of Christ hears the Word of God proclaimed\, prays and sings together\, and observes baptism and Lord’s Supper. Corporate worship is where God’s people gather to give Him glory. \nWATCH LIVE
URL:https://www.buckrun.org/events/corporate-worship-2026-first-2026-01-11/2026-03-08/
ATTACH;FMTTYPE=image/jpeg:https://www.buckrun.org/wp-content/uploads/2026/03/Copy-of-DSC03625.jpg
END:VEVENT
BEGIN:VEVENT
DTSTART;VALUE=DATE:20260308
DTEND;VALUE=DATE:20260310
DTSTAMP:20260425T113737
CREATED:20251123T192913Z
LAST-MODIFIED:20251123T192913Z
UID:10014279-1772928000-1773017999@www.buckrun.org
SUMMARY:Community Group Sunday
DESCRIPTION:Community Groups are a pivotal ministry in the lives of our members. It is in these groups that you can be known and cared for. Our groups meet twice a month at various times and locations. \nFind a Community Group
URL:https://www.buckrun.org/events/community-group-sunday-spring-2026/2026-03-08/
ATTACH;FMTTYPE=image/jpeg:https://www.buckrun.org/wp-content/uploads/2026/03/Community-Group-Graphic.jpg
END:VEVENT
BEGIN:VEVENT
DTSTART;TZID=America/Kentucky/Louisville:20260301T110000
DTEND;TZID=America/Kentucky/Louisville:20260301T121500
DTSTAMP:20260425T113737
CREATED:20251123T191516Z
LAST-MODIFIED:20260331T222336Z
UID:10011797-1772362800-1772367300@www.buckrun.org
SUMMARY:Corporate Worship
DESCRIPTION:The gathering of God’s people for corporate worship is the centerpiece of Buck Run’s ministry. This is where our local expression of the body of Christ hears the Word of God proclaimed\, prays and sings together\, and observes baptism and Lord’s Supper. Corporate worship is where God’s people gather to give Him glory. \nWATCH LIVE
URL:https://www.buckrun.org/events/corporate-worship-2026-second-2026-01-11/2026-03-01/
ATTACH;FMTTYPE=image/jpeg:https://www.buckrun.org/wp-content/uploads/2026/03/Copy-of-DSC03625.jpg
END:VEVENT
BEGIN:VEVENT
DTSTART;TZID=America/Kentucky/Louisville:20260301T100000
DTEND;TZID=America/Kentucky/Louisville:20260301T224500
DTSTAMP:20260425T113737
CREATED:20251123T191956Z
LAST-MODIFIED:20251123T191956Z
UID:10013020-1772359200-1772405100@www.buckrun.org
SUMMARY:Sunday School
DESCRIPTION:https://www.buckrun.org/kids/ \nStudents \n \nhttps://www.buckrun.org/ministries/adultdiscipleship/
URL:https://www.buckrun.org/events/sunday-school-2026-2026-01-11/2026-03-01/
END:VEVENT
BEGIN:VEVENT
DTSTART;TZID=America/Kentucky/Louisville:20260301T100000
DTEND;TZID=America/Kentucky/Louisville:20260301T104500
DTSTAMP:20260425T113737
CREATED:20260215T185106Z
LAST-MODIFIED:20260215T185106Z
UID:10014352-1772359200-1772361900@www.buckrun.org
SUMMARY:The Simplest Way to Change the World
DESCRIPTION:When we look at Jesus’ ministry in the Gospels\, we often find him at a dinner table—eating\, drinking\, and spending time with sinners. A lifestyle of hospitality is a remarkably simple yet effective way to imitate Jesus and invite others to know him as well. Join Ben in this spotlight Adult Discipleship class to consider how you can use your home and current life circumstances as tools for evangelism and discipleship.
URL:https://www.buckrun.org/events/the-simplest-way-to-change-the-world-2026-03-01/
LOCATION:Buck Run Sanctuary
ATTACH;FMTTYPE=image/jpeg:https://www.buckrun.org/wp-content/uploads/2026/03/Spotlight-Change-the-World-WIDE-1.jpg
END:VEVENT
BEGIN:VEVENT
DTSTART;TZID=America/Kentucky/Louisville:20260301T083000
DTEND;TZID=America/Kentucky/Louisville:20260301T094500
DTSTAMP:20260425T113737
CREATED:20251123T190827Z
LAST-MODIFIED:20260331T222426Z
UID:10010573-1772353800-1772358300@www.buckrun.org
SUMMARY:Corporate Worship
DESCRIPTION:The gathering of God’s people for corporate worship is the centerpiece of Buck Run’s ministry. This is where our local expression of the body of Christ hears the Word of God proclaimed\, prays and sings together\, and observes baptism and Lord’s Supper. Corporate worship is where God’s people gather to give Him glory. \nWATCH LIVE
URL:https://www.buckrun.org/events/corporate-worship-2026-first-2026-01-11/2026-03-01/
ATTACH;FMTTYPE=image/jpeg:https://www.buckrun.org/wp-content/uploads/2026/03/Copy-of-DSC03625.jpg
END:VEVENT
BEGIN:VEVENT
DTSTART;VALUE=DATE:20260301
DTEND;VALUE=DATE:20260302
DTSTAMP:20260425T113737
CREATED:20260215T184743Z
LAST-MODIFIED:20260215T184743Z
UID:10014351-1772323200-1772409599@www.buckrun.org
SUMMARY:Deadline: Summer Trips BBQ Fundraiser
DESCRIPTION:This summer\, our Next Gen ministries are taking four trips! Kids and Middle Schoolers will go to camp at Crossings in Cedarmore. Our high schoolers are taking two mission trips to Puerto Rico and Kenya. To help offset the cost of these trips\, we are having a BBQ fundraiser. Smoked ribs and butts can be purchased to be picked up on either Friday\, March 6 between 4-5 pm or Saturday\, March 7 between 4-5 pm. Orders are due by March 1. \nFundraiser Form
URL:https://www.buckrun.org/events/summer-trips-bbq-fundraiser-2026-03-01/
END:VEVENT
BEGIN:VEVENT
DTSTART;VALUE=DATE:20260227
DTEND;VALUE=DATE:20260302
DTSTAMP:20260425T113737
CREATED:20260111T194713Z
LAST-MODIFIED:20260111T194713Z
UID:10014342-1772150400-1772409599@www.buckrun.org
SUMMARY:Marriage Retreat
DESCRIPTION:Registration for our 2026 MarriageRetreat is open through January 25. This year’s speakers are Hershael & Tanya York. They will provide practical and biblical encouragement for your marriage. These teaching times combined with lots of free time will ensure you and your spouse return from Pigeon Forge encouraged and strengthened. The retreat is February 27 – March 1 in Pigeon Forge\, Tennessee. \nRegister
URL:https://www.buckrun.org/events/marriage-retreat-2026/
ATTACH;FMTTYPE=image/jpeg:https://www.buckrun.org/wp-content/uploads/2026/03/2026-Marriage-Retreat-Screens-2_2025-Marriage-Retreat-Wide.jpg
END:VEVENT
BEGIN:VEVENT
DTSTART;TZID=America/Kentucky/Louisville:20260225T183000
DTEND;TZID=America/Kentucky/Louisville:20260225T193000
DTSTAMP:20260425T113737
CREATED:20260215T184605Z
LAST-MODIFIED:20260215T184605Z
UID:10014350-1772044200-1772047800@www.buckrun.org
SUMMARY:New Midweek Classes Begin
DESCRIPTION:The Psalms | Dr. Chris Parrish | Sanctuary \nThe Psalms are the hymnbook of the church and express the full range of Christian experience. For this class\, we’ll explore this biblical genre in general and then dive into a few select Psalms. Come join us as we enjoy the beauty and depth of the Word of God in the Psalms. \nReading Group: The Air We Breathe | JP McCammon | Room 100 \n“The Air We Breathe” explores how the dominant values in Western society have their roots in Biblical Christianity. For believers\, recognizing this moral foundation will illuminate the culture-shaping nature of the gospel. It will also equip us to find common ground over which we can share the message of the gospel with those who currently reject it. The book can be purchased here. \nLamentations | Dr. Wesley Noss | Room 102 \nEver wondered what faith sounds like when everything falls apart? The book of Lamentations doesn’t sugarcoat pain or rush to easy answers. Lamentations gives voice to grief\, guilt\, and hope after God’s judgment fell on Judah. It wrestles honestly with suffering while affirming God’s justice and steadfast love. Yet somehow\, in the middle of grief\, hope dares to whisper. This study invites us to explore raw prayers\, honest tears\, and a faith bold enough to speak to God from the depths. If you’ve ever asked “Where is God in this?”—Lamentations is a place where that question is not only allowed\, but holy. \nOrphan Care Alliance | Cheri Farley | Room 101 \nFoster care and adoptive parents join us as we learn biblically how to care for our teens/ children who have childhood trauma as part of their story. Learn about blocked care and how we can healthily move toward connection with our children. Each week will be led by Christian trauma counselors. \nWorship Choir | Adrian Mathenia | Rehearsal Hall \nThe Worship Choir regularly leads the congregation in worship and participates in special services. Join this joyful group of people each week as they rehearse musical pieces for singers of all experience levels.
URL:https://www.buckrun.org/events/new-midweek-classes-begin-2026-02-25/
ATTACH;FMTTYPE=image/jpeg:https://www.buckrun.org/wp-content/uploads/2026/03/Midweek-2025-Wide-2.jpg
END:VEVENT
END:VCALENDAR