BEGIN:VCALENDAR
VERSION:2.0
PRODID:-//Buck Run Baptist Church - ECPv6.15.20//NONSGML v1.0//EN
CALSCALE:GREGORIAN
METHOD:PUBLISH
X-WR-CALNAME:Buck Run Baptist Church
X-ORIGINAL-URL:https://www.buckrun.org
X-WR-CALDESC:Events for Buck Run Baptist Church
REFRESH-INTERVAL;VALUE=DURATION:PT1H
X-Robots-Tag:noindex
X-PUBLISHED-TTL:PT1H
BEGIN:VTIMEZONE
TZID:America/Kentucky/Louisville
BEGIN:DAYLIGHT
TZOFFSETFROM:-0500
TZOFFSETTO:-0400
TZNAME:EDT
DTSTART:20240310T070000
END:DAYLIGHT
BEGIN:STANDARD
TZOFFSETFROM:-0400
TZOFFSETTO:-0500
TZNAME:EST
DTSTART:20241103T060000
END:STANDARD
BEGIN:DAYLIGHT
TZOFFSETFROM:-0500
TZOFFSETTO:-0400
TZNAME:EDT
DTSTART:20250309T070000
END:DAYLIGHT
BEGIN:STANDARD
TZOFFSETFROM:-0400
TZOFFSETTO:-0500
TZNAME:EST
DTSTART:20251102T060000
END:STANDARD
BEGIN:DAYLIGHT
TZOFFSETFROM:-0500
TZOFFSETTO:-0400
TZNAME:EDT
DTSTART:20260308T070000
END:DAYLIGHT
BEGIN:STANDARD
TZOFFSETFROM:-0400
TZOFFSETTO:-0500
TZNAME:EST
DTSTART:20261101T060000
END:STANDARD
END:VTIMEZONE
BEGIN:VEVENT
DTSTART;VALUE=DATE:20250928
DTEND;VALUE=DATE:20250929
DTSTAMP:20260425T174958
CREATED:20240922T184102Z
LAST-MODIFIED:20240922T184102Z
UID:10010424-1759017600-1759103999@www.buckrun.org
SUMMARY:Communion Sunday
DESCRIPTION:We will conclude our worship service by partaking in communion. Those who would prefer gluten-free bread can pick it up before the service at the Guest Center.
URL:https://www.buckrun.org/events/communion-2025-09-28/
ATTACH;FMTTYPE=image/jpeg:https://www.buckrun.org/wp-content/uploads/2026/03/communion.jpeg
END:VEVENT
BEGIN:VEVENT
DTSTART;TZID=America/Kentucky/Louisville:20250924T183000
DTEND;TZID=America/Kentucky/Louisville:20250924T183000
DTSTAMP:20260425T174958
CREATED:20220925T200338Z
LAST-MODIFIED:20220925T200338Z
UID:10010162-1758738600-1758738600@www.buckrun.org
SUMMARY:Orphan's Care Alliance
DESCRIPTION:Orphan Care Alliance is a monthly gathering for adoptive and foster families to find encouragement and have practical discussions to benefit your home.
URL:https://www.buckrun.org/events/orphans-care-alliance-2022-09/2025-09-24/
LOCATION:Buck Run – Room 105\, 1950 Leestown Road\, Frankfort\, 40601\, United States
ATTACH;FMTTYPE=image/jpeg:https://www.buckrun.org/wp-content/uploads/2026/03/orphans_care.jpeg
END:VEVENT
BEGIN:VEVENT
DTSTART;TZID=America/Kentucky/Louisville:20250923T183000
DTEND;TZID=America/Kentucky/Louisville:20250923T183000
DTSTAMP:20260425T174958
CREATED:20250921T170026Z
LAST-MODIFIED:20250921T170026Z
UID:10010564-1758652200-1758652200@www.buckrun.org
SUMMARY:Community Prayer Gathering
DESCRIPTION:
URL:https://www.buckrun.org/events/community-prayer-gathering-2025-09-23/
ATTACH;FMTTYPE=image/jpeg:https://www.buckrun.org/wp-content/uploads/2026/03/Community-Prayer-Gathering-WIDE.jpg
END:VEVENT
BEGIN:VEVENT
DTSTART;TZID=America/Kentucky/Louisville:20250921T180000
DTEND;TZID=America/Kentucky/Louisville:20250921T190000
DTSTAMP:20260425T174958
CREATED:20250316T174810Z
LAST-MODIFIED:20250316T174810Z
UID:10010484-1758477600-1758481200@www.buckrun.org
SUMMARY:Family Meeting
DESCRIPTION:
URL:https://www.buckrun.org/events/family-meeting-2025-09-21/
ATTACH;FMTTYPE=image/jpeg:https://www.buckrun.org/wp-content/uploads/2026/03/Family-Meeting.jpg
END:VEVENT
BEGIN:VEVENT
DTSTART;TZID=America/Kentucky/Louisville:20250921T100000
DTEND;TZID=America/Kentucky/Louisville:20250921T104500
DTSTAMP:20260425T174958
CREATED:20250907T165457Z
LAST-MODIFIED:20250907T165457Z
UID:10010546-1758448800-1758451500@www.buckrun.org
SUMMARY:Sunday School
DESCRIPTION:Each Sunday morning we have Sunday School classes for all ages so everyone can learn more about our faith in a learning environment that is focused on their age. \n\nBuck Run Kids\nThe BuckRunKids area comes alive on Sunday mornings at 9:15 with age-appropriate classes for children 5th grade and younger where they will learn about Jesus\, memorize the Word\, and enjoy fun with new and old friends. \nStudent Connect\nStudents gather on Sunday mornings in the Student Room for Connect at both 9:15. We have developed a curriculum that uses both formal teaching and student involvement to create an engaging learning environment. Students learn and interact in peer groups guided by adult leaders. Our curriculum is always Bible-based but covers a wide range of topics meant to give students a well-rounded biblical worldview. \nAdult Discipleship Classes\nBuck Run offers a wide variety of classes designed to deepen your understanding of Scripture while teaching you to apply its timeless truths to life and culture. Most classes last 6 weeks and will range from the study of Scripture to Christian biography\, doctrines\, evangelism\, spiritual disciplines\, and many other options. Classes begin each Sunday morning at 9:15.
URL:https://www.buckrun.org/events/sunday-school-fall-2025/2025-09-21/
ATTACH;FMTTYPE=image/jpeg:https://www.buckrun.org/wp-content/uploads/2026/03/Copy-of-DSC03260.jpg
END:VEVENT
BEGIN:VEVENT
DTSTART;TZID=America/Kentucky/Louisville:20250914T100000
DTEND;TZID=America/Kentucky/Louisville:20250914T104500
DTSTAMP:20260425T174958
CREATED:20250907T165457Z
LAST-MODIFIED:20250907T165457Z
UID:10010545-1757844000-1757846700@www.buckrun.org
SUMMARY:Sunday School
DESCRIPTION:Each Sunday morning we have Sunday School classes for all ages so everyone can learn more about our faith in a learning environment that is focused on their age. \n\nBuck Run Kids\nThe BuckRunKids area comes alive on Sunday mornings at 9:15 with age-appropriate classes for children 5th grade and younger where they will learn about Jesus\, memorize the Word\, and enjoy fun with new and old friends. \nStudent Connect\nStudents gather on Sunday mornings in the Student Room for Connect at both 9:15. We have developed a curriculum that uses both formal teaching and student involvement to create an engaging learning environment. Students learn and interact in peer groups guided by adult leaders. Our curriculum is always Bible-based but covers a wide range of topics meant to give students a well-rounded biblical worldview. \nAdult Discipleship Classes\nBuck Run offers a wide variety of classes designed to deepen your understanding of Scripture while teaching you to apply its timeless truths to life and culture. Most classes last 6 weeks and will range from the study of Scripture to Christian biography\, doctrines\, evangelism\, spiritual disciplines\, and many other options. Classes begin each Sunday morning at 9:15.
URL:https://www.buckrun.org/events/sunday-school-fall-2025/2025-09-14/
ATTACH;FMTTYPE=image/jpeg:https://www.buckrun.org/wp-content/uploads/2026/03/Copy-of-DSC03260.jpg
END:VEVENT
BEGIN:VEVENT
DTSTART;VALUE=DATE:20250914
DTEND;VALUE=DATE:20250915
DTSTAMP:20260425T174958
CREATED:20250824T170520Z
LAST-MODIFIED:20250824T170520Z
UID:10010497-1757808000-1757894399@www.buckrun.org
SUMMARY:Community Group Sunday
DESCRIPTION:Community Groups are a pivotal ministry in the lives of our members. It is in these groups that you can be known and cared for. Our groups meet twice a month at various times and locations. \nFind a Community Group
URL:https://www.buckrun.org/events/community-group-sunday-2025-09-14/
ATTACH;FMTTYPE=image/jpeg:https://www.buckrun.org/wp-content/uploads/2026/03/CG-Slide-01-1.jpg
END:VEVENT
BEGIN:VEVENT
DTSTART;TZID=America/Kentucky/Louisville:20250907T100000
DTEND;TZID=America/Kentucky/Louisville:20250907T104500
DTSTAMP:20260425T174958
CREATED:20250907T165457Z
LAST-MODIFIED:20250907T165457Z
UID:10010544-1757239200-1757241900@www.buckrun.org
SUMMARY:Sunday School
DESCRIPTION:Each Sunday morning we have Sunday School classes for all ages so everyone can learn more about our faith in a learning environment that is focused on their age. \n\nBuck Run Kids\nThe BuckRunKids area comes alive on Sunday mornings at 9:15 with age-appropriate classes for children 5th grade and younger where they will learn about Jesus\, memorize the Word\, and enjoy fun with new and old friends. \nStudent Connect\nStudents gather on Sunday mornings in the Student Room for Connect at both 9:15. We have developed a curriculum that uses both formal teaching and student involvement to create an engaging learning environment. Students learn and interact in peer groups guided by adult leaders. Our curriculum is always Bible-based but covers a wide range of topics meant to give students a well-rounded biblical worldview. \nAdult Discipleship Classes\nBuck Run offers a wide variety of classes designed to deepen your understanding of Scripture while teaching you to apply its timeless truths to life and culture. Most classes last 6 weeks and will range from the study of Scripture to Christian biography\, doctrines\, evangelism\, spiritual disciplines\, and many other options. Classes begin each Sunday morning at 9:15.
URL:https://www.buckrun.org/events/sunday-school-fall-2025/2025-09-07/
ATTACH;FMTTYPE=image/jpeg:https://www.buckrun.org/wp-content/uploads/2026/03/Copy-of-DSC03260.jpg
END:VEVENT
BEGIN:VEVENT
DTSTART;TZID=America/Kentucky/Louisville:20250831T100000
DTEND;TZID=America/Kentucky/Louisville:20250831T104500
DTSTAMP:20260425T174958
CREATED:20250907T165457Z
LAST-MODIFIED:20250907T165457Z
UID:10010543-1756634400-1756637100@www.buckrun.org
SUMMARY:Sunday School
DESCRIPTION:Each Sunday morning we have Sunday School classes for all ages so everyone can learn more about our faith in a learning environment that is focused on their age. \n\nBuck Run Kids\nThe BuckRunKids area comes alive on Sunday mornings at 9:15 with age-appropriate classes for children 5th grade and younger where they will learn about Jesus\, memorize the Word\, and enjoy fun with new and old friends. \nStudent Connect\nStudents gather on Sunday mornings in the Student Room for Connect at both 9:15. We have developed a curriculum that uses both formal teaching and student involvement to create an engaging learning environment. Students learn and interact in peer groups guided by adult leaders. Our curriculum is always Bible-based but covers a wide range of topics meant to give students a well-rounded biblical worldview. \nAdult Discipleship Classes\nBuck Run offers a wide variety of classes designed to deepen your understanding of Scripture while teaching you to apply its timeless truths to life and culture. Most classes last 6 weeks and will range from the study of Scripture to Christian biography\, doctrines\, evangelism\, spiritual disciplines\, and many other options. Classes begin each Sunday morning at 9:15.
URL:https://www.buckrun.org/events/sunday-school-fall-2025/2025-08-31/
ATTACH;FMTTYPE=image/jpeg:https://www.buckrun.org/wp-content/uploads/2026/03/Copy-of-DSC03260.jpg
END:VEVENT
BEGIN:VEVENT
DTSTART;TZID=America/Kentucky/Louisville:20250827T183000
DTEND;TZID=America/Kentucky/Louisville:20250827T193000
DTSTAMP:20260425T174958
CREATED:20250817T165429Z
LAST-MODIFIED:20250817T165429Z
UID:10010495-1756319400-1756323000@www.buckrun.org
SUMMARY:New Midweek Classes Begin
DESCRIPTION:Please visit this page for more information and to register.
URL:https://www.buckrun.org/events/new-midweek-classes-begin-2025-08-27/
ATTACH;FMTTYPE=image/jpeg:https://www.buckrun.org/wp-content/uploads/2026/03/Midweek-2025-Wide-Info.jpg
END:VEVENT
BEGIN:VEVENT
DTSTART;TZID=America/Kentucky/Louisville:20250827T183000
DTEND;TZID=America/Kentucky/Louisville:20250827T183000
DTSTAMP:20260425T174958
CREATED:20220925T200338Z
LAST-MODIFIED:20220925T200338Z
UID:10010161-1756319400-1756319400@www.buckrun.org
SUMMARY:Orphan's Care Alliance
DESCRIPTION:Orphan Care Alliance is a monthly gathering for adoptive and foster families to find encouragement and have practical discussions to benefit your home.
URL:https://www.buckrun.org/events/orphans-care-alliance-2022-09/2025-08-27/
LOCATION:Buck Run – Room 105\, 1950 Leestown Road\, Frankfort\, 40601\, United States
ATTACH;FMTTYPE=image/jpeg:https://www.buckrun.org/wp-content/uploads/2026/03/orphans_care.jpeg
END:VEVENT
BEGIN:VEVENT
DTSTART;TZID=America/Kentucky/Louisville:20250824T100000
DTEND;TZID=America/Kentucky/Louisville:20250824T104500
DTSTAMP:20260425T174958
CREATED:20250907T165457Z
LAST-MODIFIED:20250907T165457Z
UID:10010542-1756029600-1756032300@www.buckrun.org
SUMMARY:Sunday School
DESCRIPTION:Each Sunday morning we have Sunday School classes for all ages so everyone can learn more about our faith in a learning environment that is focused on their age. \n\nBuck Run Kids\nThe BuckRunKids area comes alive on Sunday mornings at 9:15 with age-appropriate classes for children 5th grade and younger where they will learn about Jesus\, memorize the Word\, and enjoy fun with new and old friends. \nStudent Connect\nStudents gather on Sunday mornings in the Student Room for Connect at both 9:15. We have developed a curriculum that uses both formal teaching and student involvement to create an engaging learning environment. Students learn and interact in peer groups guided by adult leaders. Our curriculum is always Bible-based but covers a wide range of topics meant to give students a well-rounded biblical worldview. \nAdult Discipleship Classes\nBuck Run offers a wide variety of classes designed to deepen your understanding of Scripture while teaching you to apply its timeless truths to life and culture. Most classes last 6 weeks and will range from the study of Scripture to Christian biography\, doctrines\, evangelism\, spiritual disciplines\, and many other options. Classes begin each Sunday morning at 9:15.
URL:https://www.buckrun.org/events/sunday-school-fall-2025/2025-08-24/
ATTACH;FMTTYPE=image/jpeg:https://www.buckrun.org/wp-content/uploads/2026/03/Copy-of-DSC03260.jpg
END:VEVENT
BEGIN:VEVENT
DTSTART;VALUE=DATE:20250824
DTEND;VALUE=DATE:20250825
DTSTAMP:20260425T174958
CREATED:20250824T170317Z
LAST-MODIFIED:20250824T170317Z
UID:10010496-1755993600-1756079999@www.buckrun.org
SUMMARY:Community Group Sunday
DESCRIPTION:Community Groups are a pivotal ministry in the lives of our members. It is in these groups that you can be known and cared for. Our groups meet twice a month at various times and locations. \nFind a Community Group
URL:https://www.buckrun.org/events/community-group-sunday-2025-08-24/
ATTACH;FMTTYPE=image/jpeg:https://www.buckrun.org/wp-content/uploads/2026/03/CG-Slide-01-1.jpg
END:VEVENT
BEGIN:VEVENT
DTSTART;VALUE=DATE:20250817
DTEND;VALUE=DATE:20250818
DTSTAMP:20260425T174958
CREATED:20250525T175735Z
LAST-MODIFIED:20250525T175735Z
UID:10010494-1755388800-1755475199@www.buckrun.org
SUMMARY:New Service Times
DESCRIPTION:We’re excited to announce that beginning August 17th\, we will have two worship services each week. Our new schedule will be: \n\n8:30am – Worship\n10:00am – Sunday School\n11:00am – Worship\n\nTo continue to reach more people\, we will need all to faithfully and regularly service. To begin a conversation about finding your place to service at Buck Run\, please fill out this form. A member of our staff will then reach out to you to start the conversation about what it could look like for you to join one of our serve teams.
URL:https://www.buckrun.org/events/new-service-times-2025-08/
ATTACH;FMTTYPE=image/png:https://www.buckrun.org/wp-content/uploads/2026/03/Service-Times-Fall-2025-WIDE.png
END:VEVENT
BEGIN:VEVENT
DTSTART;TZID=America/Kentucky/Louisville:20250810T091500
DTEND;TZID=America/Kentucky/Louisville:20250810T091500
DTSTAMP:20260425T174958
CREATED:20231231T205449Z
LAST-MODIFIED:20231231T205449Z
UID:10010418-1754817300-1754817300@www.buckrun.org
SUMMARY:Sunday School
DESCRIPTION:Each Sunday morning we have Sunday School classes for all ages so everyone can learn more about our faith in a learning environment that is focused on their age. \n\nBuck Run Kids\nThe BuckRunKids area comes alive on Sunday mornings at 9:15 with age-appropriate classes for children 5th grade and younger where they will learn about Jesus\, memorize the Word\, and enjoy fun with new and old friends. \nStudent Connect\nStudents gather on Sunday mornings in the Student Room for Connect at both 9:15. We have developed a curriculum that uses both formal teaching and student involvement to create an engaging learning environment. Students learn and interact in peer groups guided by adult leaders. Our curriculum is always Bible-based but covers a wide range of topics meant to give students a well-rounded biblical worldview. \nAdult Discipleship Classes\nBuck Run offers a wide variety of classes designed to deepen your understanding of Scripture while teaching you to apply its timeless truths to life and culture. Most classes last 6 weeks and will range from the study of Scripture to Christian biography\, doctrines\, evangelism\, spiritual disciplines\, and many other options. Classes begin each Sunday morning at 9:15.
URL:https://www.buckrun.org/events/sunday-school-2024-2024-12-29-2025-08-03/2025-08-10/
ATTACH;FMTTYPE=image/jpeg:https://www.buckrun.org/wp-content/uploads/2026/03/Copy-of-DSC03260.jpg
END:VEVENT
BEGIN:VEVENT
DTSTART;VALUE=DATE:20250809
DTEND;VALUE=DATE:20250810
DTSTAMP:20260425T174958
CREATED:20250525T165630Z
LAST-MODIFIED:20250525T165630Z
UID:10010493-1754697600-1754783999@www.buckrun.org
SUMMARY:Missions Golf Scramble
DESCRIPTION:Registration Information\nThe Missions Golf Scramble is a fun event for golfers of any skill level (seriously\, even your level) and raises funds for Buck Run’s mission trips and our missions partners. This year’s event is August 9 at Juniper Hills Golf Course in Frankfort\, KY. Registrants can enter as a part of a 4 person team or a team will be assigned if needed. Register here! For additional information\, email Buck Run. \nSponsor a Hole\nThe Buck Run Missions Golf Scramble is a key fundraiser in supporting our missions partners and helping offset expenses for our members to go on short term trips as they take the Good News of Jesus to the nations. This year’s Missions Golf Scramble is August 9. Hole sponsorships are available for $100 per hole. This money will go directly to our missions fund and your organization will have a sign placed on a tee box during the event. Sign up here!
URL:https://www.buckrun.org/events/missions-golf-scramble-2025/
ATTACH;FMTTYPE=image/jpeg:https://www.buckrun.org/wp-content/uploads/2026/03/Missions-Golf-Scramble-WIDE.jpg
END:VEVENT
BEGIN:VEVENT
DTSTART;TZID=America/Kentucky/Louisville:20250803T091500
DTEND;TZID=America/Kentucky/Louisville:20250803T091500
DTSTAMP:20260425T174958
CREATED:20231231T205449Z
LAST-MODIFIED:20231231T205449Z
UID:10010417-1754212500-1754212500@www.buckrun.org
SUMMARY:Sunday School
DESCRIPTION:Each Sunday morning we have Sunday School classes for all ages so everyone can learn more about our faith in a learning environment that is focused on their age. \n\nBuck Run Kids\nThe BuckRunKids area comes alive on Sunday mornings at 9:15 with age-appropriate classes for children 5th grade and younger where they will learn about Jesus\, memorize the Word\, and enjoy fun with new and old friends. \nStudent Connect\nStudents gather on Sunday mornings in the Student Room for Connect at both 9:15. We have developed a curriculum that uses both formal teaching and student involvement to create an engaging learning environment. Students learn and interact in peer groups guided by adult leaders. Our curriculum is always Bible-based but covers a wide range of topics meant to give students a well-rounded biblical worldview. \nAdult Discipleship Classes\nBuck Run offers a wide variety of classes designed to deepen your understanding of Scripture while teaching you to apply its timeless truths to life and culture. Most classes last 6 weeks and will range from the study of Scripture to Christian biography\, doctrines\, evangelism\, spiritual disciplines\, and many other options. Classes begin each Sunday morning at 9:15.
URL:https://www.buckrun.org/events/sunday-school-2024-2024-12-29-2025-08-03/2025-08-03/
ATTACH;FMTTYPE=image/jpeg:https://www.buckrun.org/wp-content/uploads/2026/03/Copy-of-DSC03260.jpg
END:VEVENT
BEGIN:VEVENT
DTSTART;TZID=America/Kentucky/Louisville:20250723T183000
DTEND;TZID=America/Kentucky/Louisville:20250723T183000
DTSTAMP:20260425T174958
CREATED:20220925T200338Z
LAST-MODIFIED:20220925T200338Z
UID:10010160-1753295400-1753295400@www.buckrun.org
SUMMARY:Orphan's Care Alliance
DESCRIPTION:Orphan Care Alliance is a monthly gathering for adoptive and foster families to find encouragement and have practical discussions to benefit your home.
URL:https://www.buckrun.org/events/orphans-care-alliance-2022-09/2025-07-23/
LOCATION:Buck Run – Room 105\, 1950 Leestown Road\, Frankfort\, 40601\, United States
ATTACH;FMTTYPE=image/jpeg:https://www.buckrun.org/wp-content/uploads/2026/03/orphans_care.jpeg
END:VEVENT
BEGIN:VEVENT
DTSTART;VALUE=DATE:20250723
DTEND;VALUE=DATE:20250727
DTSTAMP:20260425T174958
CREATED:20250106T002947Z
LAST-MODIFIED:20250106T002947Z
UID:10010481-1753228800-1753574399@www.buckrun.org
SUMMARY:Kids Camp
DESCRIPTION:Kids Camp is July 23 – July 26 at Crossings and is for all 2nd-5th graders. To register\, a $100 deposit is required by February 23rd. The total cost for camp is $360. \nRegister
URL:https://www.buckrun.org/events/kids-camp-2025/
ATTACH;FMTTYPE=image/jpeg:https://www.buckrun.org/wp-content/uploads/2026/03/Kids-Camp-Wide.jpg
END:VEVENT
BEGIN:VEVENT
DTSTART;VALUE=DATE:20250712
DTEND;VALUE=DATE:20250722
DTSTAMP:20260425T174958
CREATED:20250106T001935Z
LAST-MODIFIED:20250106T001935Z
UID:10010480-1752278400-1753142399@www.buckrun.org
SUMMARY:High School Mission Trip
DESCRIPTION:The High School Mission Trip is July 12 – 21 to Durango\, CO. To register\, a $200 deposit is required by February 23rd. The total cost for the mission trip is $750. Registration opens January 1st. \nRegister
URL:https://www.buckrun.org/events/high-school-mission-trip-2025/
ATTACH;FMTTYPE=image/jpeg:https://www.buckrun.org/wp-content/uploads/2026/03/High-School-Trip-Wide.jpg
END:VEVENT
BEGIN:VEVENT
DTSTART;TZID=America/Kentucky/Louisville:20250708T173000
DTEND;TZID=America/Kentucky/Louisville:20250708T173000
DTSTAMP:20260425T174958
CREATED:20250511T180326Z
LAST-MODIFIED:20250511T180326Z
UID:10010491-1751995800-1751995800@www.buckrun.org
SUMMARY:Church Picnic and Pool Party
DESCRIPTION:
URL:https://www.buckrun.org/events/church-picnic-and-pool-party-2025/
ATTACH;FMTTYPE=image/jpeg:https://www.buckrun.org/wp-content/uploads/2026/03/Church-Picnic-WIDE.jpg
END:VEVENT
BEGIN:VEVENT
DTSTART;TZID=America/Kentucky/Louisville:20250625T183000
DTEND;TZID=America/Kentucky/Louisville:20250625T183000
DTSTAMP:20260425T174958
CREATED:20220925T200338Z
LAST-MODIFIED:20220925T200338Z
UID:10010159-1750876200-1750876200@www.buckrun.org
SUMMARY:Orphan's Care Alliance
DESCRIPTION:Orphan Care Alliance is a monthly gathering for adoptive and foster families to find encouragement and have practical discussions to benefit your home.
URL:https://www.buckrun.org/events/orphans-care-alliance-2022-09/2025-06-25/
LOCATION:Buck Run – Room 105\, 1950 Leestown Road\, Frankfort\, 40601\, United States
ATTACH;FMTTYPE=image/jpeg:https://www.buckrun.org/wp-content/uploads/2026/03/orphans_care.jpeg
END:VEVENT
BEGIN:VEVENT
DTSTART;VALUE=DATE:20250622
DTEND;VALUE=DATE:20250626
DTSTAMP:20260425T174958
CREATED:20250106T001625Z
LAST-MODIFIED:20250106T001625Z
UID:10010479-1750550400-1750895999@www.buckrun.org
SUMMARY:Vacation Bible School
DESCRIPTION:One of our favorite parts of the summer at Buck Run is Vacation Bible School! VBS is a week like none other for the kids of our church and community. Sign your child up today for a fun and exciting week learning to find the bigness of God in the smallest of things. Register today! \nElementary (K-5th): June 22-25 | 6:00-8:45 pm \nPreschool (3-5s): June 23-25| 9:00-11:00 am
URL:https://www.buckrun.org/events/vacation-bible-school-2025/
ATTACH;FMTTYPE=image/jpeg:https://www.buckrun.org/wp-content/uploads/2026/03/VBS2025.jpg
END:VEVENT
BEGIN:VEVENT
DTSTART;VALUE=DATE:20250621
DTEND;VALUE=DATE:20250626
DTSTAMP:20260425T174958
CREATED:20250106T001307Z
LAST-MODIFIED:20250106T001307Z
UID:10010478-1750464000-1750895999@www.buckrun.org
SUMMARY:Middle School Camp
DESCRIPTION:Middle School Camp is June 21 – 25 at Crossings and is for all 6th-8th graders. To register\, a $100 deposit is required by February 23rd. The total cost for camp is $390. Registration opens January 1st. \nRegister
URL:https://www.buckrun.org/events/middle-school-camp-2025/
ATTACH;FMTTYPE=image/jpeg:https://www.buckrun.org/wp-content/uploads/2026/03/Middle-School-Camp-Wide.jpg
END:VEVENT
BEGIN:VEVENT
DTSTART;TZID=America/Kentucky/Louisville:20250607T161000
DTEND;TZID=America/Kentucky/Louisville:20250607T161000
DTSTAMP:20260425T174958
CREATED:20250511T175419Z
LAST-MODIFIED:20250511T175419Z
UID:10010490-1749312600-1749312600@www.buckrun.org
SUMMARY:Buck Run at the Ballpark
DESCRIPTION:Enjoy fellowship and baseball at a Cincinnati Reds game on Saturday\, June 7 at 4:10 pm. Tickets can be purchased for $20 by Sunday\, May 25. Children 3 years of age and younger do not require a ticket and may sit on the lap of a ticket holder. \nRegister
URL:https://www.buckrun.org/events/buck-run-at-the-ballpark-2025/
ATTACH;FMTTYPE=image/jpeg:https://www.buckrun.org/wp-content/uploads/2026/03/Buck-Run-at-the-Ballpark-WIDE.jpg
END:VEVENT
BEGIN:VEVENT
DTSTART;VALUE=DATE:20250605
DTEND;VALUE=DATE:20250606
DTSTAMP:20260425T174958
CREATED:20250518T165239Z
LAST-MODIFIED:20250518T165239Z
UID:10010492-1749081600-1749167999@www.buckrun.org
SUMMARY:Reach Frankfort Prayer Day
DESCRIPTION:For more information\, please visit this page.
URL:https://www.buckrun.org/events/reach-frankfort-prayer-day-2025-06/
ATTACH;FMTTYPE=image/jpeg:https://www.buckrun.org/wp-content/uploads/2026/03/Prayer-Day-Wide.jpg
END:VEVENT
BEGIN:VEVENT
DTSTART;TZID=America/Kentucky/Louisville:20250601T114500
DTEND;TZID=America/Kentucky/Louisville:20250601T114500
DTSTAMP:20260425T174958
CREATED:20240922T182533Z
LAST-MODIFIED:20240922T182533Z
UID:10010423-1748778300-1748778300@www.buckrun.org
SUMMARY:Communion
DESCRIPTION:We will conclude our worship service by partaking in communion. Those who would prefer gluten-free bread can pick it up before the service at the Guest Center.
URL:https://www.buckrun.org/events/communion-2025-06-01/
ATTACH;FMTTYPE=image/jpeg:https://www.buckrun.org/wp-content/uploads/2026/03/communion.jpeg
END:VEVENT
BEGIN:VEVENT
DTSTART;TZID=America/Kentucky/Louisville:20250528T183000
DTEND;TZID=America/Kentucky/Louisville:20250528T183000
DTSTAMP:20260425T174958
CREATED:20220925T200338Z
LAST-MODIFIED:20220925T200338Z
UID:10010158-1748457000-1748457000@www.buckrun.org
SUMMARY:Orphan's Care Alliance
DESCRIPTION:Orphan Care Alliance is a monthly gathering for adoptive and foster families to find encouragement and have practical discussions to benefit your home.
URL:https://www.buckrun.org/events/orphans-care-alliance-2022-09/2025-05-28/
LOCATION:Buck Run – Room 105\, 1950 Leestown Road\, Frankfort\, 40601\, United States
ATTACH;FMTTYPE=image/jpeg:https://www.buckrun.org/wp-content/uploads/2026/03/orphans_care.jpeg
END:VEVENT
BEGIN:VEVENT
DTSTART;TZID=America/Kentucky/Louisville:20250518T180000
DTEND;TZID=America/Kentucky/Louisville:20250518T190000
DTSTAMP:20260425T174958
CREATED:20250316T174444Z
LAST-MODIFIED:20250316T174444Z
UID:10010483-1747591200-1747594800@www.buckrun.org
SUMMARY:Family Meeting
DESCRIPTION:
URL:https://www.buckrun.org/events/family-meeting-2024-05-18/
ATTACH;FMTTYPE=image/png:https://www.buckrun.org/wp-content/uploads/2026/03/2025-05-Family-Meeting.png
END:VEVENT
BEGIN:VEVENT
DTSTART;VALUE=DATE:20250427
DTEND;VALUE=DATE:20250428
DTSTAMP:20260425T174958
CREATED:20250106T000934Z
LAST-MODIFIED:20250106T000934Z
UID:10010477-1745712000-1745798399@www.buckrun.org
SUMMARY:Community Group Sunday
DESCRIPTION:Community Groups are a pivotal ministry in the lives of our members. It is in these groups that you can be known and cared for. Our groups meet twice a month at various times and locations. \nFind a Community Group
URL:https://www.buckrun.org/events/community-group-sunday-2025-04-27/
ATTACH;FMTTYPE=image/jpeg:https://www.buckrun.org/wp-content/uploads/2026/03/Community-Group-Graphic.jpg
END:VEVENT
END:VCALENDAR