BEGIN:VCALENDAR
VERSION:2.0
PRODID:-//Buck Run Baptist Church - ECPv6.15.20//NONSGML v1.0//EN
CALSCALE:GREGORIAN
METHOD:PUBLISH
X-ORIGINAL-URL:https://www.buckrun.org
X-WR-CALDESC:Events for Buck Run Baptist Church
REFRESH-INTERVAL;VALUE=DURATION:PT1H
X-Robots-Tag:noindex
X-PUBLISHED-TTL:PT1H
BEGIN:VTIMEZONE
TZID:America/Kentucky/Louisville
BEGIN:DAYLIGHT
TZOFFSETFROM:-0500
TZOFFSETTO:-0400
TZNAME:EDT
DTSTART:20250309T070000
END:DAYLIGHT
BEGIN:STANDARD
TZOFFSETFROM:-0400
TZOFFSETTO:-0500
TZNAME:EST
DTSTART:20251102T060000
END:STANDARD
BEGIN:DAYLIGHT
TZOFFSETFROM:-0500
TZOFFSETTO:-0400
TZNAME:EDT
DTSTART:20260308T070000
END:DAYLIGHT
BEGIN:STANDARD
TZOFFSETFROM:-0400
TZOFFSETTO:-0500
TZNAME:EST
DTSTART:20261101T060000
END:STANDARD
BEGIN:DAYLIGHT
TZOFFSETFROM:-0500
TZOFFSETTO:-0400
TZNAME:EDT
DTSTART:20270314T070000
END:DAYLIGHT
BEGIN:STANDARD
TZOFFSETFROM:-0400
TZOFFSETTO:-0500
TZNAME:EST
DTSTART:20271107T060000
END:STANDARD
END:VTIMEZONE
BEGIN:VEVENT
DTSTART;TZID=America/Kentucky/Louisville:20260719T110000
DTEND;TZID=America/Kentucky/Louisville:20260719T121500
DTSTAMP:20260425T100101
CREATED:20251123T191516Z
LAST-MODIFIED:20260331T222336Z
UID:10011816-1784458800-1784463300@www.buckrun.org
SUMMARY:Corporate Worship
DESCRIPTION:The gathering of God’s people for corporate worship is the centerpiece of Buck Run’s ministry. This is where our local expression of the body of Christ hears the Word of God proclaimed\, prays and sings together\, and observes baptism and Lord’s Supper. Corporate worship is where God’s people gather to give Him glory. \nWATCH LIVE
URL:https://www.buckrun.org/events/corporate-worship-2026-second-2026-01-11/2026-07-19/
ATTACH;FMTTYPE=image/jpeg:https://www.buckrun.org/wp-content/uploads/2026/03/Copy-of-DSC03625.jpg
END:VEVENT
BEGIN:VEVENT
DTSTART;TZID=America/Kentucky/Louisville:20260726T083000
DTEND;TZID=America/Kentucky/Louisville:20260726T094500
DTSTAMP:20260425T100101
CREATED:20251123T190827Z
LAST-MODIFIED:20260331T222426Z
UID:10010593-1785054600-1785059100@www.buckrun.org
SUMMARY:Corporate Worship
DESCRIPTION:The gathering of God’s people for corporate worship is the centerpiece of Buck Run’s ministry. This is where our local expression of the body of Christ hears the Word of God proclaimed\, prays and sings together\, and observes baptism and Lord’s Supper. Corporate worship is where God’s people gather to give Him glory. \nWATCH LIVE
URL:https://www.buckrun.org/events/corporate-worship-2026-first-2026-01-11/2026-07-26/
ATTACH;FMTTYPE=image/jpeg:https://www.buckrun.org/wp-content/uploads/2026/03/Copy-of-DSC03625.jpg
END:VEVENT
BEGIN:VEVENT
DTSTART;TZID=America/Kentucky/Louisville:20260726T100000
DTEND;TZID=America/Kentucky/Louisville:20260726T224500
DTSTAMP:20260425T100101
CREATED:20251123T191956Z
LAST-MODIFIED:20251123T191956Z
UID:10013041-1785060000-1785105900@www.buckrun.org
SUMMARY:Sunday School
DESCRIPTION:Kids Ministry \n \nStudent Ministry \n \nAdult Discipleship Classes
URL:https://www.buckrun.org/events/sunday-school-2026-2026-01-11/2026-07-26/
END:VEVENT
BEGIN:VEVENT
DTSTART;TZID=America/Kentucky/Louisville:20260726T110000
DTEND;TZID=America/Kentucky/Louisville:20260726T121500
DTSTAMP:20260425T100101
CREATED:20251123T191516Z
LAST-MODIFIED:20260331T222336Z
UID:10011817-1785063600-1785068100@www.buckrun.org
SUMMARY:Corporate Worship
DESCRIPTION:The gathering of God’s people for corporate worship is the centerpiece of Buck Run’s ministry. This is where our local expression of the body of Christ hears the Word of God proclaimed\, prays and sings together\, and observes baptism and Lord’s Supper. Corporate worship is where God’s people gather to give Him glory. \nWATCH LIVE
URL:https://www.buckrun.org/events/corporate-worship-2026-second-2026-01-11/2026-07-26/
ATTACH;FMTTYPE=image/jpeg:https://www.buckrun.org/wp-content/uploads/2026/03/Copy-of-DSC03625.jpg
END:VEVENT
BEGIN:VEVENT
DTSTART;VALUE=DATE:20260730
DTEND;VALUE=DATE:20260809
DTSTAMP:20260425T100101
CREATED:20260222T192801Z
LAST-MODIFIED:20260422T203708Z
UID:10014365-1785369600-1786233599@www.buckrun.org
SUMMARY:High School Mission Trip: Kenya
DESCRIPTION:Pray for our student team heading to serve with IMB missionaries in Kenya.
URL:https://www.buckrun.org/events/high-school-mission-trip-kenya-2026/
CATEGORIES:Featured Events,Missions
END:VEVENT
BEGIN:VEVENT
DTSTART;TZID=America/Kentucky/Louisville:20260802T083000
DTEND;TZID=America/Kentucky/Louisville:20260802T094500
DTSTAMP:20260425T100101
CREATED:20251123T190827Z
LAST-MODIFIED:20260331T222426Z
UID:10010594-1785659400-1785663900@www.buckrun.org
SUMMARY:Corporate Worship
DESCRIPTION:The gathering of God’s people for corporate worship is the centerpiece of Buck Run’s ministry. This is where our local expression of the body of Christ hears the Word of God proclaimed\, prays and sings together\, and observes baptism and Lord’s Supper. Corporate worship is where God’s people gather to give Him glory. \nWATCH LIVE
URL:https://www.buckrun.org/events/corporate-worship-2026-first-2026-01-11/2026-08-02/
ATTACH;FMTTYPE=image/jpeg:https://www.buckrun.org/wp-content/uploads/2026/03/Copy-of-DSC03625.jpg
END:VEVENT
BEGIN:VEVENT
DTSTART;TZID=America/Kentucky/Louisville:20260802T100000
DTEND;TZID=America/Kentucky/Louisville:20260802T224500
DTSTAMP:20260425T100101
CREATED:20251123T191956Z
LAST-MODIFIED:20251123T191956Z
UID:10013042-1785664800-1785710700@www.buckrun.org
SUMMARY:Sunday School
DESCRIPTION:Kids Ministry \n \nStudent Ministry \n \nAdult Discipleship Classes
URL:https://www.buckrun.org/events/sunday-school-2026-2026-01-11/2026-08-02/
END:VEVENT
BEGIN:VEVENT
DTSTART;TZID=America/Kentucky/Louisville:20260802T110000
DTEND;TZID=America/Kentucky/Louisville:20260802T121500
DTSTAMP:20260425T100101
CREATED:20251123T191516Z
LAST-MODIFIED:20260331T222336Z
UID:10011818-1785668400-1785672900@www.buckrun.org
SUMMARY:Corporate Worship
DESCRIPTION:The gathering of God’s people for corporate worship is the centerpiece of Buck Run’s ministry. This is where our local expression of the body of Christ hears the Word of God proclaimed\, prays and sings together\, and observes baptism and Lord’s Supper. Corporate worship is where God’s people gather to give Him glory. \nWATCH LIVE
URL:https://www.buckrun.org/events/corporate-worship-2026-second-2026-01-11/2026-08-02/
ATTACH;FMTTYPE=image/jpeg:https://www.buckrun.org/wp-content/uploads/2026/03/Copy-of-DSC03625.jpg
END:VEVENT
BEGIN:VEVENT
DTSTART;TZID=America/Kentucky/Louisville:20260809T083000
DTEND;TZID=America/Kentucky/Louisville:20260809T094500
DTSTAMP:20260425T100101
CREATED:20251123T190827Z
LAST-MODIFIED:20260331T222426Z
UID:10010595-1786264200-1786268700@www.buckrun.org
SUMMARY:Corporate Worship
DESCRIPTION:The gathering of God’s people for corporate worship is the centerpiece of Buck Run’s ministry. This is where our local expression of the body of Christ hears the Word of God proclaimed\, prays and sings together\, and observes baptism and Lord’s Supper. Corporate worship is where God’s people gather to give Him glory. \nWATCH LIVE
URL:https://www.buckrun.org/events/corporate-worship-2026-first-2026-01-11/2026-08-09/
ATTACH;FMTTYPE=image/jpeg:https://www.buckrun.org/wp-content/uploads/2026/03/Copy-of-DSC03625.jpg
END:VEVENT
BEGIN:VEVENT
DTSTART;TZID=America/Kentucky/Louisville:20260809T100000
DTEND;TZID=America/Kentucky/Louisville:20260809T224500
DTSTAMP:20260425T100101
CREATED:20251123T191956Z
LAST-MODIFIED:20251123T191956Z
UID:10013043-1786269600-1786315500@www.buckrun.org
SUMMARY:Sunday School
DESCRIPTION:Kids Ministry \n \nStudent Ministry \n \nAdult Discipleship Classes
URL:https://www.buckrun.org/events/sunday-school-2026-2026-01-11/2026-08-09/
END:VEVENT
BEGIN:VEVENT
DTSTART;TZID=America/Kentucky/Louisville:20260809T110000
DTEND;TZID=America/Kentucky/Louisville:20260809T121500
DTSTAMP:20260425T100101
CREATED:20251123T191516Z
LAST-MODIFIED:20260331T222336Z
UID:10011819-1786273200-1786277700@www.buckrun.org
SUMMARY:Corporate Worship
DESCRIPTION:The gathering of God’s people for corporate worship is the centerpiece of Buck Run’s ministry. This is where our local expression of the body of Christ hears the Word of God proclaimed\, prays and sings together\, and observes baptism and Lord’s Supper. Corporate worship is where God’s people gather to give Him glory. \nWATCH LIVE
URL:https://www.buckrun.org/events/corporate-worship-2026-second-2026-01-11/2026-08-09/
ATTACH;FMTTYPE=image/jpeg:https://www.buckrun.org/wp-content/uploads/2026/03/Copy-of-DSC03625.jpg
END:VEVENT
BEGIN:VEVENT
DTSTART;TZID=America/Kentucky/Louisville:20260816T083000
DTEND;TZID=America/Kentucky/Louisville:20260816T094500
DTSTAMP:20260425T100101
CREATED:20251123T190827Z
LAST-MODIFIED:20260331T222426Z
UID:10010596-1786869000-1786873500@www.buckrun.org
SUMMARY:Corporate Worship
DESCRIPTION:The gathering of God’s people for corporate worship is the centerpiece of Buck Run’s ministry. This is where our local expression of the body of Christ hears the Word of God proclaimed\, prays and sings together\, and observes baptism and Lord’s Supper. Corporate worship is where God’s people gather to give Him glory. \nWATCH LIVE
URL:https://www.buckrun.org/events/corporate-worship-2026-first-2026-01-11/2026-08-16/
ATTACH;FMTTYPE=image/jpeg:https://www.buckrun.org/wp-content/uploads/2026/03/Copy-of-DSC03625.jpg
END:VEVENT
BEGIN:VEVENT
DTSTART;TZID=America/Kentucky/Louisville:20260816T100000
DTEND;TZID=America/Kentucky/Louisville:20260816T224500
DTSTAMP:20260425T100101
CREATED:20251123T191956Z
LAST-MODIFIED:20251123T191956Z
UID:10013044-1786874400-1786920300@www.buckrun.org
SUMMARY:Sunday School
DESCRIPTION:Kids Ministry \n \nStudent Ministry \n \nAdult Discipleship Classes
URL:https://www.buckrun.org/events/sunday-school-2026-2026-01-11/2026-08-16/
END:VEVENT
BEGIN:VEVENT
DTSTART;TZID=America/Kentucky/Louisville:20260816T110000
DTEND;TZID=America/Kentucky/Louisville:20260816T121500
DTSTAMP:20260425T100101
CREATED:20251123T191516Z
LAST-MODIFIED:20260331T222336Z
UID:10011820-1786878000-1786882500@www.buckrun.org
SUMMARY:Corporate Worship
DESCRIPTION:The gathering of God’s people for corporate worship is the centerpiece of Buck Run’s ministry. This is where our local expression of the body of Christ hears the Word of God proclaimed\, prays and sings together\, and observes baptism and Lord’s Supper. Corporate worship is where God’s people gather to give Him glory. \nWATCH LIVE
URL:https://www.buckrun.org/events/corporate-worship-2026-second-2026-01-11/2026-08-16/
ATTACH;FMTTYPE=image/jpeg:https://www.buckrun.org/wp-content/uploads/2026/03/Copy-of-DSC03625.jpg
END:VEVENT
BEGIN:VEVENT
DTSTART;TZID=America/Kentucky/Louisville:20260816T180000
DTEND;TZID=America/Kentucky/Louisville:20260816T190000
DTSTAMP:20260425T100101
CREATED:20260222T192706Z
LAST-MODIFIED:20260422T203708Z
UID:10014364-1786903200-1786906800@www.buckrun.org
SUMMARY:Family Meeting
DESCRIPTION:Our quarterly Family Meeting’s are an important time for us to gather together to hear updates regarding what’s happening in our body. Every Family Meeting is followed by a fellowship where we seek to build community with one another. \nThere are activities for Kids and Students during the Family Meeting\, though we encourage all members\, regardless of age\, to attend the meeting.
URL:https://www.buckrun.org/events/family-meeting-2026-08-16/
CATEGORIES:Featured Events
ATTACH;FMTTYPE=image/jpeg:https://www.buckrun.org/wp-content/uploads/2026/03/2026-08-16-Family-Meeting.jpg
END:VEVENT
BEGIN:VEVENT
DTSTART;TZID=America/Kentucky/Louisville:20260823T083000
DTEND;TZID=America/Kentucky/Louisville:20260823T094500
DTSTAMP:20260425T100101
CREATED:20251123T190827Z
LAST-MODIFIED:20260331T222426Z
UID:10010597-1787473800-1787478300@www.buckrun.org
SUMMARY:Corporate Worship
DESCRIPTION:The gathering of God’s people for corporate worship is the centerpiece of Buck Run’s ministry. This is where our local expression of the body of Christ hears the Word of God proclaimed\, prays and sings together\, and observes baptism and Lord’s Supper. Corporate worship is where God’s people gather to give Him glory. \nWATCH LIVE
URL:https://www.buckrun.org/events/corporate-worship-2026-first-2026-01-11/2026-08-23/
ATTACH;FMTTYPE=image/jpeg:https://www.buckrun.org/wp-content/uploads/2026/03/Copy-of-DSC03625.jpg
END:VEVENT
BEGIN:VEVENT
DTSTART;TZID=America/Kentucky/Louisville:20260823T100000
DTEND;TZID=America/Kentucky/Louisville:20260823T224500
DTSTAMP:20260425T100101
CREATED:20251123T191956Z
LAST-MODIFIED:20251123T191956Z
UID:10013045-1787479200-1787525100@www.buckrun.org
SUMMARY:Sunday School
DESCRIPTION:Kids Ministry \n \nStudent Ministry \n \nAdult Discipleship Classes
URL:https://www.buckrun.org/events/sunday-school-2026-2026-01-11/2026-08-23/
END:VEVENT
BEGIN:VEVENT
DTSTART;TZID=America/Kentucky/Louisville:20260823T110000
DTEND;TZID=America/Kentucky/Louisville:20260823T121500
DTSTAMP:20260425T100101
CREATED:20251123T191516Z
LAST-MODIFIED:20260331T222336Z
UID:10011821-1787482800-1787487300@www.buckrun.org
SUMMARY:Corporate Worship
DESCRIPTION:The gathering of God’s people for corporate worship is the centerpiece of Buck Run’s ministry. This is where our local expression of the body of Christ hears the Word of God proclaimed\, prays and sings together\, and observes baptism and Lord’s Supper. Corporate worship is where God’s people gather to give Him glory. \nWATCH LIVE
URL:https://www.buckrun.org/events/corporate-worship-2026-second-2026-01-11/2026-08-23/
ATTACH;FMTTYPE=image/jpeg:https://www.buckrun.org/wp-content/uploads/2026/03/Copy-of-DSC03625.jpg
END:VEVENT
BEGIN:VEVENT
DTSTART;VALUE=DATE:20260830
DTEND;VALUE=DATE:20260831
DTSTAMP:20260425T100101
CREATED:20260222T192446Z
LAST-MODIFIED:20260422T203708Z
UID:10014363-1788048000-1788134399@www.buckrun.org
SUMMARY:Communion Sunday
DESCRIPTION:We will conclude our worship service by partaking in communion. Those who would prefer gluten-free bread can pick it up before the service at the Guest Center.
URL:https://www.buckrun.org/events/communion-sunday-2026-08-30/
CATEGORIES:Featured Events
ATTACH;FMTTYPE=image/jpeg:https://www.buckrun.org/wp-content/uploads/2026/03/communion.jpeg
END:VEVENT
BEGIN:VEVENT
DTSTART;TZID=America/Kentucky/Louisville:20260830T083000
DTEND;TZID=America/Kentucky/Louisville:20260830T094500
DTSTAMP:20260425T100101
CREATED:20251123T190827Z
LAST-MODIFIED:20260331T222426Z
UID:10010598-1788078600-1788083100@www.buckrun.org
SUMMARY:Corporate Worship
DESCRIPTION:The gathering of God’s people for corporate worship is the centerpiece of Buck Run’s ministry. This is where our local expression of the body of Christ hears the Word of God proclaimed\, prays and sings together\, and observes baptism and Lord’s Supper. Corporate worship is where God’s people gather to give Him glory. \nWATCH LIVE
URL:https://www.buckrun.org/events/corporate-worship-2026-first-2026-01-11/2026-08-30/
ATTACH;FMTTYPE=image/jpeg:https://www.buckrun.org/wp-content/uploads/2026/03/Copy-of-DSC03625.jpg
END:VEVENT
BEGIN:VEVENT
DTSTART;TZID=America/Kentucky/Louisville:20260830T100000
DTEND;TZID=America/Kentucky/Louisville:20260830T224500
DTSTAMP:20260425T100101
CREATED:20251123T191956Z
LAST-MODIFIED:20251123T191956Z
UID:10013046-1788084000-1788129900@www.buckrun.org
SUMMARY:Sunday School
DESCRIPTION:Kids Ministry \n \nStudent Ministry \n \nAdult Discipleship Classes
URL:https://www.buckrun.org/events/sunday-school-2026-2026-01-11/2026-08-30/
END:VEVENT
BEGIN:VEVENT
DTSTART;TZID=America/Kentucky/Louisville:20260830T110000
DTEND;TZID=America/Kentucky/Louisville:20260830T121500
DTSTAMP:20260425T100101
CREATED:20251123T191516Z
LAST-MODIFIED:20260331T222336Z
UID:10011822-1788087600-1788092100@www.buckrun.org
SUMMARY:Corporate Worship
DESCRIPTION:The gathering of God’s people for corporate worship is the centerpiece of Buck Run’s ministry. This is where our local expression of the body of Christ hears the Word of God proclaimed\, prays and sings together\, and observes baptism and Lord’s Supper. Corporate worship is where God’s people gather to give Him glory. \nWATCH LIVE
URL:https://www.buckrun.org/events/corporate-worship-2026-second-2026-01-11/2026-08-30/
ATTACH;FMTTYPE=image/jpeg:https://www.buckrun.org/wp-content/uploads/2026/03/Copy-of-DSC03625.jpg
END:VEVENT
BEGIN:VEVENT
DTSTART;TZID=America/Kentucky/Louisville:20260906T083000
DTEND;TZID=America/Kentucky/Louisville:20260906T094500
DTSTAMP:20260425T100101
CREATED:20251123T190827Z
LAST-MODIFIED:20260331T222426Z
UID:10010599-1788683400-1788687900@www.buckrun.org
SUMMARY:Corporate Worship
DESCRIPTION:The gathering of God’s people for corporate worship is the centerpiece of Buck Run’s ministry. This is where our local expression of the body of Christ hears the Word of God proclaimed\, prays and sings together\, and observes baptism and Lord’s Supper. Corporate worship is where God’s people gather to give Him glory. \nWATCH LIVE
URL:https://www.buckrun.org/events/corporate-worship-2026-first-2026-01-11/2026-09-06/
ATTACH;FMTTYPE=image/jpeg:https://www.buckrun.org/wp-content/uploads/2026/03/Copy-of-DSC03625.jpg
END:VEVENT
BEGIN:VEVENT
DTSTART;TZID=America/Kentucky/Louisville:20260906T100000
DTEND;TZID=America/Kentucky/Louisville:20260906T224500
DTSTAMP:20260425T100101
CREATED:20251123T191956Z
LAST-MODIFIED:20251123T191956Z
UID:10013047-1788688800-1788734700@www.buckrun.org
SUMMARY:Sunday School
DESCRIPTION:Kids Ministry \n \nStudent Ministry \n \nAdult Discipleship Classes
URL:https://www.buckrun.org/events/sunday-school-2026-2026-01-11/2026-09-06/
END:VEVENT
BEGIN:VEVENT
DTSTART;TZID=America/Kentucky/Louisville:20260906T110000
DTEND;TZID=America/Kentucky/Louisville:20260906T121500
DTSTAMP:20260425T100101
CREATED:20251123T191516Z
LAST-MODIFIED:20260331T222336Z
UID:10011823-1788692400-1788696900@www.buckrun.org
SUMMARY:Corporate Worship
DESCRIPTION:The gathering of God’s people for corporate worship is the centerpiece of Buck Run’s ministry. This is where our local expression of the body of Christ hears the Word of God proclaimed\, prays and sings together\, and observes baptism and Lord’s Supper. Corporate worship is where God’s people gather to give Him glory. \nWATCH LIVE
URL:https://www.buckrun.org/events/corporate-worship-2026-second-2026-01-11/2026-09-06/
ATTACH;FMTTYPE=image/jpeg:https://www.buckrun.org/wp-content/uploads/2026/03/Copy-of-DSC03625.jpg
END:VEVENT
BEGIN:VEVENT
DTSTART;TZID=America/Kentucky/Louisville:20260913T083000
DTEND;TZID=America/Kentucky/Louisville:20260913T094500
DTSTAMP:20260425T100101
CREATED:20251123T190827Z
LAST-MODIFIED:20260331T222426Z
UID:10010600-1789288200-1789292700@www.buckrun.org
SUMMARY:Corporate Worship
DESCRIPTION:The gathering of God’s people for corporate worship is the centerpiece of Buck Run’s ministry. This is where our local expression of the body of Christ hears the Word of God proclaimed\, prays and sings together\, and observes baptism and Lord’s Supper. Corporate worship is where God’s people gather to give Him glory. \nWATCH LIVE
URL:https://www.buckrun.org/events/corporate-worship-2026-first-2026-01-11/2026-09-13/
ATTACH;FMTTYPE=image/jpeg:https://www.buckrun.org/wp-content/uploads/2026/03/Copy-of-DSC03625.jpg
END:VEVENT
BEGIN:VEVENT
DTSTART;TZID=America/Kentucky/Louisville:20260913T100000
DTEND;TZID=America/Kentucky/Louisville:20260913T224500
DTSTAMP:20260425T100101
CREATED:20251123T191956Z
LAST-MODIFIED:20251123T191956Z
UID:10013048-1789293600-1789339500@www.buckrun.org
SUMMARY:Sunday School
DESCRIPTION:Kids Ministry \n \nStudent Ministry \n \nAdult Discipleship Classes
URL:https://www.buckrun.org/events/sunday-school-2026-2026-01-11/2026-09-13/
END:VEVENT
BEGIN:VEVENT
DTSTART;TZID=America/Kentucky/Louisville:20260913T110000
DTEND;TZID=America/Kentucky/Louisville:20260913T121500
DTSTAMP:20260425T100101
CREATED:20251123T191516Z
LAST-MODIFIED:20260331T222336Z
UID:10011824-1789297200-1789301700@www.buckrun.org
SUMMARY:Corporate Worship
DESCRIPTION:The gathering of God’s people for corporate worship is the centerpiece of Buck Run’s ministry. This is where our local expression of the body of Christ hears the Word of God proclaimed\, prays and sings together\, and observes baptism and Lord’s Supper. Corporate worship is where God’s people gather to give Him glory. \nWATCH LIVE
URL:https://www.buckrun.org/events/corporate-worship-2026-second-2026-01-11/2026-09-13/
ATTACH;FMTTYPE=image/jpeg:https://www.buckrun.org/wp-content/uploads/2026/03/Copy-of-DSC03625.jpg
END:VEVENT
BEGIN:VEVENT
DTSTART;TZID=America/Kentucky/Louisville:20260918T080000
DTEND;TZID=America/Kentucky/Louisville:20260927T170000
DTSTAMP:20260425T100101
CREATED:20260222T203518Z
LAST-MODIFIED:20260422T203708Z
UID:10014367-1789718400-1790528400@www.buckrun.org
SUMMARY:Panama Mission Trip
DESCRIPTION:Join the team heading to Jaque\, Panama\, to serve alongside Buck Run members and IMB missionaries\, Kenny & Cheryl Morris. To learn more about this opportunity\, email Pastor Will. Ready to join the team? Apply today! \nApply to go!
URL:https://www.buckrun.org/events/panama-mission-trip-2026-09/
CATEGORIES:Featured Events,Missions
END:VEVENT
BEGIN:VEVENT
DTSTART;TZID=America/Kentucky/Louisville:20260920T083000
DTEND;TZID=America/Kentucky/Louisville:20260920T094500
DTSTAMP:20260425T100101
CREATED:20251123T190827Z
LAST-MODIFIED:20260331T222426Z
UID:10010601-1789893000-1789897500@www.buckrun.org
SUMMARY:Corporate Worship
DESCRIPTION:The gathering of God’s people for corporate worship is the centerpiece of Buck Run’s ministry. This is where our local expression of the body of Christ hears the Word of God proclaimed\, prays and sings together\, and observes baptism and Lord’s Supper. Corporate worship is where God’s people gather to give Him glory. \nWATCH LIVE
URL:https://www.buckrun.org/events/corporate-worship-2026-first-2026-01-11/2026-09-20/
ATTACH;FMTTYPE=image/jpeg:https://www.buckrun.org/wp-content/uploads/2026/03/Copy-of-DSC03625.jpg
END:VEVENT
END:VCALENDAR