BEGIN:VCALENDAR
VERSION:2.0
PRODID:-//Buck Run Baptist Church - ECPv6.15.20//NONSGML v1.0//EN
CALSCALE:GREGORIAN
METHOD:PUBLISH
X-ORIGINAL-URL:https://www.buckrun.org
X-WR-CALDESC:Events for Buck Run Baptist Church
REFRESH-INTERVAL;VALUE=DURATION:PT1H
X-Robots-Tag:noindex
X-PUBLISHED-TTL:PT1H
BEGIN:VTIMEZONE
TZID:America/Kentucky/Louisville
BEGIN:DAYLIGHT
TZOFFSETFROM:-0500
TZOFFSETTO:-0400
TZNAME:EDT
DTSTART:20250309T070000
END:DAYLIGHT
BEGIN:STANDARD
TZOFFSETFROM:-0400
TZOFFSETTO:-0500
TZNAME:EST
DTSTART:20251102T060000
END:STANDARD
BEGIN:DAYLIGHT
TZOFFSETFROM:-0500
TZOFFSETTO:-0400
TZNAME:EDT
DTSTART:20260308T070000
END:DAYLIGHT
BEGIN:STANDARD
TZOFFSETFROM:-0400
TZOFFSETTO:-0500
TZNAME:EST
DTSTART:20261101T060000
END:STANDARD
BEGIN:DAYLIGHT
TZOFFSETFROM:-0500
TZOFFSETTO:-0400
TZNAME:EDT
DTSTART:20270314T070000
END:DAYLIGHT
BEGIN:STANDARD
TZOFFSETFROM:-0400
TZOFFSETTO:-0500
TZNAME:EST
DTSTART:20271107T060000
END:STANDARD
END:VTIMEZONE
BEGIN:VEVENT
DTSTART;TZID=America/Kentucky/Louisville:20261018T110000
DTEND;TZID=America/Kentucky/Louisville:20261018T121500
DTSTAMP:20260425T193501
CREATED:20251123T191516Z
LAST-MODIFIED:20260331T222336Z
UID:10011829-1792321200-1792325700@www.buckrun.org
SUMMARY:Corporate Worship
DESCRIPTION:The gathering of God’s people for corporate worship is the centerpiece of Buck Run’s ministry. This is where our local expression of the body of Christ hears the Word of God proclaimed\, prays and sings together\, and observes baptism and Lord’s Supper. Corporate worship is where God’s people gather to give Him glory. \nWATCH LIVE
URL:https://www.buckrun.org/events/corporate-worship-2026-second-2026-01-11/2026-10-18/
ATTACH;FMTTYPE=image/jpeg:https://www.buckrun.org/wp-content/uploads/2026/03/Copy-of-DSC03625.jpg
END:VEVENT
BEGIN:VEVENT
DTSTART;TZID=America/Kentucky/Louisville:20261024T083000
DTEND;TZID=America/Kentucky/Louisville:20261024T123000
DTSTAMP:20260425T193501
CREATED:20260222T203652Z
LAST-MODIFIED:20260422T203708Z
UID:10014368-1792830600-1792845000@www.buckrun.org
SUMMARY:Serve Frankfort
DESCRIPTION:Registration and project information for this Serve Frankfort will be added in the fall. \nServe Frankfort is a Buck Run initiative to meet the needs of those in our community\, forming relationships with them as we show them the love of Jesus Christ. Serve Frankfort workdays provide the opportunity for teams from our church to assist local ministries and non-profits in a variety of ways.
URL:https://www.buckrun.org/events/serve-frankfort-2026-10/
CATEGORIES:Featured Events,Missions,Serve Frankfort
ATTACH;FMTTYPE=image/jpeg:https://www.buckrun.org/wp-content/uploads/2026/03/serve-frankfort-2026-04-e1771769624411.jpg
END:VEVENT
BEGIN:VEVENT
DTSTART;TZID=America/Kentucky/Louisville:20261025T083000
DTEND;TZID=America/Kentucky/Louisville:20261025T094500
DTSTAMP:20260425T193501
CREATED:20251123T190827Z
LAST-MODIFIED:20260331T222426Z
UID:10010606-1792917000-1792921500@www.buckrun.org
SUMMARY:Corporate Worship
DESCRIPTION:The gathering of God’s people for corporate worship is the centerpiece of Buck Run’s ministry. This is where our local expression of the body of Christ hears the Word of God proclaimed\, prays and sings together\, and observes baptism and Lord’s Supper. Corporate worship is where God’s people gather to give Him glory. \nWATCH LIVE
URL:https://www.buckrun.org/events/corporate-worship-2026-first-2026-01-11/2026-10-25/
ATTACH;FMTTYPE=image/jpeg:https://www.buckrun.org/wp-content/uploads/2026/03/Copy-of-DSC03625.jpg
END:VEVENT
BEGIN:VEVENT
DTSTART;TZID=America/Kentucky/Louisville:20261025T100000
DTEND;TZID=America/Kentucky/Louisville:20261025T224500
DTSTAMP:20260425T193501
CREATED:20251123T191956Z
LAST-MODIFIED:20251123T191956Z
UID:10013054-1792922400-1792968300@www.buckrun.org
SUMMARY:Sunday School
DESCRIPTION:Kids Ministry \n \nStudent Ministry \n \nAdult Discipleship Classes
URL:https://www.buckrun.org/events/sunday-school-2026-2026-01-11/2026-10-25/
END:VEVENT
BEGIN:VEVENT
DTSTART;TZID=America/Kentucky/Louisville:20261025T110000
DTEND;TZID=America/Kentucky/Louisville:20261025T121500
DTSTAMP:20260425T193502
CREATED:20251123T191516Z
LAST-MODIFIED:20260331T222336Z
UID:10011830-1792926000-1792930500@www.buckrun.org
SUMMARY:Corporate Worship
DESCRIPTION:The gathering of God’s people for corporate worship is the centerpiece of Buck Run’s ministry. This is where our local expression of the body of Christ hears the Word of God proclaimed\, prays and sings together\, and observes baptism and Lord’s Supper. Corporate worship is where God’s people gather to give Him glory. \nWATCH LIVE
URL:https://www.buckrun.org/events/corporate-worship-2026-second-2026-01-11/2026-10-25/
ATTACH;FMTTYPE=image/jpeg:https://www.buckrun.org/wp-content/uploads/2026/03/Copy-of-DSC03625.jpg
END:VEVENT
BEGIN:VEVENT
DTSTART;TZID=America/Kentucky/Louisville:20261101T083000
DTEND;TZID=America/Kentucky/Louisville:20261101T094500
DTSTAMP:20260425T193502
CREATED:20251123T190827Z
LAST-MODIFIED:20260331T222426Z
UID:10010607-1793521800-1793526300@www.buckrun.org
SUMMARY:Corporate Worship
DESCRIPTION:The gathering of God’s people for corporate worship is the centerpiece of Buck Run’s ministry. This is where our local expression of the body of Christ hears the Word of God proclaimed\, prays and sings together\, and observes baptism and Lord’s Supper. Corporate worship is where God’s people gather to give Him glory. \nWATCH LIVE
URL:https://www.buckrun.org/events/corporate-worship-2026-first-2026-01-11/2026-11-01/
ATTACH;FMTTYPE=image/jpeg:https://www.buckrun.org/wp-content/uploads/2026/03/Copy-of-DSC03625.jpg
END:VEVENT
BEGIN:VEVENT
DTSTART;TZID=America/Kentucky/Louisville:20261101T083000
DTEND;TZID=America/Kentucky/Louisville:20261101T121500
DTSTAMP:20260425T193502
CREATED:20260419T124040Z
LAST-MODIFIED:20260422T203708Z
UID:10014374-1793521800-1793535300@www.buckrun.org
SUMMARY:Communion Sunday
DESCRIPTION:We will conclude our worship service by partaking in communion. Those who would prefer gluten-free bread can pick it up before the service at the Guest Center.
URL:https://www.buckrun.org/events/communion-sunday-2026-11/
CATEGORIES:Featured Events
ATTACH;FMTTYPE=image/jpeg:https://www.buckrun.org/wp-content/uploads/2026/03/communion-1.jpeg
END:VEVENT
BEGIN:VEVENT
DTSTART;TZID=America/Kentucky/Louisville:20261101T100000
DTEND;TZID=America/Kentucky/Louisville:20261101T224500
DTSTAMP:20260425T193502
CREATED:20251123T191956Z
LAST-MODIFIED:20251123T191956Z
UID:10013055-1793527200-1793573100@www.buckrun.org
SUMMARY:Sunday School
DESCRIPTION:Kids Ministry \n \nStudent Ministry \n \nAdult Discipleship Classes
URL:https://www.buckrun.org/events/sunday-school-2026-2026-01-11/2026-11-01/
END:VEVENT
BEGIN:VEVENT
DTSTART;TZID=America/Kentucky/Louisville:20261101T110000
DTEND;TZID=America/Kentucky/Louisville:20261101T121500
DTSTAMP:20260425T193502
CREATED:20251123T191516Z
LAST-MODIFIED:20260331T222336Z
UID:10011831-1793530800-1793535300@www.buckrun.org
SUMMARY:Corporate Worship
DESCRIPTION:The gathering of God’s people for corporate worship is the centerpiece of Buck Run’s ministry. This is where our local expression of the body of Christ hears the Word of God proclaimed\, prays and sings together\, and observes baptism and Lord’s Supper. Corporate worship is where God’s people gather to give Him glory. \nWATCH LIVE
URL:https://www.buckrun.org/events/corporate-worship-2026-second-2026-01-11/2026-11-01/
ATTACH;FMTTYPE=image/jpeg:https://www.buckrun.org/wp-content/uploads/2026/03/Copy-of-DSC03625.jpg
END:VEVENT
BEGIN:VEVENT
DTSTART;TZID=America/Kentucky/Louisville:20261108T083000
DTEND;TZID=America/Kentucky/Louisville:20261108T094500
DTSTAMP:20260425T193502
CREATED:20251123T190827Z
LAST-MODIFIED:20260331T222426Z
UID:10010608-1794126600-1794131100@www.buckrun.org
SUMMARY:Corporate Worship
DESCRIPTION:The gathering of God’s people for corporate worship is the centerpiece of Buck Run’s ministry. This is where our local expression of the body of Christ hears the Word of God proclaimed\, prays and sings together\, and observes baptism and Lord’s Supper. Corporate worship is where God’s people gather to give Him glory. \nWATCH LIVE
URL:https://www.buckrun.org/events/corporate-worship-2026-first-2026-01-11/2026-11-08/
ATTACH;FMTTYPE=image/jpeg:https://www.buckrun.org/wp-content/uploads/2026/03/Copy-of-DSC03625.jpg
END:VEVENT
BEGIN:VEVENT
DTSTART;TZID=America/Kentucky/Louisville:20261108T100000
DTEND;TZID=America/Kentucky/Louisville:20261108T224500
DTSTAMP:20260425T193502
CREATED:20251123T191956Z
LAST-MODIFIED:20251123T191956Z
UID:10013056-1794132000-1794177900@www.buckrun.org
SUMMARY:Sunday School
DESCRIPTION:Kids Ministry \n \nStudent Ministry \n \nAdult Discipleship Classes
URL:https://www.buckrun.org/events/sunday-school-2026-2026-01-11/2026-11-08/
END:VEVENT
BEGIN:VEVENT
DTSTART;TZID=America/Kentucky/Louisville:20261108T110000
DTEND;TZID=America/Kentucky/Louisville:20261108T121500
DTSTAMP:20260425T193502
CREATED:20251123T191516Z
LAST-MODIFIED:20260331T222336Z
UID:10011832-1794135600-1794140100@www.buckrun.org
SUMMARY:Corporate Worship
DESCRIPTION:The gathering of God’s people for corporate worship is the centerpiece of Buck Run’s ministry. This is where our local expression of the body of Christ hears the Word of God proclaimed\, prays and sings together\, and observes baptism and Lord’s Supper. Corporate worship is where God’s people gather to give Him glory. \nWATCH LIVE
URL:https://www.buckrun.org/events/corporate-worship-2026-second-2026-01-11/2026-11-08/
ATTACH;FMTTYPE=image/jpeg:https://www.buckrun.org/wp-content/uploads/2026/03/Copy-of-DSC03625.jpg
END:VEVENT
BEGIN:VEVENT
DTSTART;VALUE=DATE:20261114
DTEND;VALUE=DATE:20261115
DTSTAMP:20260425T193502
CREATED:20260419T124951Z
LAST-MODIFIED:20260422T203708Z
UID:10014376-1794614400-1794700799@www.buckrun.org
SUMMARY:Reach Frankfort Outreach Day
DESCRIPTION:
URL:https://www.buckrun.org/events/reach-frankfort-outreach-day-2026-11/
CATEGORIES:Featured Events
END:VEVENT
BEGIN:VEVENT
DTSTART;TZID=America/Kentucky/Louisville:20261115T083000
DTEND;TZID=America/Kentucky/Louisville:20261115T094500
DTSTAMP:20260425T193502
CREATED:20251123T190827Z
LAST-MODIFIED:20260331T222426Z
UID:10010609-1794731400-1794735900@www.buckrun.org
SUMMARY:Corporate Worship
DESCRIPTION:The gathering of God’s people for corporate worship is the centerpiece of Buck Run’s ministry. This is where our local expression of the body of Christ hears the Word of God proclaimed\, prays and sings together\, and observes baptism and Lord’s Supper. Corporate worship is where God’s people gather to give Him glory. \nWATCH LIVE
URL:https://www.buckrun.org/events/corporate-worship-2026-first-2026-01-11/2026-11-15/
ATTACH;FMTTYPE=image/jpeg:https://www.buckrun.org/wp-content/uploads/2026/03/Copy-of-DSC03625.jpg
END:VEVENT
BEGIN:VEVENT
DTSTART;TZID=America/Kentucky/Louisville:20261115T100000
DTEND;TZID=America/Kentucky/Louisville:20261115T224500
DTSTAMP:20260425T193502
CREATED:20251123T191956Z
LAST-MODIFIED:20251123T191956Z
UID:10013057-1794736800-1794782700@www.buckrun.org
SUMMARY:Sunday School
DESCRIPTION:Kids Ministry \n \nStudent Ministry \n \nAdult Discipleship Classes
URL:https://www.buckrun.org/events/sunday-school-2026-2026-01-11/2026-11-15/
END:VEVENT
BEGIN:VEVENT
DTSTART;TZID=America/Kentucky/Louisville:20261115T110000
DTEND;TZID=America/Kentucky/Louisville:20261115T121500
DTSTAMP:20260425T193502
CREATED:20251123T191516Z
LAST-MODIFIED:20260331T222336Z
UID:10011833-1794740400-1794744900@www.buckrun.org
SUMMARY:Corporate Worship
DESCRIPTION:The gathering of God’s people for corporate worship is the centerpiece of Buck Run’s ministry. This is where our local expression of the body of Christ hears the Word of God proclaimed\, prays and sings together\, and observes baptism and Lord’s Supper. Corporate worship is where God’s people gather to give Him glory. \nWATCH LIVE
URL:https://www.buckrun.org/events/corporate-worship-2026-second-2026-01-11/2026-11-15/
ATTACH;FMTTYPE=image/jpeg:https://www.buckrun.org/wp-content/uploads/2026/03/Copy-of-DSC03625.jpg
END:VEVENT
BEGIN:VEVENT
DTSTART;TZID=America/Kentucky/Louisville:20261115T180000
DTEND;TZID=America/Kentucky/Louisville:20261115T190000
DTSTAMP:20260425T193502
CREATED:20260419T124600Z
LAST-MODIFIED:20260422T203708Z
UID:10014375-1794765600-1794769200@www.buckrun.org
SUMMARY:Family Meeting
DESCRIPTION:Our quarterly Family Meeting’s are an important time for us to gather together to hear updates regarding what’s happening in our body. Every Family Meeting is followed by a fellowship where we seek to build community with one another. \nThere are activities for Kids and Students during the Family Meeting\, though we encourage all members\, regardless of age\, to attend the meeting.
URL:https://www.buckrun.org/events/family-meeting-2026-11/
CATEGORIES:Featured Events
ATTACH;FMTTYPE=image/jpeg:https://www.buckrun.org/wp-content/uploads/2026/04/2026-11-15-Family-Meeting.jpg
END:VEVENT
BEGIN:VEVENT
DTSTART;TZID=America/Kentucky/Louisville:20261122T083000
DTEND;TZID=America/Kentucky/Louisville:20261122T094500
DTSTAMP:20260425T193502
CREATED:20251123T190827Z
LAST-MODIFIED:20260331T222426Z
UID:10010610-1795336200-1795340700@www.buckrun.org
SUMMARY:Corporate Worship
DESCRIPTION:The gathering of God’s people for corporate worship is the centerpiece of Buck Run’s ministry. This is where our local expression of the body of Christ hears the Word of God proclaimed\, prays and sings together\, and observes baptism and Lord’s Supper. Corporate worship is where God’s people gather to give Him glory. \nWATCH LIVE
URL:https://www.buckrun.org/events/corporate-worship-2026-first-2026-01-11/2026-11-22/
ATTACH;FMTTYPE=image/jpeg:https://www.buckrun.org/wp-content/uploads/2026/03/Copy-of-DSC03625.jpg
END:VEVENT
BEGIN:VEVENT
DTSTART;TZID=America/Kentucky/Louisville:20261122T100000
DTEND;TZID=America/Kentucky/Louisville:20261122T224500
DTSTAMP:20260425T193502
CREATED:20251123T191956Z
LAST-MODIFIED:20251123T191956Z
UID:10013058-1795341600-1795387500@www.buckrun.org
SUMMARY:Sunday School
DESCRIPTION:Kids Ministry \n \nStudent Ministry \n \nAdult Discipleship Classes
URL:https://www.buckrun.org/events/sunday-school-2026-2026-01-11/2026-11-22/
END:VEVENT
BEGIN:VEVENT
DTSTART;TZID=America/Kentucky/Louisville:20261122T110000
DTEND;TZID=America/Kentucky/Louisville:20261122T121500
DTSTAMP:20260425T193502
CREATED:20251123T191516Z
LAST-MODIFIED:20260331T222336Z
UID:10011834-1795345200-1795349700@www.buckrun.org
SUMMARY:Corporate Worship
DESCRIPTION:The gathering of God’s people for corporate worship is the centerpiece of Buck Run’s ministry. This is where our local expression of the body of Christ hears the Word of God proclaimed\, prays and sings together\, and observes baptism and Lord’s Supper. Corporate worship is where God’s people gather to give Him glory. \nWATCH LIVE
URL:https://www.buckrun.org/events/corporate-worship-2026-second-2026-01-11/2026-11-22/
ATTACH;FMTTYPE=image/jpeg:https://www.buckrun.org/wp-content/uploads/2026/03/Copy-of-DSC03625.jpg
END:VEVENT
BEGIN:VEVENT
DTSTART;TZID=America/Kentucky/Louisville:20261129T083000
DTEND;TZID=America/Kentucky/Louisville:20261129T094500
DTSTAMP:20260425T193502
CREATED:20251123T190827Z
LAST-MODIFIED:20260331T222426Z
UID:10010611-1795941000-1795945500@www.buckrun.org
SUMMARY:Corporate Worship
DESCRIPTION:The gathering of God’s people for corporate worship is the centerpiece of Buck Run’s ministry. This is where our local expression of the body of Christ hears the Word of God proclaimed\, prays and sings together\, and observes baptism and Lord’s Supper. Corporate worship is where God’s people gather to give Him glory. \nWATCH LIVE
URL:https://www.buckrun.org/events/corporate-worship-2026-first-2026-01-11/2026-11-29/
ATTACH;FMTTYPE=image/jpeg:https://www.buckrun.org/wp-content/uploads/2026/03/Copy-of-DSC03625.jpg
END:VEVENT
BEGIN:VEVENT
DTSTART;TZID=America/Kentucky/Louisville:20261129T100000
DTEND;TZID=America/Kentucky/Louisville:20261129T224500
DTSTAMP:20260425T193502
CREATED:20251123T191956Z
LAST-MODIFIED:20251123T191956Z
UID:10013059-1795946400-1795992300@www.buckrun.org
SUMMARY:Sunday School
DESCRIPTION:Kids Ministry \n \nStudent Ministry \n \nAdult Discipleship Classes
URL:https://www.buckrun.org/events/sunday-school-2026-2026-01-11/2026-11-29/
END:VEVENT
BEGIN:VEVENT
DTSTART;TZID=America/Kentucky/Louisville:20261129T110000
DTEND;TZID=America/Kentucky/Louisville:20261129T121500
DTSTAMP:20260425T193502
CREATED:20251123T191516Z
LAST-MODIFIED:20260331T222336Z
UID:10011835-1795950000-1795954500@www.buckrun.org
SUMMARY:Corporate Worship
DESCRIPTION:The gathering of God’s people for corporate worship is the centerpiece of Buck Run’s ministry. This is where our local expression of the body of Christ hears the Word of God proclaimed\, prays and sings together\, and observes baptism and Lord’s Supper. Corporate worship is where God’s people gather to give Him glory. \nWATCH LIVE
URL:https://www.buckrun.org/events/corporate-worship-2026-second-2026-01-11/2026-11-29/
ATTACH;FMTTYPE=image/jpeg:https://www.buckrun.org/wp-content/uploads/2026/03/Copy-of-DSC03625.jpg
END:VEVENT
BEGIN:VEVENT
DTSTART;TZID=America/Kentucky/Louisville:20261206T083000
DTEND;TZID=America/Kentucky/Louisville:20261206T094500
DTSTAMP:20260425T193502
CREATED:20251123T190827Z
LAST-MODIFIED:20260331T222426Z
UID:10010612-1796545800-1796550300@www.buckrun.org
SUMMARY:Corporate Worship
DESCRIPTION:The gathering of God’s people for corporate worship is the centerpiece of Buck Run’s ministry. This is where our local expression of the body of Christ hears the Word of God proclaimed\, prays and sings together\, and observes baptism and Lord’s Supper. Corporate worship is where God’s people gather to give Him glory. \nWATCH LIVE
URL:https://www.buckrun.org/events/corporate-worship-2026-first-2026-01-11/2026-12-06/
ATTACH;FMTTYPE=image/jpeg:https://www.buckrun.org/wp-content/uploads/2026/03/Copy-of-DSC03625.jpg
END:VEVENT
BEGIN:VEVENT
DTSTART;TZID=America/Kentucky/Louisville:20261206T100000
DTEND;TZID=America/Kentucky/Louisville:20261206T224500
DTSTAMP:20260425T193502
CREATED:20251123T191956Z
LAST-MODIFIED:20251123T191956Z
UID:10013060-1796551200-1796597100@www.buckrun.org
SUMMARY:Sunday School
DESCRIPTION:Kids Ministry \n \nStudent Ministry \n \nAdult Discipleship Classes
URL:https://www.buckrun.org/events/sunday-school-2026-2026-01-11/2026-12-06/
END:VEVENT
BEGIN:VEVENT
DTSTART;TZID=America/Kentucky/Louisville:20261206T110000
DTEND;TZID=America/Kentucky/Louisville:20261206T121500
DTSTAMP:20260425T193502
CREATED:20251123T191516Z
LAST-MODIFIED:20260331T222336Z
UID:10011836-1796554800-1796559300@www.buckrun.org
SUMMARY:Corporate Worship
DESCRIPTION:The gathering of God’s people for corporate worship is the centerpiece of Buck Run’s ministry. This is where our local expression of the body of Christ hears the Word of God proclaimed\, prays and sings together\, and observes baptism and Lord’s Supper. Corporate worship is where God’s people gather to give Him glory. \nWATCH LIVE
URL:https://www.buckrun.org/events/corporate-worship-2026-second-2026-01-11/2026-12-06/
ATTACH;FMTTYPE=image/jpeg:https://www.buckrun.org/wp-content/uploads/2026/03/Copy-of-DSC03625.jpg
END:VEVENT
BEGIN:VEVENT
DTSTART;TZID=America/Kentucky/Louisville:20261213T083000
DTEND;TZID=America/Kentucky/Louisville:20261213T094500
DTSTAMP:20260425T193502
CREATED:20251123T190827Z
LAST-MODIFIED:20260331T222426Z
UID:10010613-1797150600-1797155100@www.buckrun.org
SUMMARY:Corporate Worship
DESCRIPTION:The gathering of God’s people for corporate worship is the centerpiece of Buck Run’s ministry. This is where our local expression of the body of Christ hears the Word of God proclaimed\, prays and sings together\, and observes baptism and Lord’s Supper. Corporate worship is where God’s people gather to give Him glory. \nWATCH LIVE
URL:https://www.buckrun.org/events/corporate-worship-2026-first-2026-01-11/2026-12-13/
ATTACH;FMTTYPE=image/jpeg:https://www.buckrun.org/wp-content/uploads/2026/03/Copy-of-DSC03625.jpg
END:VEVENT
BEGIN:VEVENT
DTSTART;TZID=America/Kentucky/Louisville:20261213T083000
DTEND;TZID=America/Kentucky/Louisville:20261213T120000
DTSTAMP:20260425T193502
CREATED:20260419T125256Z
LAST-MODIFIED:20260422T203708Z
UID:10014377-1797150600-1797163200@www.buckrun.org
SUMMARY:Walk to the Manger
DESCRIPTION:Christmas is full of traditions and one of the best traditions at Buck Run is our annual Walk to the Manger. This is an annual offering we collect for the Lottie Moon Christmas Offering benefitting the International Mission Board. These funds go specifically to reaching the nations with the Gospel by supporting missionaries and mission projects around the world. This year’s offering will be collected during the worship service on December 13th.
URL:https://www.buckrun.org/events/walk-to-the-manger-2026-12-13/
CATEGORIES:Featured Events
END:VEVENT
BEGIN:VEVENT
DTSTART;TZID=America/Kentucky/Louisville:20261213T100000
DTEND;TZID=America/Kentucky/Louisville:20261213T224500
DTSTAMP:20260425T193502
CREATED:20251123T191956Z
LAST-MODIFIED:20251123T191956Z
UID:10013061-1797156000-1797201900@www.buckrun.org
SUMMARY:Sunday School
DESCRIPTION:Kids Ministry \n \nStudent Ministry \n \nAdult Discipleship Classes
URL:https://www.buckrun.org/events/sunday-school-2026-2026-01-11/2026-12-13/
END:VEVENT
BEGIN:VEVENT
DTSTART;TZID=America/Kentucky/Louisville:20261213T110000
DTEND;TZID=America/Kentucky/Louisville:20261213T121500
DTSTAMP:20260425T193502
CREATED:20251123T191516Z
LAST-MODIFIED:20260331T222336Z
UID:10011837-1797159600-1797164100@www.buckrun.org
SUMMARY:Corporate Worship
DESCRIPTION:The gathering of God’s people for corporate worship is the centerpiece of Buck Run’s ministry. This is where our local expression of the body of Christ hears the Word of God proclaimed\, prays and sings together\, and observes baptism and Lord’s Supper. Corporate worship is where God’s people gather to give Him glory. \nWATCH LIVE
URL:https://www.buckrun.org/events/corporate-worship-2026-second-2026-01-11/2026-12-13/
ATTACH;FMTTYPE=image/jpeg:https://www.buckrun.org/wp-content/uploads/2026/03/Copy-of-DSC03625.jpg
END:VEVENT
END:VCALENDAR