BEGIN:VCALENDAR
VERSION:2.0
PRODID:-//Buck Run Baptist Church - ECPv6.15.20//NONSGML v1.0//EN
CALSCALE:GREGORIAN
METHOD:PUBLISH
X-WR-CALNAME:Buck Run Baptist Church
X-ORIGINAL-URL:https://www.buckrun.org
X-WR-CALDESC:Events for Buck Run Baptist Church
REFRESH-INTERVAL;VALUE=DURATION:PT1H
X-Robots-Tag:noindex
X-PUBLISHED-TTL:PT1H
BEGIN:VTIMEZONE
TZID:America/Kentucky/Louisville
BEGIN:DAYLIGHT
TZOFFSETFROM:-0500
TZOFFSETTO:-0400
TZNAME:EDT
DTSTART:20240310T070000
END:DAYLIGHT
BEGIN:STANDARD
TZOFFSETFROM:-0400
TZOFFSETTO:-0500
TZNAME:EST
DTSTART:20241103T060000
END:STANDARD
BEGIN:DAYLIGHT
TZOFFSETFROM:-0500
TZOFFSETTO:-0400
TZNAME:EDT
DTSTART:20250309T070000
END:DAYLIGHT
BEGIN:STANDARD
TZOFFSETFROM:-0400
TZOFFSETTO:-0500
TZNAME:EST
DTSTART:20251102T060000
END:STANDARD
BEGIN:DAYLIGHT
TZOFFSETFROM:-0500
TZOFFSETTO:-0400
TZNAME:EDT
DTSTART:20260308T070000
END:DAYLIGHT
BEGIN:STANDARD
TZOFFSETFROM:-0400
TZOFFSETTO:-0500
TZNAME:EST
DTSTART:20261101T060000
END:STANDARD
END:VTIMEZONE
BEGIN:VEVENT
DTSTART;VALUE=DATE:20250413
DTEND;VALUE=DATE:20250414
DTSTAMP:20260426T001012
CREATED:20250106T000835Z
LAST-MODIFIED:20250106T000835Z
UID:10010476-1744502400-1744588799@www.buckrun.org
SUMMARY:Community Group Sunday
DESCRIPTION:Community Groups are a pivotal ministry in the lives of our members. It is in these groups that you can be known and cared for. Our groups meet twice a month at various times and locations. \nFind a Community Group
URL:https://www.buckrun.org/events/community-group-sunday-2025-04-13/
ATTACH;FMTTYPE=image/jpeg:https://www.buckrun.org/wp-content/uploads/2026/03/Community-Group-Graphic.jpg
END:VEVENT
BEGIN:VEVENT
DTSTART;TZID=America/Kentucky/Louisville:20250413T114500
DTEND;TZID=America/Kentucky/Louisville:20250413T114500
DTSTAMP:20260426T001013
CREATED:20240922T181852Z
LAST-MODIFIED:20240922T181852Z
UID:10010422-1744544700-1744544700@www.buckrun.org
SUMMARY:Communion
DESCRIPTION:We will conclude our worship service by partaking in communion. Those who would prefer gluten-free bread can pick it up before the service at the Guest Center.
URL:https://www.buckrun.org/events/communion-2025-04-13/
ATTACH;FMTTYPE=image/jpeg:https://www.buckrun.org/wp-content/uploads/2026/03/communion.jpeg
END:VEVENT
BEGIN:VEVENT
DTSTART;TZID=America/Kentucky/Louisville:20250418T190000
DTEND;TZID=America/Kentucky/Louisville:20250418T200000
DTSTAMP:20260426T001013
CREATED:20250326T122457Z
LAST-MODIFIED:20250326T122457Z
UID:10010488-1745002800-1745006400@www.buckrun.org
SUMMARY:Good Friday Service
DESCRIPTION:
URL:https://www.buckrun.org/events/good-friday-service-2025/
ATTACH;FMTTYPE=image/jpeg:https://www.buckrun.org/wp-content/uploads/2026/03/Good-Friday-Scroll-WIDE.jpg
END:VEVENT
BEGIN:VEVENT
DTSTART;TZID=America/Kentucky/Louisville:20250420T083000
DTEND;TZID=America/Kentucky/Louisville:20250420T214500
DTSTAMP:20260426T001013
CREATED:20250326T122300Z
LAST-MODIFIED:20250326T122300Z
UID:10010487-1745137800-1745185500@www.buckrun.org
SUMMARY:Easter Worship - 8:30am Service
DESCRIPTION:
URL:https://www.buckrun.org/events/easter-worship-2025-830/
ATTACH;FMTTYPE=image/jpeg:https://www.buckrun.org/wp-content/uploads/2026/03/Easter-Scroll-WIDE.jpg
END:VEVENT
BEGIN:VEVENT
DTSTART;TZID=America/Kentucky/Louisville:20250420T103000
DTEND;TZID=America/Kentucky/Louisville:20250420T114500
DTSTAMP:20260426T001013
CREATED:20250326T121808Z
LAST-MODIFIED:20250326T121808Z
UID:10010486-1745145000-1745149500@www.buckrun.org
SUMMARY:Easter Worship - 10:30am Service
DESCRIPTION:
URL:https://www.buckrun.org/events/easter-worship-2025-1030/
ATTACH;FMTTYPE=image/jpeg:https://www.buckrun.org/wp-content/uploads/2026/03/Easter-Scroll-WIDE.jpg
END:VEVENT
BEGIN:VEVENT
DTSTART;TZID=America/Kentucky/Louisville:20250423T183000
DTEND;TZID=America/Kentucky/Louisville:20250423T183000
DTSTAMP:20260426T001013
CREATED:20220925T200338Z
LAST-MODIFIED:20220925T200338Z
UID:10010157-1745433000-1745433000@www.buckrun.org
SUMMARY:Orphan's Care Alliance
DESCRIPTION:Orphan Care Alliance is a monthly gathering for adoptive and foster families to find encouragement and have practical discussions to benefit your home.
URL:https://www.buckrun.org/events/orphans-care-alliance-2022-09/2025-04-23/
LOCATION:Buck Run – Room 105\, 1950 Leestown Road\, Frankfort\, 40601\, United States
ATTACH;FMTTYPE=image/jpeg:https://www.buckrun.org/wp-content/uploads/2026/03/orphans_care.jpeg
END:VEVENT
BEGIN:VEVENT
DTSTART;TZID=America/Kentucky/Louisville:20250426T083000
DTEND;TZID=America/Kentucky/Louisville:20250426T120000
DTSTAMP:20260426T001013
CREATED:20250330T185111Z
LAST-MODIFIED:20250330T185111Z
UID:10010489-1745656200-1745668800@www.buckrun.org
SUMMARY:Serve Frankfort
DESCRIPTION:Our next Serve Frankfort workday is Saturday\, April 26.
URL:https://www.buckrun.org/events/serve-frankfort-2025-04/
END:VEVENT
BEGIN:VEVENT
DTSTART;VALUE=DATE:20250427
DTEND;VALUE=DATE:20250428
DTSTAMP:20260426T001013
CREATED:20250106T000934Z
LAST-MODIFIED:20250106T000934Z
UID:10010477-1745712000-1745798399@www.buckrun.org
SUMMARY:Community Group Sunday
DESCRIPTION:Community Groups are a pivotal ministry in the lives of our members. It is in these groups that you can be known and cared for. Our groups meet twice a month at various times and locations. \nFind a Community Group
URL:https://www.buckrun.org/events/community-group-sunday-2025-04-27/
ATTACH;FMTTYPE=image/jpeg:https://www.buckrun.org/wp-content/uploads/2026/03/Community-Group-Graphic.jpg
END:VEVENT
END:VCALENDAR