BEGIN:VCALENDAR
VERSION:2.0
PRODID:-//Buck Run Baptist Church - ECPv6.15.20//NONSGML v1.0//EN
CALSCALE:GREGORIAN
METHOD:PUBLISH
X-WR-CALNAME:Buck Run Baptist Church
X-ORIGINAL-URL:https://www.buckrun.org
X-WR-CALDESC:Events for Buck Run Baptist Church
REFRESH-INTERVAL;VALUE=DURATION:PT1H
X-Robots-Tag:noindex
X-PUBLISHED-TTL:PT1H
BEGIN:VTIMEZONE
TZID:America/Kentucky/Louisville
BEGIN:DAYLIGHT
TZOFFSETFROM:-0500
TZOFFSETTO:-0400
TZNAME:EDT
DTSTART:20240310T070000
END:DAYLIGHT
BEGIN:STANDARD
TZOFFSETFROM:-0400
TZOFFSETTO:-0500
TZNAME:EST
DTSTART:20241103T060000
END:STANDARD
BEGIN:DAYLIGHT
TZOFFSETFROM:-0500
TZOFFSETTO:-0400
TZNAME:EDT
DTSTART:20250309T070000
END:DAYLIGHT
BEGIN:STANDARD
TZOFFSETFROM:-0400
TZOFFSETTO:-0500
TZNAME:EST
DTSTART:20251102T060000
END:STANDARD
BEGIN:DAYLIGHT
TZOFFSETFROM:-0500
TZOFFSETTO:-0400
TZNAME:EDT
DTSTART:20260308T070000
END:DAYLIGHT
BEGIN:STANDARD
TZOFFSETFROM:-0400
TZOFFSETTO:-0500
TZNAME:EST
DTSTART:20261101T060000
END:STANDARD
END:VTIMEZONE
BEGIN:VEVENT
DTSTART;TZID=America/Kentucky/Louisville:20250518T180000
DTEND;TZID=America/Kentucky/Louisville:20250518T190000
DTSTAMP:20260425T223150
CREATED:20250316T174444Z
LAST-MODIFIED:20250316T174444Z
UID:10010483-1747591200-1747594800@www.buckrun.org
SUMMARY:Family Meeting
DESCRIPTION:
URL:https://www.buckrun.org/events/family-meeting-2024-05-18/
ATTACH;FMTTYPE=image/png:https://www.buckrun.org/wp-content/uploads/2026/03/2025-05-Family-Meeting.png
END:VEVENT
BEGIN:VEVENT
DTSTART;TZID=America/Kentucky/Louisville:20250528T183000
DTEND;TZID=America/Kentucky/Louisville:20250528T183000
DTSTAMP:20260425T223150
CREATED:20220925T200338Z
LAST-MODIFIED:20220925T200338Z
UID:10010158-1748457000-1748457000@www.buckrun.org
SUMMARY:Orphan's Care Alliance
DESCRIPTION:Orphan Care Alliance is a monthly gathering for adoptive and foster families to find encouragement and have practical discussions to benefit your home.
URL:https://www.buckrun.org/events/orphans-care-alliance-2022-09/2025-05-28/
LOCATION:Buck Run – Room 105\, 1950 Leestown Road\, Frankfort\, 40601\, United States
ATTACH;FMTTYPE=image/jpeg:https://www.buckrun.org/wp-content/uploads/2026/03/orphans_care.jpeg
END:VEVENT
END:VCALENDAR